BEGIN:VCALENDAR
VERSION:2.0
PRODID:-//Ontario Caregiver - ECPv6.15.18//NONSGML v1.0//EN
CALSCALE:GREGORIAN
METHOD:PUBLISH
X-WR-CALNAME:Ontario Caregiver
X-ORIGINAL-URL:https://ontariocaregiver.ca
X-WR-CALDESC:Events for Ontario Caregiver
REFRESH-INTERVAL;VALUE=DURATION:PT1H
X-Robots-Tag:noindex
X-PUBLISHED-TTL:PT1H
BEGIN:VTIMEZONE
TZID:America/Toronto
BEGIN:DAYLIGHT
TZOFFSETFROM:-0500
TZOFFSETTO:-0400
TZNAME:EDT
DTSTART:20220313T070000
END:DAYLIGHT
BEGIN:STANDARD
TZOFFSETFROM:-0400
TZOFFSETTO:-0500
TZNAME:EST
DTSTART:20221106T060000
END:STANDARD
BEGIN:DAYLIGHT
TZOFFSETFROM:-0500
TZOFFSETTO:-0400
TZNAME:EDT
DTSTART:20230312T070000
END:DAYLIGHT
BEGIN:STANDARD
TZOFFSETFROM:-0400
TZOFFSETTO:-0500
TZNAME:EST
DTSTART:20231105T060000
END:STANDARD
BEGIN:DAYLIGHT
TZOFFSETFROM:-0500
TZOFFSETTO:-0400
TZNAME:EDT
DTSTART:20240310T070000
END:DAYLIGHT
BEGIN:STANDARD
TZOFFSETFROM:-0400
TZOFFSETTO:-0500
TZNAME:EST
DTSTART:20241103T060000
END:STANDARD
END:VTIMEZONE
BEGIN:VEVENT
DTSTART;TZID=America/Toronto:20230810T100000
DTEND;TZID=America/Toronto:20230810T110000
DTSTAMP:20260421T114427
CREATED:20230720T215457Z
LAST-MODIFIED:20230720T215457Z
UID:10000943-1691661600-1691665200@ontariocaregiver.ca
SUMMARY:Contingency and Emergency Planning - presented by the Ontario Caregiver Organization
DESCRIPTION:Caregivers provide an average of 11-30 hours of care per week\, supporting a family member\, spouse\, friend or\nneighbour. The physical and emotional support provided by caregivers is crucial to the health and wellbeing of their care recipient. So\, what happens when the caregiver needs support? With burnout at an all time high\, caregivers need their own support networks and a contingency plan for the person they care for. \nIn this session\, participants will learn how to build a contingency plan\, prepare for emergencies and learn strategies for implementation. \nYou can attend in person (Ottawa)\, via Zoom or phone.\nTo register and receive the information to connect remotely Call 613-236-0428 or e-mail info@thegoodcompanions.ca
URL:https://ontariocaregiver.ca/event/contingency-and-emergency-planning-presented-by-the-ontario-caregiver-organization/
LOCATION:The Good Companions  Seniors’ Centre\, 670 Albert St\, Ottawa\, ON\, K1R 6L2
ATTACH;FMTTYPE=image/jpeg:https://ontariocaregiver.ca/wp-content/uploads/2024/03/Screenshot-2023-07-20-132017-2.jpg
ORGANIZER;CN="The Good Companions":MAILTO:info@thegoodcompanions.ca
END:VEVENT
END:VCALENDAR