BEGIN:VCALENDAR
VERSION:2.0
PRODID:-//Ontario Caregiver - ECPv6.15.20//NONSGML v1.0//EN
CALSCALE:GREGORIAN
METHOD:PUBLISH
X-ORIGINAL-URL:https://ontariocaregiver.ca
X-WR-CALDESC:Events for Ontario Caregiver
REFRESH-INTERVAL;VALUE=DURATION:PT1H
X-Robots-Tag:noindex
X-PUBLISHED-TTL:PT1H
BEGIN:VTIMEZONE
TZID:America/Toronto
BEGIN:DAYLIGHT
TZOFFSETFROM:-0500
TZOFFSETTO:-0400
TZNAME:EDT
DTSTART:20270314T070000
END:DAYLIGHT
BEGIN:STANDARD
TZOFFSETFROM:-0400
TZOFFSETTO:-0500
TZNAME:EST
DTSTART:20271107T060000
END:STANDARD
BEGIN:DAYLIGHT
TZOFFSETFROM:-0500
TZOFFSETTO:-0400
TZNAME:EDT
DTSTART:20280312T070000
END:DAYLIGHT
BEGIN:STANDARD
TZOFFSETFROM:-0400
TZOFFSETTO:-0500
TZNAME:EST
DTSTART:20281105T060000
END:STANDARD
BEGIN:DAYLIGHT
TZOFFSETFROM:-0500
TZOFFSETTO:-0400
TZNAME:EDT
DTSTART:20290311T070000
END:DAYLIGHT
BEGIN:STANDARD
TZOFFSETFROM:-0400
TZOFFSETTO:-0500
TZNAME:EST
DTSTART:20291104T060000
END:STANDARD
END:VTIMEZONE
BEGIN:VEVENT
DTSTART;TZID=America/Toronto:20280927T130000
DTEND;TZID=America/Toronto:20280927T150000
DTSTAMP:20260425T111459
CREATED:20230414T214807Z
LAST-MODIFIED:20230414T214807Z
UID:10006975-1853672400-1853679600@ontariocaregiver.ca
SUMMARY:Grief Support Groups (Sydenham\, ON)
DESCRIPTION:We provide emotional support to individuals and families who are wither anticipating a death or experiencing grief due to the loss of a loved one.
URL:https://ontariocaregiver.ca/event/grief-support-groups-sydenham-on/2028-09-27/
LOCATION:Sydenham Library\, 4412 Wheatley St\, Sydenham\, Ontario\, K0H 2T0
ATTACH;FMTTYPE=image/jpeg:https://ontariocaregiver.ca/wp-content/uploads/2024/03/Support-Groups-Caregiver-and-Grief-Sydenham-1-2.jpg
ORGANIZER;CN="Southern Frontenac Community Services":MAILTO:info@sfcsc.ca
END:VEVENT
BEGIN:VEVENT
DTSTART;TZID=America/Toronto:20280927T130000
DTEND;TZID=America/Toronto:20280927T150000
DTSTAMP:20260425T111459
CREATED:20230414T214807Z
LAST-MODIFIED:20230414T214807Z
UID:10007015-1853672400-1853679600@ontariocaregiver.ca
SUMMARY:Grief Support Groups (Sydenham\, ON)
DESCRIPTION:We provide emotional support to individuals and families who are wither anticipating a death or experiencing grief due to the loss of a loved one.
URL:https://ontariocaregiver.ca/event/grief-support-groups-sydenham-on/2028-09-27/
LOCATION:Sydenham Library\, 4412 Wheatley St\, Sydenham\, Ontario\, K0H 2T0
ATTACH;FMTTYPE=image/jpeg:https://ontariocaregiver.ca/wp-content/uploads/2024/03/Support-Groups-Caregiver-and-Grief-Sydenham-1-2.jpg
ORGANIZER;CN="Southern Frontenac Community Services":MAILTO:info@sfcsc.ca
END:VEVENT
BEGIN:VEVENT
DTSTART;TZID=America/Toronto:20280927T130000
DTEND;TZID=America/Toronto:20280927T150000
DTSTAMP:20260425T111459
CREATED:20230414T214807Z
LAST-MODIFIED:20230414T214807Z
UID:10041131-1853672400-1853679600@ontariocaregiver.ca
SUMMARY:Grief Support Groups (Sydenham\, ON)
DESCRIPTION:We provide emotional support to individuals and families who are wither anticipating a death or experiencing grief due to the loss of a loved one.
URL:https://ontariocaregiver.ca/event/grief-support-groups-sydenham-on/2028-09-27/
LOCATION:Sydenham Library\, 4412 Wheatley St\, Sydenham\, Ontario\, K0H 2T0
ATTACH;FMTTYPE=image/jpeg:https://ontariocaregiver.ca/wp-content/uploads/2024/03/Support-Groups-Caregiver-and-Grief-Sydenham-1-2.jpg
ORGANIZER;CN="Southern Frontenac Community Services":MAILTO:info@sfcsc.ca
END:VEVENT
BEGIN:VEVENT
DTSTART;TZID=America/Toronto:20280927T130000
DTEND;TZID=America/Toronto:20280927T150000
DTSTAMP:20260425T111459
CREATED:20230414T214807Z
LAST-MODIFIED:20230414T214807Z
UID:10065196-1853672400-1853679600@ontariocaregiver.ca
SUMMARY:Grief Support Groups (Sydenham\, ON)
DESCRIPTION:We provide emotional support to individuals and families who are wither anticipating a death or experiencing grief due to the loss of a loved one.
URL:https://ontariocaregiver.ca/event/grief-support-groups-sydenham-on/2028-09-27/
LOCATION:Sydenham Library\, 4412 Wheatley St\, Sydenham\, Ontario\, K0H 2T0
ATTACH;FMTTYPE=image/jpeg:https://ontariocaregiver.ca/wp-content/uploads/2024/03/Support-Groups-Caregiver-and-Grief-Sydenham-1-2.jpg
ORGANIZER;CN="Southern Frontenac Community Services":MAILTO:info@sfcsc.ca
END:VEVENT
BEGIN:VEVENT
DTSTART;TZID=America/Toronto:20281018T133000
DTEND;TZID=America/Toronto:20281018T150000
DTSTAMP:20260425T111459
CREATED:20230414T214742Z
LAST-MODIFIED:20230414T214742Z
UID:10074833-1855488600-1855494000@ontariocaregiver.ca
SUMMARY:Caregiver Support Group (Sydenham\, ON)
DESCRIPTION:Caregiver Support groups provide people an opportunity to share their thoughts and experiences in a safe\, confidential environment.
URL:https://ontariocaregiver.ca/event/caregiver-support-group-sydenham-on/2028-10-18/
LOCATION:Sydenham Library\, 4412 Wheatley St\, Sydenham\, Ontario\, K0H 2T0
ATTACH;FMTTYPE=image/jpeg:https://ontariocaregiver.ca/wp-content/uploads/2024/03/Support-Groups-Caregiver-and-Grief-Sydenham-3.jpg
ORGANIZER;CN="Southern Frontenac Community Services":MAILTO:info@sfcsc.ca
END:VEVENT
BEGIN:VEVENT
DTSTART;TZID=America/Toronto:20281018T133000
DTEND;TZID=America/Toronto:20281018T150000
DTSTAMP:20260425T111459
CREATED:20230414T214742Z
LAST-MODIFIED:20230414T214742Z
UID:10092460-1855488600-1855494000@ontariocaregiver.ca
SUMMARY:Caregiver Support Group (Sydenham\, ON)
DESCRIPTION:Caregiver Support groups provide people an opportunity to share their thoughts and experiences in a safe\, confidential environment.
URL:https://ontariocaregiver.ca/event/caregiver-support-group-sydenham-on/2028-10-18/
LOCATION:Sydenham Library\, 4412 Wheatley St\, Sydenham\, Ontario\, K0H 2T0
ATTACH;FMTTYPE=image/jpeg:https://ontariocaregiver.ca/wp-content/uploads/2024/03/Support-Groups-Caregiver-and-Grief-Sydenham-3.jpg
ORGANIZER;CN="Southern Frontenac Community Services":MAILTO:info@sfcsc.ca
END:VEVENT
BEGIN:VEVENT
DTSTART;TZID=America/Toronto:20281018T133000
DTEND;TZID=America/Toronto:20281018T150000
DTSTAMP:20260425T111459
CREATED:20230414T214742Z
LAST-MODIFIED:20230414T214742Z
UID:10043522-1855488600-1855494000@ontariocaregiver.ca
SUMMARY:Caregiver Support Group (Sydenham\, ON)
DESCRIPTION:Caregiver Support groups provide people an opportunity to share their thoughts and experiences in a safe\, confidential environment.
URL:https://ontariocaregiver.ca/event/caregiver-support-group-sydenham-on/2028-10-18/
LOCATION:Sydenham Library\, 4412 Wheatley St\, Sydenham\, Ontario\, K0H 2T0
ATTACH;FMTTYPE=image/jpeg:https://ontariocaregiver.ca/wp-content/uploads/2024/03/Support-Groups-Caregiver-and-Grief-Sydenham-3.jpg
ORGANIZER;CN="Southern Frontenac Community Services":MAILTO:info@sfcsc.ca
END:VEVENT
BEGIN:VEVENT
DTSTART;TZID=America/Toronto:20281018T133000
DTEND;TZID=America/Toronto:20281018T150000
DTSTAMP:20260425T111459
CREATED:20230414T214742Z
LAST-MODIFIED:20230414T214742Z
UID:10067587-1855488600-1855494000@ontariocaregiver.ca
SUMMARY:Caregiver Support Group (Sydenham\, ON)
DESCRIPTION:Caregiver Support groups provide people an opportunity to share their thoughts and experiences in a safe\, confidential environment.
URL:https://ontariocaregiver.ca/event/caregiver-support-group-sydenham-on/2028-10-18/
LOCATION:Sydenham Library\, 4412 Wheatley St\, Sydenham\, Ontario\, K0H 2T0
ATTACH;FMTTYPE=image/jpeg:https://ontariocaregiver.ca/wp-content/uploads/2024/03/Support-Groups-Caregiver-and-Grief-Sydenham-3.jpg
ORGANIZER;CN="Southern Frontenac Community Services":MAILTO:info@sfcsc.ca
END:VEVENT
BEGIN:VEVENT
DTSTART;TZID=America/Toronto:20281018T133000
DTEND;TZID=America/Toronto:20281018T150000
DTSTAMP:20260425T111459
CREATED:20230414T214742Z
LAST-MODIFIED:20230414T214742Z
UID:10006813-1855488600-1855494000@ontariocaregiver.ca
SUMMARY:Caregiver Support Group (Sydenham\, ON)
DESCRIPTION:Caregiver Support groups provide people an opportunity to share their thoughts and experiences in a safe\, confidential environment.
URL:https://ontariocaregiver.ca/event/caregiver-support-group-sydenham-on/2028-10-18/
LOCATION:Sydenham Library\, 4412 Wheatley St\, Sydenham\, Ontario\, K0H 2T0
ATTACH;FMTTYPE=image/jpeg:https://ontariocaregiver.ca/wp-content/uploads/2024/03/Support-Groups-Caregiver-and-Grief-Sydenham-3.jpg
ORGANIZER;CN="Southern Frontenac Community Services":MAILTO:info@sfcsc.ca
END:VEVENT
BEGIN:VEVENT
DTSTART;TZID=America/Toronto:20281018T133000
DTEND;TZID=America/Toronto:20281018T150000
DTSTAMP:20260425T111459
CREATED:20230414T214742Z
LAST-MODIFIED:20230414T214742Z
UID:10036303-1855488600-1855494000@ontariocaregiver.ca
SUMMARY:Caregiver Support Group (Sydenham\, ON)
DESCRIPTION:Caregiver Support groups provide people an opportunity to share their thoughts and experiences in a safe\, confidential environment.
URL:https://ontariocaregiver.ca/event/caregiver-support-group-sydenham-on/2028-10-18/
LOCATION:Sydenham Library\, 4412 Wheatley St\, Sydenham\, Ontario\, K0H 2T0
ATTACH;FMTTYPE=image/jpeg:https://ontariocaregiver.ca/wp-content/uploads/2024/03/Support-Groups-Caregiver-and-Grief-Sydenham-3.jpg
ORGANIZER;CN="Southern Frontenac Community Services":MAILTO:info@sfcsc.ca
END:VEVENT
BEGIN:VEVENT
DTSTART;TZID=America/Toronto:20281018T133000
DTEND;TZID=America/Toronto:20281018T150000
DTSTAMP:20260425T111459
CREATED:20230414T214742Z
LAST-MODIFIED:20230414T214742Z
UID:10061163-1855488600-1855494000@ontariocaregiver.ca
SUMMARY:Caregiver Support Group (Sydenham\, ON)
DESCRIPTION:Caregiver Support groups provide people an opportunity to share their thoughts and experiences in a safe\, confidential environment.
URL:https://ontariocaregiver.ca/event/caregiver-support-group-sydenham-on/2028-10-18/
LOCATION:Sydenham Library\, 4412 Wheatley St\, Sydenham\, Ontario\, K0H 2T0
ATTACH;FMTTYPE=image/jpeg:https://ontariocaregiver.ca/wp-content/uploads/2024/03/Support-Groups-Caregiver-and-Grief-Sydenham-3.jpg
ORGANIZER;CN="Southern Frontenac Community Services":MAILTO:info@sfcsc.ca
END:VEVENT
BEGIN:VEVENT
DTSTART;TZID=America/Toronto:20281018T133000
DTEND;TZID=America/Toronto:20281018T150000
DTSTAMP:20260425T111459
CREATED:20230414T214742Z
LAST-MODIFIED:20230414T214742Z
UID:10085256-1855488600-1855494000@ontariocaregiver.ca
SUMMARY:Caregiver Support Group (Sydenham\, ON)
DESCRIPTION:Caregiver Support groups provide people an opportunity to share their thoughts and experiences in a safe\, confidential environment.
URL:https://ontariocaregiver.ca/event/caregiver-support-group-sydenham-on/2028-10-18/
LOCATION:Sydenham Library\, 4412 Wheatley St\, Sydenham\, Ontario\, K0H 2T0
ATTACH;FMTTYPE=image/jpeg:https://ontariocaregiver.ca/wp-content/uploads/2024/03/Support-Groups-Caregiver-and-Grief-Sydenham-3.jpg
ORGANIZER;CN="Southern Frontenac Community Services":MAILTO:info@sfcsc.ca
END:VEVENT
BEGIN:VEVENT
DTSTART;TZID=America/Toronto:20281018T133000
DTEND;TZID=America/Toronto:20281018T150000
DTSTAMP:20260425T111459
CREATED:20230414T214742Z
LAST-MODIFIED:20230414T214742Z
UID:10006613-1855488600-1855494000@ontariocaregiver.ca
SUMMARY:Caregiver Support Group (Sydenham\, ON)
DESCRIPTION:Caregiver Support groups provide people an opportunity to share their thoughts and experiences in a safe\, confidential environment.
URL:https://ontariocaregiver.ca/event/caregiver-support-group-sydenham-on/2028-10-18/
LOCATION:Sydenham Library\, 4412 Wheatley St\, Sydenham\, Ontario\, K0H 2T0
ATTACH;FMTTYPE=image/jpeg:https://ontariocaregiver.ca/wp-content/uploads/2024/03/Support-Groups-Caregiver-and-Grief-Sydenham-3.jpg
ORGANIZER;CN="Southern Frontenac Community Services":MAILTO:info@sfcsc.ca
END:VEVENT
BEGIN:VEVENT
DTSTART;TZID=America/Toronto:20281018T133000
DTEND;TZID=America/Toronto:20281018T150000
DTSTAMP:20260425T111459
CREATED:20230414T214742Z
LAST-MODIFIED:20230414T214742Z
UID:10029688-1855488600-1855494000@ontariocaregiver.ca
SUMMARY:Caregiver Support Group (Sydenham\, ON)
DESCRIPTION:Caregiver Support groups provide people an opportunity to share their thoughts and experiences in a safe\, confidential environment.
URL:https://ontariocaregiver.ca/event/caregiver-support-group-sydenham-on/2028-10-18/
LOCATION:Sydenham Library\, 4412 Wheatley St\, Sydenham\, Ontario\, K0H 2T0
ATTACH;FMTTYPE=image/jpeg:https://ontariocaregiver.ca/wp-content/uploads/2024/03/Support-Groups-Caregiver-and-Grief-Sydenham-3.jpg
ORGANIZER;CN="Southern Frontenac Community Services":MAILTO:info@sfcsc.ca
END:VEVENT
BEGIN:VEVENT
DTSTART;TZID=America/Toronto:20281018T133000
DTEND;TZID=America/Toronto:20281018T150000
DTSTAMP:20260425T111459
CREATED:20230414T214742Z
LAST-MODIFIED:20230414T214742Z
UID:10053944-1855488600-1855494000@ontariocaregiver.ca
SUMMARY:Caregiver Support Group (Sydenham\, ON)
DESCRIPTION:Caregiver Support groups provide people an opportunity to share their thoughts and experiences in a safe\, confidential environment.
URL:https://ontariocaregiver.ca/event/caregiver-support-group-sydenham-on/2028-10-18/
LOCATION:Sydenham Library\, 4412 Wheatley St\, Sydenham\, Ontario\, K0H 2T0
ATTACH;FMTTYPE=image/jpeg:https://ontariocaregiver.ca/wp-content/uploads/2024/03/Support-Groups-Caregiver-and-Grief-Sydenham-3.jpg
ORGANIZER;CN="Southern Frontenac Community Services":MAILTO:info@sfcsc.ca
END:VEVENT
BEGIN:VEVENT
DTSTART;TZID=America/Toronto:20281018T133000
DTEND;TZID=America/Toronto:20281018T150000
DTSTAMP:20260425T111459
CREATED:20230414T214742Z
LAST-MODIFIED:20230414T214742Z
UID:10078044-1855488600-1855494000@ontariocaregiver.ca
SUMMARY:Caregiver Support Group (Sydenham\, ON)
DESCRIPTION:Caregiver Support groups provide people an opportunity to share their thoughts and experiences in a safe\, confidential environment.
URL:https://ontariocaregiver.ca/event/caregiver-support-group-sydenham-on/2028-10-18/
LOCATION:Sydenham Library\, 4412 Wheatley St\, Sydenham\, Ontario\, K0H 2T0
ATTACH;FMTTYPE=image/jpeg:https://ontariocaregiver.ca/wp-content/uploads/2024/03/Support-Groups-Caregiver-and-Grief-Sydenham-3.jpg
ORGANIZER;CN="Southern Frontenac Community Services":MAILTO:info@sfcsc.ca
END:VEVENT
BEGIN:VEVENT
DTSTART;TZID=America/Toronto:20281018T133000
DTEND;TZID=America/Toronto:20281018T150000
DTSTAMP:20260425T111459
CREATED:20230414T214742Z
LAST-MODIFIED:20230414T214742Z
UID:10006655-1855488600-1855494000@ontariocaregiver.ca
SUMMARY:Caregiver Support Group (Sydenham\, ON)
DESCRIPTION:Caregiver Support groups provide people an opportunity to share their thoughts and experiences in a safe\, confidential environment.
URL:https://ontariocaregiver.ca/event/caregiver-support-group-sydenham-on/2028-10-18/
LOCATION:Sydenham Library\, 4412 Wheatley St\, Sydenham\, Ontario\, K0H 2T0
ATTACH;FMTTYPE=image/jpeg:https://ontariocaregiver.ca/wp-content/uploads/2024/03/Support-Groups-Caregiver-and-Grief-Sydenham-3.jpg
ORGANIZER;CN="Southern Frontenac Community Services":MAILTO:info@sfcsc.ca
END:VEVENT
BEGIN:VEVENT
DTSTART;TZID=America/Toronto:20281018T133000
DTEND;TZID=America/Toronto:20281018T150000
DTSTAMP:20260425T111459
CREATED:20230414T214742Z
LAST-MODIFIED:20230414T214742Z
UID:10006775-1855488600-1855494000@ontariocaregiver.ca
SUMMARY:Caregiver Support Group (Sydenham\, ON)
DESCRIPTION:Caregiver Support groups provide people an opportunity to share their thoughts and experiences in a safe\, confidential environment.
URL:https://ontariocaregiver.ca/event/caregiver-support-group-sydenham-on/2028-10-18/
LOCATION:Sydenham Library\, 4412 Wheatley St\, Sydenham\, Ontario\, K0H 2T0
ATTACH;FMTTYPE=image/jpeg:https://ontariocaregiver.ca/wp-content/uploads/2024/03/Support-Groups-Caregiver-and-Grief-Sydenham-3.jpg
ORGANIZER;CN="Southern Frontenac Community Services":MAILTO:info@sfcsc.ca
END:VEVENT
BEGIN:VEVENT
DTSTART;TZID=America/Toronto:20281018T133000
DTEND;TZID=America/Toronto:20281018T150000
DTSTAMP:20260425T111459
CREATED:20230414T214742Z
LAST-MODIFIED:20230414T214742Z
UID:10046734-1855488600-1855494000@ontariocaregiver.ca
SUMMARY:Caregiver Support Group (Sydenham\, ON)
DESCRIPTION:Caregiver Support groups provide people an opportunity to share their thoughts and experiences in a safe\, confidential environment.
URL:https://ontariocaregiver.ca/event/caregiver-support-group-sydenham-on/2028-10-18/
LOCATION:Sydenham Library\, 4412 Wheatley St\, Sydenham\, Ontario\, K0H 2T0
ATTACH;FMTTYPE=image/jpeg:https://ontariocaregiver.ca/wp-content/uploads/2024/03/Support-Groups-Caregiver-and-Grief-Sydenham-3.jpg
ORGANIZER;CN="Southern Frontenac Community Services":MAILTO:info@sfcsc.ca
END:VEVENT
BEGIN:VEVENT
DTSTART;TZID=America/Toronto:20281018T133000
DTEND;TZID=America/Toronto:20281018T150000
DTSTAMP:20260425T111459
CREATED:20230414T214742Z
LAST-MODIFIED:20230414T214742Z
UID:10071613-1855488600-1855494000@ontariocaregiver.ca
SUMMARY:Caregiver Support Group (Sydenham\, ON)
DESCRIPTION:Caregiver Support groups provide people an opportunity to share their thoughts and experiences in a safe\, confidential environment.
URL:https://ontariocaregiver.ca/event/caregiver-support-group-sydenham-on/2028-10-18/
LOCATION:Sydenham Library\, 4412 Wheatley St\, Sydenham\, Ontario\, K0H 2T0
ATTACH;FMTTYPE=image/jpeg:https://ontariocaregiver.ca/wp-content/uploads/2024/03/Support-Groups-Caregiver-and-Grief-Sydenham-3.jpg
ORGANIZER;CN="Southern Frontenac Community Services":MAILTO:info@sfcsc.ca
END:VEVENT
BEGIN:VEVENT
DTSTART;TZID=America/Toronto:20281018T133000
DTEND;TZID=America/Toronto:20281018T150000
DTSTAMP:20260425T111459
CREATED:20230414T214742Z
LAST-MODIFIED:20230414T214742Z
UID:10006696-1855488600-1855494000@ontariocaregiver.ca
SUMMARY:Caregiver Support Group (Sydenham\, ON)
DESCRIPTION:Caregiver Support groups provide people an opportunity to share their thoughts and experiences in a safe\, confidential environment.
URL:https://ontariocaregiver.ca/event/caregiver-support-group-sydenham-on/2028-10-18/
LOCATION:Sydenham Library\, 4412 Wheatley St\, Sydenham\, Ontario\, K0H 2T0
ATTACH;FMTTYPE=image/jpeg:https://ontariocaregiver.ca/wp-content/uploads/2024/03/Support-Groups-Caregiver-and-Grief-Sydenham-3.jpg
ORGANIZER;CN="Southern Frontenac Community Services":MAILTO:info@sfcsc.ca
END:VEVENT
BEGIN:VEVENT
DTSTART;TZID=America/Toronto:20281018T133000
DTEND;TZID=America/Toronto:20281018T150000
DTSTAMP:20260425T111459
CREATED:20230414T214742Z
LAST-MODIFIED:20230414T214742Z
UID:10006736-1855488600-1855494000@ontariocaregiver.ca
SUMMARY:Caregiver Support Group (Sydenham\, ON)
DESCRIPTION:Caregiver Support groups provide people an opportunity to share their thoughts and experiences in a safe\, confidential environment.
URL:https://ontariocaregiver.ca/event/caregiver-support-group-sydenham-on/2028-10-18/
LOCATION:Sydenham Library\, 4412 Wheatley St\, Sydenham\, Ontario\, K0H 2T0
ATTACH;FMTTYPE=image/jpeg:https://ontariocaregiver.ca/wp-content/uploads/2024/03/Support-Groups-Caregiver-and-Grief-Sydenham-3.jpg
ORGANIZER;CN="Southern Frontenac Community Services":MAILTO:info@sfcsc.ca
END:VEVENT
BEGIN:VEVENT
DTSTART;TZID=America/Toronto:20281018T133000
DTEND;TZID=America/Toronto:20281018T150000
DTSTAMP:20260425T111459
CREATED:20230414T214742Z
LAST-MODIFIED:20230414T214742Z
UID:10040310-1855488600-1855494000@ontariocaregiver.ca
SUMMARY:Caregiver Support Group (Sydenham\, ON)
DESCRIPTION:Caregiver Support groups provide people an opportunity to share their thoughts and experiences in a safe\, confidential environment.
URL:https://ontariocaregiver.ca/event/caregiver-support-group-sydenham-on/2028-10-18/
LOCATION:Sydenham Library\, 4412 Wheatley St\, Sydenham\, Ontario\, K0H 2T0
ATTACH;FMTTYPE=image/jpeg:https://ontariocaregiver.ca/wp-content/uploads/2024/03/Support-Groups-Caregiver-and-Grief-Sydenham-3.jpg
ORGANIZER;CN="Southern Frontenac Community Services":MAILTO:info@sfcsc.ca
END:VEVENT
BEGIN:VEVENT
DTSTART;TZID=America/Toronto:20281018T133000
DTEND;TZID=America/Toronto:20281018T150000
DTSTAMP:20260425T111459
CREATED:20230414T214742Z
LAST-MODIFIED:20230414T214742Z
UID:10088466-1855488600-1855494000@ontariocaregiver.ca
SUMMARY:Caregiver Support Group (Sydenham\, ON)
DESCRIPTION:Caregiver Support groups provide people an opportunity to share their thoughts and experiences in a safe\, confidential environment.
URL:https://ontariocaregiver.ca/event/caregiver-support-group-sydenham-on/2028-10-18/
LOCATION:Sydenham Library\, 4412 Wheatley St\, Sydenham\, Ontario\, K0H 2T0
ATTACH;FMTTYPE=image/jpeg:https://ontariocaregiver.ca/wp-content/uploads/2024/03/Support-Groups-Caregiver-and-Grief-Sydenham-3.jpg
ORGANIZER;CN="Southern Frontenac Community Services":MAILTO:info@sfcsc.ca
END:VEVENT
BEGIN:VEVENT
DTSTART;TZID=America/Toronto:20281018T133000
DTEND;TZID=America/Toronto:20281018T150000
DTSTAMP:20260425T111459
CREATED:20230414T214742Z
LAST-MODIFIED:20230414T214742Z
UID:10064376-1855488600-1855494000@ontariocaregiver.ca
SUMMARY:Caregiver Support Group (Sydenham\, ON)
DESCRIPTION:Caregiver Support groups provide people an opportunity to share their thoughts and experiences in a safe\, confidential environment.
URL:https://ontariocaregiver.ca/event/caregiver-support-group-sydenham-on/2028-10-18/
LOCATION:Sydenham Library\, 4412 Wheatley St\, Sydenham\, Ontario\, K0H 2T0
ATTACH;FMTTYPE=image/jpeg:https://ontariocaregiver.ca/wp-content/uploads/2024/03/Support-Groups-Caregiver-and-Grief-Sydenham-3.jpg
ORGANIZER;CN="Southern Frontenac Community Services":MAILTO:info@sfcsc.ca
END:VEVENT
BEGIN:VEVENT
DTSTART;TZID=America/Toronto:20281018T133000
DTEND;TZID=America/Toronto:20281018T150000
DTSTAMP:20260425T111459
CREATED:20230414T214742Z
LAST-MODIFIED:20230414T214742Z
UID:10082042-1855488600-1855494000@ontariocaregiver.ca
SUMMARY:Caregiver Support Group (Sydenham\, ON)
DESCRIPTION:Caregiver Support groups provide people an opportunity to share their thoughts and experiences in a safe\, confidential environment.
URL:https://ontariocaregiver.ca/event/caregiver-support-group-sydenham-on/2028-10-18/
LOCATION:Sydenham Library\, 4412 Wheatley St\, Sydenham\, Ontario\, K0H 2T0
ATTACH;FMTTYPE=image/jpeg:https://ontariocaregiver.ca/wp-content/uploads/2024/03/Support-Groups-Caregiver-and-Grief-Sydenham-3.jpg
ORGANIZER;CN="Southern Frontenac Community Services":MAILTO:info@sfcsc.ca
END:VEVENT
BEGIN:VEVENT
DTSTART;TZID=America/Toronto:20281018T133000
DTEND;TZID=America/Toronto:20281018T150000
DTSTAMP:20260425T111459
CREATED:20230414T214742Z
LAST-MODIFIED:20230414T214742Z
UID:10006850-1855488600-1855494000@ontariocaregiver.ca
SUMMARY:Caregiver Support Group (Sydenham\, ON)
DESCRIPTION:Caregiver Support groups provide people an opportunity to share their thoughts and experiences in a safe\, confidential environment.
URL:https://ontariocaregiver.ca/event/caregiver-support-group-sydenham-on/2028-10-18/
LOCATION:Sydenham Library\, 4412 Wheatley St\, Sydenham\, Ontario\, K0H 2T0
ATTACH;FMTTYPE=image/jpeg:https://ontariocaregiver.ca/wp-content/uploads/2024/03/Support-Groups-Caregiver-and-Grief-Sydenham-3.jpg
ORGANIZER;CN="Southern Frontenac Community Services":MAILTO:info@sfcsc.ca
END:VEVENT
BEGIN:VEVENT
DTSTART;TZID=America/Toronto:20281018T133000
DTEND;TZID=America/Toronto:20281018T150000
DTSTAMP:20260425T111459
CREATED:20230414T214742Z
LAST-MODIFIED:20230414T214742Z
UID:10033031-1855488600-1855494000@ontariocaregiver.ca
SUMMARY:Caregiver Support Group (Sydenham\, ON)
DESCRIPTION:Caregiver Support groups provide people an opportunity to share their thoughts and experiences in a safe\, confidential environment.
URL:https://ontariocaregiver.ca/event/caregiver-support-group-sydenham-on/2028-10-18/
LOCATION:Sydenham Library\, 4412 Wheatley St\, Sydenham\, Ontario\, K0H 2T0
ATTACH;FMTTYPE=image/jpeg:https://ontariocaregiver.ca/wp-content/uploads/2024/03/Support-Groups-Caregiver-and-Grief-Sydenham-3.jpg
ORGANIZER;CN="Southern Frontenac Community Services":MAILTO:info@sfcsc.ca
END:VEVENT
BEGIN:VEVENT
DTSTART;TZID=America/Toronto:20281018T133000
DTEND;TZID=America/Toronto:20281018T150000
DTSTAMP:20260425T111459
CREATED:20230414T214742Z
LAST-MODIFIED:20230414T214742Z
UID:10050731-1855488600-1855494000@ontariocaregiver.ca
SUMMARY:Caregiver Support Group (Sydenham\, ON)
DESCRIPTION:Caregiver Support groups provide people an opportunity to share their thoughts and experiences in a safe\, confidential environment.
URL:https://ontariocaregiver.ca/event/caregiver-support-group-sydenham-on/2028-10-18/
LOCATION:Sydenham Library\, 4412 Wheatley St\, Sydenham\, Ontario\, K0H 2T0
ATTACH;FMTTYPE=image/jpeg:https://ontariocaregiver.ca/wp-content/uploads/2024/03/Support-Groups-Caregiver-and-Grief-Sydenham-3.jpg
ORGANIZER;CN="Southern Frontenac Community Services":MAILTO:info@sfcsc.ca
END:VEVENT
BEGIN:VEVENT
DTSTART;TZID=America/Toronto:20281018T133000
DTEND;TZID=America/Toronto:20281018T150000
DTSTAMP:20260425T111459
CREATED:20230414T214742Z
LAST-MODIFIED:20230414T214742Z
UID:10057164-1855488600-1855494000@ontariocaregiver.ca
SUMMARY:Caregiver Support Group (Sydenham\, ON)
DESCRIPTION:Caregiver Support groups provide people an opportunity to share their thoughts and experiences in a safe\, confidential environment.
URL:https://ontariocaregiver.ca/event/caregiver-support-group-sydenham-on/2028-10-18/
LOCATION:Sydenham Library\, 4412 Wheatley St\, Sydenham\, Ontario\, K0H 2T0
ATTACH;FMTTYPE=image/jpeg:https://ontariocaregiver.ca/wp-content/uploads/2024/03/Support-Groups-Caregiver-and-Grief-Sydenham-3.jpg
ORGANIZER;CN="Southern Frontenac Community Services":MAILTO:info@sfcsc.ca
END:VEVENT
END:VCALENDAR