BEGIN:VCALENDAR
VERSION:2.0
PRODID:-//Ontario Caregiver - ECPv6.15.20//NONSGML v1.0//EN
CALSCALE:GREGORIAN
METHOD:PUBLISH
X-WR-CALNAME:Ontario Caregiver
X-ORIGINAL-URL:https://ontariocaregiver.ca
X-WR-CALDESC:Events for Ontario Caregiver
REFRESH-INTERVAL;VALUE=DURATION:PT1H
X-Robots-Tag:noindex
X-PUBLISHED-TTL:PT1H
BEGIN:VTIMEZONE
TZID:America/Toronto
BEGIN:DAYLIGHT
TZOFFSETFROM:-0500
TZOFFSETTO:-0400
TZNAME:EDT
DTSTART:20270314T070000
END:DAYLIGHT
BEGIN:STANDARD
TZOFFSETFROM:-0400
TZOFFSETTO:-0500
TZNAME:EST
DTSTART:20271107T060000
END:STANDARD
BEGIN:DAYLIGHT
TZOFFSETFROM:-0500
TZOFFSETTO:-0400
TZNAME:EDT
DTSTART:20280312T070000
END:DAYLIGHT
BEGIN:STANDARD
TZOFFSETFROM:-0400
TZOFFSETTO:-0500
TZNAME:EST
DTSTART:20281105T060000
END:STANDARD
BEGIN:DAYLIGHT
TZOFFSETFROM:-0500
TZOFFSETTO:-0400
TZNAME:EDT
DTSTART:20290311T070000
END:DAYLIGHT
BEGIN:STANDARD
TZOFFSETFROM:-0400
TZOFFSETTO:-0500
TZNAME:EST
DTSTART:20291104T060000
END:STANDARD
END:VTIMEZONE
BEGIN:VEVENT
DTSTART;TZID=America/Toronto:20280329T130000
DTEND;TZID=America/Toronto:20280329T150000
DTSTAMP:20260423T195437
CREATED:20230414T214807Z
LAST-MODIFIED:20230414T214807Z
UID:10069215-1837947600-1837954800@ontariocaregiver.ca
SUMMARY:Grief Support Groups (Sydenham\, ON)
DESCRIPTION:We provide emotional support to individuals and families who are wither anticipating a death or experiencing grief due to the loss of a loved one.
URL:https://ontariocaregiver.ca/event/grief-support-groups-sydenham-on/2028-03-29/
LOCATION:Sydenham Library\, 4412 Wheatley St\, Sydenham\, Ontario\, K0H 2T0
ATTACH;FMTTYPE=image/jpeg:https://ontariocaregiver.ca/wp-content/uploads/2024/03/Support-Groups-Caregiver-and-Grief-Sydenham-1-2.jpg
ORGANIZER;CN="Southern Frontenac Community Services":MAILTO:info@sfcsc.ca
END:VEVENT
BEGIN:VEVENT
DTSTART;TZID=America/Toronto:20280329T130000
DTEND;TZID=America/Toronto:20280329T150000
DTSTAMP:20260423T195437
CREATED:20230414T214807Z
LAST-MODIFIED:20230414T214807Z
UID:10037911-1837947600-1837954800@ontariocaregiver.ca
SUMMARY:Grief Support Groups (Sydenham\, ON)
DESCRIPTION:We provide emotional support to individuals and families who are wither anticipating a death or experiencing grief due to the loss of a loved one.
URL:https://ontariocaregiver.ca/event/grief-support-groups-sydenham-on/2028-03-29/
LOCATION:Sydenham Library\, 4412 Wheatley St\, Sydenham\, Ontario\, K0H 2T0
ATTACH;FMTTYPE=image/jpeg:https://ontariocaregiver.ca/wp-content/uploads/2024/03/Support-Groups-Caregiver-and-Grief-Sydenham-1-2.jpg
ORGANIZER;CN="Southern Frontenac Community Services":MAILTO:info@sfcsc.ca
END:VEVENT
BEGIN:VEVENT
DTSTART;TZID=America/Toronto:20280329T130000
DTEND;TZID=America/Toronto:20280329T150000
DTSTAMP:20260423T195437
CREATED:20230414T214807Z
LAST-MODIFIED:20230414T214807Z
UID:10086070-1837947600-1837954800@ontariocaregiver.ca
SUMMARY:Grief Support Groups (Sydenham\, ON)
DESCRIPTION:We provide emotional support to individuals and families who are wither anticipating a death or experiencing grief due to the loss of a loved one.
URL:https://ontariocaregiver.ca/event/grief-support-groups-sydenham-on/2028-03-29/
LOCATION:Sydenham Library\, 4412 Wheatley St\, Sydenham\, Ontario\, K0H 2T0
ATTACH;FMTTYPE=image/jpeg:https://ontariocaregiver.ca/wp-content/uploads/2024/03/Support-Groups-Caregiver-and-Grief-Sydenham-1-2.jpg
ORGANIZER;CN="Southern Frontenac Community Services":MAILTO:info@sfcsc.ca
END:VEVENT
BEGIN:VEVENT
DTSTART;TZID=America/Toronto:20280329T130000
DTEND;TZID=America/Toronto:20280329T150000
DTSTAMP:20260423T195437
CREATED:20230414T214807Z
LAST-MODIFIED:20230414T214807Z
UID:10006886-1837947600-1837954800@ontariocaregiver.ca
SUMMARY:Grief Support Groups (Sydenham\, ON)
DESCRIPTION:We provide emotional support to individuals and families who are wither anticipating a death or experiencing grief due to the loss of a loved one.
URL:https://ontariocaregiver.ca/event/grief-support-groups-sydenham-on/2028-03-29/
LOCATION:Sydenham Library\, 4412 Wheatley St\, Sydenham\, Ontario\, K0H 2T0
ATTACH;FMTTYPE=image/jpeg:https://ontariocaregiver.ca/wp-content/uploads/2024/03/Support-Groups-Caregiver-and-Grief-Sydenham-1-2.jpg
ORGANIZER;CN="Southern Frontenac Community Services":MAILTO:info@sfcsc.ca
END:VEVENT
BEGIN:VEVENT
DTSTART;TZID=America/Toronto:20280329T130000
DTEND;TZID=America/Toronto:20280329T150000
DTSTAMP:20260423T195437
CREATED:20230414T214807Z
LAST-MODIFIED:20230414T214807Z
UID:10007086-1837947600-1837954800@ontariocaregiver.ca
SUMMARY:Grief Support Groups (Sydenham\, ON)
DESCRIPTION:We provide emotional support to individuals and families who are wither anticipating a death or experiencing grief due to the loss of a loved one.
URL:https://ontariocaregiver.ca/event/grief-support-groups-sydenham-on/2028-03-29/
LOCATION:Sydenham Library\, 4412 Wheatley St\, Sydenham\, Ontario\, K0H 2T0
ATTACH;FMTTYPE=image/jpeg:https://ontariocaregiver.ca/wp-content/uploads/2024/03/Support-Groups-Caregiver-and-Grief-Sydenham-1-2.jpg
ORGANIZER;CN="Southern Frontenac Community Services":MAILTO:info@sfcsc.ca
END:VEVENT
BEGIN:VEVENT
DTSTART;TZID=America/Toronto:20280329T130000
DTEND;TZID=America/Toronto:20280329T150000
DTSTAMP:20260423T195437
CREATED:20230414T214807Z
LAST-MODIFIED:20230414T214807Z
UID:10061978-1837947600-1837954800@ontariocaregiver.ca
SUMMARY:Grief Support Groups (Sydenham\, ON)
DESCRIPTION:We provide emotional support to individuals and families who are wither anticipating a death or experiencing grief due to the loss of a loved one.
URL:https://ontariocaregiver.ca/event/grief-support-groups-sydenham-on/2028-03-29/
LOCATION:Sydenham Library\, 4412 Wheatley St\, Sydenham\, Ontario\, K0H 2T0
ATTACH;FMTTYPE=image/jpeg:https://ontariocaregiver.ca/wp-content/uploads/2024/03/Support-Groups-Caregiver-and-Grief-Sydenham-1-2.jpg
ORGANIZER;CN="Southern Frontenac Community Services":MAILTO:info@sfcsc.ca
END:VEVENT
BEGIN:VEVENT
DTSTART;TZID=America/Toronto:20280329T130000
DTEND;TZID=America/Toronto:20280329T150000
DTSTAMP:20260423T195437
CREATED:20230414T214807Z
LAST-MODIFIED:20230414T214807Z
UID:10079643-1837947600-1837954800@ontariocaregiver.ca
SUMMARY:Grief Support Groups (Sydenham\, ON)
DESCRIPTION:We provide emotional support to individuals and families who are wither anticipating a death or experiencing grief due to the loss of a loved one.
URL:https://ontariocaregiver.ca/event/grief-support-groups-sydenham-on/2028-03-29/
LOCATION:Sydenham Library\, 4412 Wheatley St\, Sydenham\, Ontario\, K0H 2T0
ATTACH;FMTTYPE=image/jpeg:https://ontariocaregiver.ca/wp-content/uploads/2024/03/Support-Groups-Caregiver-and-Grief-Sydenham-1-2.jpg
ORGANIZER;CN="Southern Frontenac Community Services":MAILTO:info@sfcsc.ca
END:VEVENT
BEGIN:VEVENT
DTSTART;TZID=America/Toronto:20280329T130000
DTEND;TZID=America/Toronto:20280329T150000
DTSTAMP:20260423T195437
CREATED:20230414T214807Z
LAST-MODIFIED:20230414T214807Z
UID:10030559-1837947600-1837954800@ontariocaregiver.ca
SUMMARY:Grief Support Groups (Sydenham\, ON)
DESCRIPTION:We provide emotional support to individuals and families who are wither anticipating a death or experiencing grief due to the loss of a loved one.
URL:https://ontariocaregiver.ca/event/grief-support-groups-sydenham-on/2028-03-29/
LOCATION:Sydenham Library\, 4412 Wheatley St\, Sydenham\, Ontario\, K0H 2T0
ATTACH;FMTTYPE=image/jpeg:https://ontariocaregiver.ca/wp-content/uploads/2024/03/Support-Groups-Caregiver-and-Grief-Sydenham-1-2.jpg
ORGANIZER;CN="Southern Frontenac Community Services":MAILTO:info@sfcsc.ca
END:VEVENT
BEGIN:VEVENT
DTSTART;TZID=America/Toronto:20280329T130000
DTEND;TZID=America/Toronto:20280329T150000
DTSTAMP:20260423T195437
CREATED:20230414T214807Z
LAST-MODIFIED:20230414T214807Z
UID:10048333-1837947600-1837954800@ontariocaregiver.ca
SUMMARY:Grief Support Groups (Sydenham\, ON)
DESCRIPTION:We provide emotional support to individuals and families who are wither anticipating a death or experiencing grief due to the loss of a loved one.
URL:https://ontariocaregiver.ca/event/grief-support-groups-sydenham-on/2028-03-29/
LOCATION:Sydenham Library\, 4412 Wheatley St\, Sydenham\, Ontario\, K0H 2T0
ATTACH;FMTTYPE=image/jpeg:https://ontariocaregiver.ca/wp-content/uploads/2024/03/Support-Groups-Caregiver-and-Grief-Sydenham-1-2.jpg
ORGANIZER;CN="Southern Frontenac Community Services":MAILTO:info@sfcsc.ca
END:VEVENT
BEGIN:VEVENT
DTSTART;TZID=America/Toronto:20280329T130000
DTEND;TZID=America/Toronto:20280329T150000
DTSTAMP:20260423T195437
CREATED:20230414T214807Z
LAST-MODIFIED:20230414T214807Z
UID:10054759-1837947600-1837954800@ontariocaregiver.ca
SUMMARY:Grief Support Groups (Sydenham\, ON)
DESCRIPTION:We provide emotional support to individuals and families who are wither anticipating a death or experiencing grief due to the loss of a loved one.
URL:https://ontariocaregiver.ca/event/grief-support-groups-sydenham-on/2028-03-29/
LOCATION:Sydenham Library\, 4412 Wheatley St\, Sydenham\, Ontario\, K0H 2T0
ATTACH;FMTTYPE=image/jpeg:https://ontariocaregiver.ca/wp-content/uploads/2024/03/Support-Groups-Caregiver-and-Grief-Sydenham-1-2.jpg
ORGANIZER;CN="Southern Frontenac Community Services":MAILTO:info@sfcsc.ca
END:VEVENT
BEGIN:VEVENT
DTSTART;TZID=America/Toronto:20280419T133000
DTEND;TZID=America/Toronto:20280419T150000
DTSTAMP:20260423T195437
CREATED:20230414T214742Z
LAST-MODIFIED:20230414T214742Z
UID:10064370-1839763800-1839769200@ontariocaregiver.ca
SUMMARY:Caregiver Support Group (Sydenham\, ON)
DESCRIPTION:Caregiver Support groups provide people an opportunity to share their thoughts and experiences in a safe\, confidential environment.
URL:https://ontariocaregiver.ca/event/caregiver-support-group-sydenham-on/2028-04-19/
LOCATION:Sydenham Library\, 4412 Wheatley St\, Sydenham\, Ontario\, K0H 2T0
ATTACH;FMTTYPE=image/jpeg:https://ontariocaregiver.ca/wp-content/uploads/2024/03/Support-Groups-Caregiver-and-Grief-Sydenham-3.jpg
ORGANIZER;CN="Southern Frontenac Community Services":MAILTO:info@sfcsc.ca
END:VEVENT
BEGIN:VEVENT
DTSTART;TZID=America/Toronto:20280419T133000
DTEND;TZID=America/Toronto:20280419T150000
DTSTAMP:20260423T195437
CREATED:20230414T214742Z
LAST-MODIFIED:20230414T214742Z
UID:10082036-1839763800-1839769200@ontariocaregiver.ca
SUMMARY:Caregiver Support Group (Sydenham\, ON)
DESCRIPTION:Caregiver Support groups provide people an opportunity to share their thoughts and experiences in a safe\, confidential environment.
URL:https://ontariocaregiver.ca/event/caregiver-support-group-sydenham-on/2028-04-19/
LOCATION:Sydenham Library\, 4412 Wheatley St\, Sydenham\, Ontario\, K0H 2T0
ATTACH;FMTTYPE=image/jpeg:https://ontariocaregiver.ca/wp-content/uploads/2024/03/Support-Groups-Caregiver-and-Grief-Sydenham-3.jpg
ORGANIZER;CN="Southern Frontenac Community Services":MAILTO:info@sfcsc.ca
END:VEVENT
BEGIN:VEVENT
DTSTART;TZID=America/Toronto:20280419T133000
DTEND;TZID=America/Toronto:20280419T150000
DTSTAMP:20260423T195437
CREATED:20230414T214742Z
LAST-MODIFIED:20230414T214742Z
UID:10006844-1839763800-1839769200@ontariocaregiver.ca
SUMMARY:Caregiver Support Group (Sydenham\, ON)
DESCRIPTION:Caregiver Support groups provide people an opportunity to share their thoughts and experiences in a safe\, confidential environment.
URL:https://ontariocaregiver.ca/event/caregiver-support-group-sydenham-on/2028-04-19/
LOCATION:Sydenham Library\, 4412 Wheatley St\, Sydenham\, Ontario\, K0H 2T0
ATTACH;FMTTYPE=image/jpeg:https://ontariocaregiver.ca/wp-content/uploads/2024/03/Support-Groups-Caregiver-and-Grief-Sydenham-3.jpg
ORGANIZER;CN="Southern Frontenac Community Services":MAILTO:info@sfcsc.ca
END:VEVENT
BEGIN:VEVENT
DTSTART;TZID=America/Toronto:20280419T133000
DTEND;TZID=America/Toronto:20280419T150000
DTSTAMP:20260423T195437
CREATED:20230414T214742Z
LAST-MODIFIED:20230414T214742Z
UID:10033025-1839763800-1839769200@ontariocaregiver.ca
SUMMARY:Caregiver Support Group (Sydenham\, ON)
DESCRIPTION:Caregiver Support groups provide people an opportunity to share their thoughts and experiences in a safe\, confidential environment.
URL:https://ontariocaregiver.ca/event/caregiver-support-group-sydenham-on/2028-04-19/
LOCATION:Sydenham Library\, 4412 Wheatley St\, Sydenham\, Ontario\, K0H 2T0
ATTACH;FMTTYPE=image/jpeg:https://ontariocaregiver.ca/wp-content/uploads/2024/03/Support-Groups-Caregiver-and-Grief-Sydenham-3.jpg
ORGANIZER;CN="Southern Frontenac Community Services":MAILTO:info@sfcsc.ca
END:VEVENT
BEGIN:VEVENT
DTSTART;TZID=America/Toronto:20280419T133000
DTEND;TZID=America/Toronto:20280419T150000
DTSTAMP:20260423T195437
CREATED:20230414T214742Z
LAST-MODIFIED:20230414T214742Z
UID:10050725-1839763800-1839769200@ontariocaregiver.ca
SUMMARY:Caregiver Support Group (Sydenham\, ON)
DESCRIPTION:Caregiver Support groups provide people an opportunity to share their thoughts and experiences in a safe\, confidential environment.
URL:https://ontariocaregiver.ca/event/caregiver-support-group-sydenham-on/2028-04-19/
LOCATION:Sydenham Library\, 4412 Wheatley St\, Sydenham\, Ontario\, K0H 2T0
ATTACH;FMTTYPE=image/jpeg:https://ontariocaregiver.ca/wp-content/uploads/2024/03/Support-Groups-Caregiver-and-Grief-Sydenham-3.jpg
ORGANIZER;CN="Southern Frontenac Community Services":MAILTO:info@sfcsc.ca
END:VEVENT
BEGIN:VEVENT
DTSTART;TZID=America/Toronto:20280419T133000
DTEND;TZID=America/Toronto:20280419T150000
DTSTAMP:20260423T195437
CREATED:20230414T214742Z
LAST-MODIFIED:20230414T214742Z
UID:10057158-1839763800-1839769200@ontariocaregiver.ca
SUMMARY:Caregiver Support Group (Sydenham\, ON)
DESCRIPTION:Caregiver Support groups provide people an opportunity to share their thoughts and experiences in a safe\, confidential environment.
URL:https://ontariocaregiver.ca/event/caregiver-support-group-sydenham-on/2028-04-19/
LOCATION:Sydenham Library\, 4412 Wheatley St\, Sydenham\, Ontario\, K0H 2T0
ATTACH;FMTTYPE=image/jpeg:https://ontariocaregiver.ca/wp-content/uploads/2024/03/Support-Groups-Caregiver-and-Grief-Sydenham-3.jpg
ORGANIZER;CN="Southern Frontenac Community Services":MAILTO:info@sfcsc.ca
END:VEVENT
BEGIN:VEVENT
DTSTART;TZID=America/Toronto:20280419T133000
DTEND;TZID=America/Toronto:20280419T150000
DTSTAMP:20260423T195437
CREATED:20230414T214742Z
LAST-MODIFIED:20230414T214742Z
UID:10074827-1839763800-1839769200@ontariocaregiver.ca
SUMMARY:Caregiver Support Group (Sydenham\, ON)
DESCRIPTION:Caregiver Support groups provide people an opportunity to share their thoughts and experiences in a safe\, confidential environment.
URL:https://ontariocaregiver.ca/event/caregiver-support-group-sydenham-on/2028-04-19/
LOCATION:Sydenham Library\, 4412 Wheatley St\, Sydenham\, Ontario\, K0H 2T0
ATTACH;FMTTYPE=image/jpeg:https://ontariocaregiver.ca/wp-content/uploads/2024/03/Support-Groups-Caregiver-and-Grief-Sydenham-3.jpg
ORGANIZER;CN="Southern Frontenac Community Services":MAILTO:info@sfcsc.ca
END:VEVENT
BEGIN:VEVENT
DTSTART;TZID=America/Toronto:20280419T133000
DTEND;TZID=America/Toronto:20280419T150000
DTSTAMP:20260423T195437
CREATED:20230414T214742Z
LAST-MODIFIED:20230414T214742Z
UID:10092454-1839763800-1839769200@ontariocaregiver.ca
SUMMARY:Caregiver Support Group (Sydenham\, ON)
DESCRIPTION:Caregiver Support groups provide people an opportunity to share their thoughts and experiences in a safe\, confidential environment.
URL:https://ontariocaregiver.ca/event/caregiver-support-group-sydenham-on/2028-04-19/
LOCATION:Sydenham Library\, 4412 Wheatley St\, Sydenham\, Ontario\, K0H 2T0
ATTACH;FMTTYPE=image/jpeg:https://ontariocaregiver.ca/wp-content/uploads/2024/03/Support-Groups-Caregiver-and-Grief-Sydenham-3.jpg
ORGANIZER;CN="Southern Frontenac Community Services":MAILTO:info@sfcsc.ca
END:VEVENT
BEGIN:VEVENT
DTSTART;TZID=America/Toronto:20280419T133000
DTEND;TZID=America/Toronto:20280419T150000
DTSTAMP:20260423T195437
CREATED:20230414T214742Z
LAST-MODIFIED:20230414T214742Z
UID:10043516-1839763800-1839769200@ontariocaregiver.ca
SUMMARY:Caregiver Support Group (Sydenham\, ON)
DESCRIPTION:Caregiver Support groups provide people an opportunity to share their thoughts and experiences in a safe\, confidential environment.
URL:https://ontariocaregiver.ca/event/caregiver-support-group-sydenham-on/2028-04-19/
LOCATION:Sydenham Library\, 4412 Wheatley St\, Sydenham\, Ontario\, K0H 2T0
ATTACH;FMTTYPE=image/jpeg:https://ontariocaregiver.ca/wp-content/uploads/2024/03/Support-Groups-Caregiver-and-Grief-Sydenham-3.jpg
ORGANIZER;CN="Southern Frontenac Community Services":MAILTO:info@sfcsc.ca
END:VEVENT
BEGIN:VEVENT
DTSTART;TZID=America/Toronto:20280419T133000
DTEND;TZID=America/Toronto:20280419T150000
DTSTAMP:20260423T195437
CREATED:20230414T214742Z
LAST-MODIFIED:20230414T214742Z
UID:10067581-1839763800-1839769200@ontariocaregiver.ca
SUMMARY:Caregiver Support Group (Sydenham\, ON)
DESCRIPTION:Caregiver Support groups provide people an opportunity to share their thoughts and experiences in a safe\, confidential environment.
URL:https://ontariocaregiver.ca/event/caregiver-support-group-sydenham-on/2028-04-19/
LOCATION:Sydenham Library\, 4412 Wheatley St\, Sydenham\, Ontario\, K0H 2T0
ATTACH;FMTTYPE=image/jpeg:https://ontariocaregiver.ca/wp-content/uploads/2024/03/Support-Groups-Caregiver-and-Grief-Sydenham-3.jpg
ORGANIZER;CN="Southern Frontenac Community Services":MAILTO:info@sfcsc.ca
END:VEVENT
BEGIN:VEVENT
DTSTART;TZID=America/Toronto:20280419T133000
DTEND;TZID=America/Toronto:20280419T150000
DTSTAMP:20260423T195437
CREATED:20230414T214742Z
LAST-MODIFIED:20230414T214742Z
UID:10006807-1839763800-1839769200@ontariocaregiver.ca
SUMMARY:Caregiver Support Group (Sydenham\, ON)
DESCRIPTION:Caregiver Support groups provide people an opportunity to share their thoughts and experiences in a safe\, confidential environment.
URL:https://ontariocaregiver.ca/event/caregiver-support-group-sydenham-on/2028-04-19/
LOCATION:Sydenham Library\, 4412 Wheatley St\, Sydenham\, Ontario\, K0H 2T0
ATTACH;FMTTYPE=image/jpeg:https://ontariocaregiver.ca/wp-content/uploads/2024/03/Support-Groups-Caregiver-and-Grief-Sydenham-3.jpg
ORGANIZER;CN="Southern Frontenac Community Services":MAILTO:info@sfcsc.ca
END:VEVENT
BEGIN:VEVENT
DTSTART;TZID=America/Toronto:20280419T133000
DTEND;TZID=America/Toronto:20280419T150000
DTSTAMP:20260423T195437
CREATED:20230414T214742Z
LAST-MODIFIED:20230414T214742Z
UID:10036297-1839763800-1839769200@ontariocaregiver.ca
SUMMARY:Caregiver Support Group (Sydenham\, ON)
DESCRIPTION:Caregiver Support groups provide people an opportunity to share their thoughts and experiences in a safe\, confidential environment.
URL:https://ontariocaregiver.ca/event/caregiver-support-group-sydenham-on/2028-04-19/
LOCATION:Sydenham Library\, 4412 Wheatley St\, Sydenham\, Ontario\, K0H 2T0
ATTACH;FMTTYPE=image/jpeg:https://ontariocaregiver.ca/wp-content/uploads/2024/03/Support-Groups-Caregiver-and-Grief-Sydenham-3.jpg
ORGANIZER;CN="Southern Frontenac Community Services":MAILTO:info@sfcsc.ca
END:VEVENT
BEGIN:VEVENT
DTSTART;TZID=America/Toronto:20280419T133000
DTEND;TZID=America/Toronto:20280419T150000
DTSTAMP:20260423T195437
CREATED:20230414T214742Z
LAST-MODIFIED:20230414T214742Z
UID:10061157-1839763800-1839769200@ontariocaregiver.ca
SUMMARY:Caregiver Support Group (Sydenham\, ON)
DESCRIPTION:Caregiver Support groups provide people an opportunity to share their thoughts and experiences in a safe\, confidential environment.
URL:https://ontariocaregiver.ca/event/caregiver-support-group-sydenham-on/2028-04-19/
LOCATION:Sydenham Library\, 4412 Wheatley St\, Sydenham\, Ontario\, K0H 2T0
ATTACH;FMTTYPE=image/jpeg:https://ontariocaregiver.ca/wp-content/uploads/2024/03/Support-Groups-Caregiver-and-Grief-Sydenham-3.jpg
ORGANIZER;CN="Southern Frontenac Community Services":MAILTO:info@sfcsc.ca
END:VEVENT
BEGIN:VEVENT
DTSTART;TZID=America/Toronto:20280419T133000
DTEND;TZID=America/Toronto:20280419T150000
DTSTAMP:20260423T195437
CREATED:20230414T214742Z
LAST-MODIFIED:20230414T214742Z
UID:10085250-1839763800-1839769200@ontariocaregiver.ca
SUMMARY:Caregiver Support Group (Sydenham\, ON)
DESCRIPTION:Caregiver Support groups provide people an opportunity to share their thoughts and experiences in a safe\, confidential environment.
URL:https://ontariocaregiver.ca/event/caregiver-support-group-sydenham-on/2028-04-19/
LOCATION:Sydenham Library\, 4412 Wheatley St\, Sydenham\, Ontario\, K0H 2T0
ATTACH;FMTTYPE=image/jpeg:https://ontariocaregiver.ca/wp-content/uploads/2024/03/Support-Groups-Caregiver-and-Grief-Sydenham-3.jpg
ORGANIZER;CN="Southern Frontenac Community Services":MAILTO:info@sfcsc.ca
END:VEVENT
BEGIN:VEVENT
DTSTART;TZID=America/Toronto:20280419T133000
DTEND;TZID=America/Toronto:20280419T150000
DTSTAMP:20260423T195437
CREATED:20230414T214742Z
LAST-MODIFIED:20230414T214742Z
UID:10029682-1839763800-1839769200@ontariocaregiver.ca
SUMMARY:Caregiver Support Group (Sydenham\, ON)
DESCRIPTION:Caregiver Support groups provide people an opportunity to share their thoughts and experiences in a safe\, confidential environment.
URL:https://ontariocaregiver.ca/event/caregiver-support-group-sydenham-on/2028-04-19/
LOCATION:Sydenham Library\, 4412 Wheatley St\, Sydenham\, Ontario\, K0H 2T0
ATTACH;FMTTYPE=image/jpeg:https://ontariocaregiver.ca/wp-content/uploads/2024/03/Support-Groups-Caregiver-and-Grief-Sydenham-3.jpg
ORGANIZER;CN="Southern Frontenac Community Services":MAILTO:info@sfcsc.ca
END:VEVENT
BEGIN:VEVENT
DTSTART;TZID=America/Toronto:20280419T133000
DTEND;TZID=America/Toronto:20280419T150000
DTSTAMP:20260423T195437
CREATED:20230414T214742Z
LAST-MODIFIED:20230414T214742Z
UID:10053938-1839763800-1839769200@ontariocaregiver.ca
SUMMARY:Caregiver Support Group (Sydenham\, ON)
DESCRIPTION:Caregiver Support groups provide people an opportunity to share their thoughts and experiences in a safe\, confidential environment.
URL:https://ontariocaregiver.ca/event/caregiver-support-group-sydenham-on/2028-04-19/
LOCATION:Sydenham Library\, 4412 Wheatley St\, Sydenham\, Ontario\, K0H 2T0
ATTACH;FMTTYPE=image/jpeg:https://ontariocaregiver.ca/wp-content/uploads/2024/03/Support-Groups-Caregiver-and-Grief-Sydenham-3.jpg
ORGANIZER;CN="Southern Frontenac Community Services":MAILTO:info@sfcsc.ca
END:VEVENT
BEGIN:VEVENT
DTSTART;TZID=America/Toronto:20280419T133000
DTEND;TZID=America/Toronto:20280419T150000
DTSTAMP:20260423T195437
CREATED:20230414T214742Z
LAST-MODIFIED:20230414T214742Z
UID:10078038-1839763800-1839769200@ontariocaregiver.ca
SUMMARY:Caregiver Support Group (Sydenham\, ON)
DESCRIPTION:Caregiver Support groups provide people an opportunity to share their thoughts and experiences in a safe\, confidential environment.
URL:https://ontariocaregiver.ca/event/caregiver-support-group-sydenham-on/2028-04-19/
LOCATION:Sydenham Library\, 4412 Wheatley St\, Sydenham\, Ontario\, K0H 2T0
ATTACH;FMTTYPE=image/jpeg:https://ontariocaregiver.ca/wp-content/uploads/2024/03/Support-Groups-Caregiver-and-Grief-Sydenham-3.jpg
ORGANIZER;CN="Southern Frontenac Community Services":MAILTO:info@sfcsc.ca
END:VEVENT
BEGIN:VEVENT
DTSTART;TZID=America/Toronto:20280419T133000
DTEND;TZID=America/Toronto:20280419T150000
DTSTAMP:20260423T195437
CREATED:20230414T214742Z
LAST-MODIFIED:20230414T214742Z
UID:10006607-1839763800-1839769200@ontariocaregiver.ca
SUMMARY:Caregiver Support Group (Sydenham\, ON)
DESCRIPTION:Caregiver Support groups provide people an opportunity to share their thoughts and experiences in a safe\, confidential environment.
URL:https://ontariocaregiver.ca/event/caregiver-support-group-sydenham-on/2028-04-19/
LOCATION:Sydenham Library\, 4412 Wheatley St\, Sydenham\, Ontario\, K0H 2T0
ATTACH;FMTTYPE=image/jpeg:https://ontariocaregiver.ca/wp-content/uploads/2024/03/Support-Groups-Caregiver-and-Grief-Sydenham-3.jpg
ORGANIZER;CN="Southern Frontenac Community Services":MAILTO:info@sfcsc.ca
END:VEVENT
BEGIN:VEVENT
DTSTART;TZID=America/Toronto:20280419T133000
DTEND;TZID=America/Toronto:20280419T150000
DTSTAMP:20260423T195437
CREATED:20230414T214742Z
LAST-MODIFIED:20230414T214742Z
UID:10006769-1839763800-1839769200@ontariocaregiver.ca
SUMMARY:Caregiver Support Group (Sydenham\, ON)
DESCRIPTION:Caregiver Support groups provide people an opportunity to share their thoughts and experiences in a safe\, confidential environment.
URL:https://ontariocaregiver.ca/event/caregiver-support-group-sydenham-on/2028-04-19/
LOCATION:Sydenham Library\, 4412 Wheatley St\, Sydenham\, Ontario\, K0H 2T0
ATTACH;FMTTYPE=image/jpeg:https://ontariocaregiver.ca/wp-content/uploads/2024/03/Support-Groups-Caregiver-and-Grief-Sydenham-3.jpg
ORGANIZER;CN="Southern Frontenac Community Services":MAILTO:info@sfcsc.ca
END:VEVENT
BEGIN:VEVENT
DTSTART;TZID=America/Toronto:20280419T133000
DTEND;TZID=America/Toronto:20280419T150000
DTSTAMP:20260423T195437
CREATED:20230414T214742Z
LAST-MODIFIED:20230414T214742Z
UID:10046728-1839763800-1839769200@ontariocaregiver.ca
SUMMARY:Caregiver Support Group (Sydenham\, ON)
DESCRIPTION:Caregiver Support groups provide people an opportunity to share their thoughts and experiences in a safe\, confidential environment.
URL:https://ontariocaregiver.ca/event/caregiver-support-group-sydenham-on/2028-04-19/
LOCATION:Sydenham Library\, 4412 Wheatley St\, Sydenham\, Ontario\, K0H 2T0
ATTACH;FMTTYPE=image/jpeg:https://ontariocaregiver.ca/wp-content/uploads/2024/03/Support-Groups-Caregiver-and-Grief-Sydenham-3.jpg
ORGANIZER;CN="Southern Frontenac Community Services":MAILTO:info@sfcsc.ca
END:VEVENT
END:VCALENDAR