BEGIN:VCALENDAR
VERSION:2.0
PRODID:-//Ontario Caregiver - ECPv6.15.20//NONSGML v1.0//EN
CALSCALE:GREGORIAN
METHOD:PUBLISH
X-ORIGINAL-URL:https://ontariocaregiver.ca
X-WR-CALDESC:Events for Ontario Caregiver
REFRESH-INTERVAL;VALUE=DURATION:PT1H
X-Robots-Tag:noindex
X-PUBLISHED-TTL:PT1H
BEGIN:VTIMEZONE
TZID:America/Toronto
BEGIN:DAYLIGHT
TZOFFSETFROM:-0500
TZOFFSETTO:-0400
TZNAME:EDT
DTSTART:20270314T070000
END:DAYLIGHT
BEGIN:STANDARD
TZOFFSETFROM:-0400
TZOFFSETTO:-0500
TZNAME:EST
DTSTART:20271107T060000
END:STANDARD
BEGIN:DAYLIGHT
TZOFFSETFROM:-0500
TZOFFSETTO:-0400
TZNAME:EDT
DTSTART:20280312T070000
END:DAYLIGHT
BEGIN:STANDARD
TZOFFSETFROM:-0400
TZOFFSETTO:-0500
TZNAME:EST
DTSTART:20281105T060000
END:STANDARD
BEGIN:DAYLIGHT
TZOFFSETFROM:-0500
TZOFFSETTO:-0400
TZNAME:EDT
DTSTART:20290311T070000
END:DAYLIGHT
BEGIN:STANDARD
TZOFFSETFROM:-0400
TZOFFSETTO:-0500
TZNAME:EST
DTSTART:20291104T060000
END:STANDARD
END:VTIMEZONE
BEGIN:VEVENT
DTSTART;TZID=America/Toronto:20280223T130000
DTEND;TZID=America/Toronto:20280223T150000
DTSTAMP:20260423T123013
CREATED:20230414T214807Z
LAST-MODIFIED:20230414T214807Z
UID:10033844-1834923600-1834930800@ontariocaregiver.ca
SUMMARY:Grief Support Groups (Sydenham\, ON)
DESCRIPTION:We provide emotional support to individuals and families who are wither anticipating a death or experiencing grief due to the loss of a loved one.
URL:https://ontariocaregiver.ca/event/grief-support-groups-sydenham-on/2028-02-23/
LOCATION:Sydenham Library\, 4412 Wheatley St\, Sydenham\, Ontario\, K0H 2T0
ATTACH;FMTTYPE=image/jpeg:https://ontariocaregiver.ca/wp-content/uploads/2024/03/Support-Groups-Caregiver-and-Grief-Sydenham-1-2.jpg
ORGANIZER;CN="Southern Frontenac Community Services":MAILTO:info@sfcsc.ca
END:VEVENT
BEGIN:VEVENT
DTSTART;TZID=America/Toronto:20280223T130000
DTEND;TZID=America/Toronto:20280223T150000
DTSTAMP:20260423T123013
CREATED:20230414T214807Z
LAST-MODIFIED:20230414T214807Z
UID:10058763-1834923600-1834930800@ontariocaregiver.ca
SUMMARY:Grief Support Groups (Sydenham\, ON)
DESCRIPTION:We provide emotional support to individuals and families who are wither anticipating a death or experiencing grief due to the loss of a loved one.
URL:https://ontariocaregiver.ca/event/grief-support-groups-sydenham-on/2028-02-23/
LOCATION:Sydenham Library\, 4412 Wheatley St\, Sydenham\, Ontario\, K0H 2T0
ATTACH;FMTTYPE=image/jpeg:https://ontariocaregiver.ca/wp-content/uploads/2024/03/Support-Groups-Caregiver-and-Grief-Sydenham-1-2.jpg
ORGANIZER;CN="Southern Frontenac Community Services":MAILTO:info@sfcsc.ca
END:VEVENT
BEGIN:VEVENT
DTSTART;TZID=America/Toronto:20280223T130000
DTEND;TZID=America/Toronto:20280223T150000
DTSTAMP:20260423T123013
CREATED:20230414T214807Z
LAST-MODIFIED:20230414T214807Z
UID:10082857-1834923600-1834930800@ontariocaregiver.ca
SUMMARY:Grief Support Groups (Sydenham\, ON)
DESCRIPTION:We provide emotional support to individuals and families who are wither anticipating a death or experiencing grief due to the loss of a loved one.
URL:https://ontariocaregiver.ca/event/grief-support-groups-sydenham-on/2028-02-23/
LOCATION:Sydenham Library\, 4412 Wheatley St\, Sydenham\, Ontario\, K0H 2T0
ATTACH;FMTTYPE=image/jpeg:https://ontariocaregiver.ca/wp-content/uploads/2024/03/Support-Groups-Caregiver-and-Grief-Sydenham-1-2.jpg
ORGANIZER;CN="Southern Frontenac Community Services":MAILTO:info@sfcsc.ca
END:VEVENT
BEGIN:VEVENT
DTSTART;TZID=America/Toronto:20280223T130000
DTEND;TZID=America/Toronto:20280223T150000
DTSTAMP:20260423T123013
CREATED:20230414T214807Z
LAST-MODIFIED:20230414T214807Z
UID:10007122-1834923600-1834930800@ontariocaregiver.ca
SUMMARY:Grief Support Groups (Sydenham\, ON)
DESCRIPTION:We provide emotional support to individuals and families who are wither anticipating a death or experiencing grief due to the loss of a loved one.
URL:https://ontariocaregiver.ca/event/grief-support-groups-sydenham-on/2028-02-23/
LOCATION:Sydenham Library\, 4412 Wheatley St\, Sydenham\, Ontario\, K0H 2T0
ATTACH;FMTTYPE=image/jpeg:https://ontariocaregiver.ca/wp-content/uploads/2024/03/Support-Groups-Caregiver-and-Grief-Sydenham-1-2.jpg
ORGANIZER;CN="Southern Frontenac Community Services":MAILTO:info@sfcsc.ca
END:VEVENT
BEGIN:VEVENT
DTSTART;TZID=America/Toronto:20280223T130000
DTEND;TZID=America/Toronto:20280223T150000
DTSTAMP:20260423T123013
CREATED:20230414T214807Z
LAST-MODIFIED:20230414T214807Z
UID:10051545-1834923600-1834930800@ontariocaregiver.ca
SUMMARY:Grief Support Groups (Sydenham\, ON)
DESCRIPTION:We provide emotional support to individuals and families who are wither anticipating a death or experiencing grief due to the loss of a loved one.
URL:https://ontariocaregiver.ca/event/grief-support-groups-sydenham-on/2028-02-23/
LOCATION:Sydenham Library\, 4412 Wheatley St\, Sydenham\, Ontario\, K0H 2T0
ATTACH;FMTTYPE=image/jpeg:https://ontariocaregiver.ca/wp-content/uploads/2024/03/Support-Groups-Caregiver-and-Grief-Sydenham-1-2.jpg
ORGANIZER;CN="Southern Frontenac Community Services":MAILTO:info@sfcsc.ca
END:VEVENT
BEGIN:VEVENT
DTSTART;TZID=America/Toronto:20280223T130000
DTEND;TZID=America/Toronto:20280223T150000
DTSTAMP:20260423T123013
CREATED:20230414T214807Z
LAST-MODIFIED:20230414T214807Z
UID:10075646-1834923600-1834930800@ontariocaregiver.ca
SUMMARY:Grief Support Groups (Sydenham\, ON)
DESCRIPTION:We provide emotional support to individuals and families who are wither anticipating a death or experiencing grief due to the loss of a loved one.
URL:https://ontariocaregiver.ca/event/grief-support-groups-sydenham-on/2028-02-23/
LOCATION:Sydenham Library\, 4412 Wheatley St\, Sydenham\, Ontario\, K0H 2T0
ATTACH;FMTTYPE=image/jpeg:https://ontariocaregiver.ca/wp-content/uploads/2024/03/Support-Groups-Caregiver-and-Grief-Sydenham-1-2.jpg
ORGANIZER;CN="Southern Frontenac Community Services":MAILTO:info@sfcsc.ca
END:VEVENT
BEGIN:VEVENT
DTSTART;TZID=America/Toronto:20280223T130000
DTEND;TZID=America/Toronto:20280223T150000
DTSTAMP:20260423T123013
CREATED:20230414T214807Z
LAST-MODIFIED:20230414T214807Z
UID:10044335-1834923600-1834930800@ontariocaregiver.ca
SUMMARY:Grief Support Groups (Sydenham\, ON)
DESCRIPTION:We provide emotional support to individuals and families who are wither anticipating a death or experiencing grief due to the loss of a loved one.
URL:https://ontariocaregiver.ca/event/grief-support-groups-sydenham-on/2028-02-23/
LOCATION:Sydenham Library\, 4412 Wheatley St\, Sydenham\, Ontario\, K0H 2T0
ATTACH;FMTTYPE=image/jpeg:https://ontariocaregiver.ca/wp-content/uploads/2024/03/Support-Groups-Caregiver-and-Grief-Sydenham-1-2.jpg
ORGANIZER;CN="Southern Frontenac Community Services":MAILTO:info@sfcsc.ca
END:VEVENT
BEGIN:VEVENT
DTSTART;TZID=America/Toronto:20280223T130000
DTEND;TZID=America/Toronto:20280223T150000
DTSTAMP:20260423T123013
CREATED:20230414T214807Z
LAST-MODIFIED:20230414T214807Z
UID:10069214-1834923600-1834930800@ontariocaregiver.ca
SUMMARY:Grief Support Groups (Sydenham\, ON)
DESCRIPTION:We provide emotional support to individuals and families who are wither anticipating a death or experiencing grief due to the loss of a loved one.
URL:https://ontariocaregiver.ca/event/grief-support-groups-sydenham-on/2028-02-23/
LOCATION:Sydenham Library\, 4412 Wheatley St\, Sydenham\, Ontario\, K0H 2T0
ATTACH;FMTTYPE=image/jpeg:https://ontariocaregiver.ca/wp-content/uploads/2024/03/Support-Groups-Caregiver-and-Grief-Sydenham-1-2.jpg
ORGANIZER;CN="Southern Frontenac Community Services":MAILTO:info@sfcsc.ca
END:VEVENT
BEGIN:VEVENT
DTSTART;TZID=America/Toronto:20280223T130000
DTEND;TZID=America/Toronto:20280223T150000
DTSTAMP:20260423T123013
CREATED:20230414T214807Z
LAST-MODIFIED:20230414T214807Z
UID:10037910-1834923600-1834930800@ontariocaregiver.ca
SUMMARY:Grief Support Groups (Sydenham\, ON)
DESCRIPTION:We provide emotional support to individuals and families who are wither anticipating a death or experiencing grief due to the loss of a loved one.
URL:https://ontariocaregiver.ca/event/grief-support-groups-sydenham-on/2028-02-23/
LOCATION:Sydenham Library\, 4412 Wheatley St\, Sydenham\, Ontario\, K0H 2T0
ATTACH;FMTTYPE=image/jpeg:https://ontariocaregiver.ca/wp-content/uploads/2024/03/Support-Groups-Caregiver-and-Grief-Sydenham-1-2.jpg
ORGANIZER;CN="Southern Frontenac Community Services":MAILTO:info@sfcsc.ca
END:VEVENT
BEGIN:VEVENT
DTSTART;TZID=America/Toronto:20280223T130000
DTEND;TZID=America/Toronto:20280223T150000
DTSTAMP:20260423T123013
CREATED:20230414T214807Z
LAST-MODIFIED:20230414T214807Z
UID:10086069-1834923600-1834930800@ontariocaregiver.ca
SUMMARY:Grief Support Groups (Sydenham\, ON)
DESCRIPTION:We provide emotional support to individuals and families who are wither anticipating a death or experiencing grief due to the loss of a loved one.
URL:https://ontariocaregiver.ca/event/grief-support-groups-sydenham-on/2028-02-23/
LOCATION:Sydenham Library\, 4412 Wheatley St\, Sydenham\, Ontario\, K0H 2T0
ATTACH;FMTTYPE=image/jpeg:https://ontariocaregiver.ca/wp-content/uploads/2024/03/Support-Groups-Caregiver-and-Grief-Sydenham-1-2.jpg
ORGANIZER;CN="Southern Frontenac Community Services":MAILTO:info@sfcsc.ca
END:VEVENT
BEGIN:VEVENT
DTSTART;TZID=America/Toronto:20280223T130000
DTEND;TZID=America/Toronto:20280223T150000
DTSTAMP:20260423T123013
CREATED:20230414T214807Z
LAST-MODIFIED:20230414T214807Z
UID:10006885-1834923600-1834930800@ontariocaregiver.ca
SUMMARY:Grief Support Groups (Sydenham\, ON)
DESCRIPTION:We provide emotional support to individuals and families who are wither anticipating a death or experiencing grief due to the loss of a loved one.
URL:https://ontariocaregiver.ca/event/grief-support-groups-sydenham-on/2028-02-23/
LOCATION:Sydenham Library\, 4412 Wheatley St\, Sydenham\, Ontario\, K0H 2T0
ATTACH;FMTTYPE=image/jpeg:https://ontariocaregiver.ca/wp-content/uploads/2024/03/Support-Groups-Caregiver-and-Grief-Sydenham-1-2.jpg
ORGANIZER;CN="Southern Frontenac Community Services":MAILTO:info@sfcsc.ca
END:VEVENT
BEGIN:VEVENT
DTSTART;TZID=America/Toronto:20280223T130000
DTEND;TZID=America/Toronto:20280223T150000
DTSTAMP:20260423T123013
CREATED:20230414T214807Z
LAST-MODIFIED:20230414T214807Z
UID:10007085-1834923600-1834930800@ontariocaregiver.ca
SUMMARY:Grief Support Groups (Sydenham\, ON)
DESCRIPTION:We provide emotional support to individuals and families who are wither anticipating a death or experiencing grief due to the loss of a loved one.
URL:https://ontariocaregiver.ca/event/grief-support-groups-sydenham-on/2028-02-23/
LOCATION:Sydenham Library\, 4412 Wheatley St\, Sydenham\, Ontario\, K0H 2T0
ATTACH;FMTTYPE=image/jpeg:https://ontariocaregiver.ca/wp-content/uploads/2024/03/Support-Groups-Caregiver-and-Grief-Sydenham-1-2.jpg
ORGANIZER;CN="Southern Frontenac Community Services":MAILTO:info@sfcsc.ca
END:VEVENT
BEGIN:VEVENT
DTSTART;TZID=America/Toronto:20280223T130000
DTEND;TZID=America/Toronto:20280223T150000
DTSTAMP:20260423T123013
CREATED:20230414T214807Z
LAST-MODIFIED:20230414T214807Z
UID:10061977-1834923600-1834930800@ontariocaregiver.ca
SUMMARY:Grief Support Groups (Sydenham\, ON)
DESCRIPTION:We provide emotional support to individuals and families who are wither anticipating a death or experiencing grief due to the loss of a loved one.
URL:https://ontariocaregiver.ca/event/grief-support-groups-sydenham-on/2028-02-23/
LOCATION:Sydenham Library\, 4412 Wheatley St\, Sydenham\, Ontario\, K0H 2T0
ATTACH;FMTTYPE=image/jpeg:https://ontariocaregiver.ca/wp-content/uploads/2024/03/Support-Groups-Caregiver-and-Grief-Sydenham-1-2.jpg
ORGANIZER;CN="Southern Frontenac Community Services":MAILTO:info@sfcsc.ca
END:VEVENT
BEGIN:VEVENT
DTSTART;TZID=America/Toronto:20280223T130000
DTEND;TZID=America/Toronto:20280223T150000
DTSTAMP:20260423T123013
CREATED:20230414T214807Z
LAST-MODIFIED:20230414T214807Z
UID:10079642-1834923600-1834930800@ontariocaregiver.ca
SUMMARY:Grief Support Groups (Sydenham\, ON)
DESCRIPTION:We provide emotional support to individuals and families who are wither anticipating a death or experiencing grief due to the loss of a loved one.
URL:https://ontariocaregiver.ca/event/grief-support-groups-sydenham-on/2028-02-23/
LOCATION:Sydenham Library\, 4412 Wheatley St\, Sydenham\, Ontario\, K0H 2T0
ATTACH;FMTTYPE=image/jpeg:https://ontariocaregiver.ca/wp-content/uploads/2024/03/Support-Groups-Caregiver-and-Grief-Sydenham-1-2.jpg
ORGANIZER;CN="Southern Frontenac Community Services":MAILTO:info@sfcsc.ca
END:VEVENT
BEGIN:VEVENT
DTSTART;TZID=America/Toronto:20280223T130000
DTEND;TZID=America/Toronto:20280223T150000
DTSTAMP:20260423T123013
CREATED:20230414T214807Z
LAST-MODIFIED:20230414T214807Z
UID:10030558-1834923600-1834930800@ontariocaregiver.ca
SUMMARY:Grief Support Groups (Sydenham\, ON)
DESCRIPTION:We provide emotional support to individuals and families who are wither anticipating a death or experiencing grief due to the loss of a loved one.
URL:https://ontariocaregiver.ca/event/grief-support-groups-sydenham-on/2028-02-23/
LOCATION:Sydenham Library\, 4412 Wheatley St\, Sydenham\, Ontario\, K0H 2T0
ATTACH;FMTTYPE=image/jpeg:https://ontariocaregiver.ca/wp-content/uploads/2024/03/Support-Groups-Caregiver-and-Grief-Sydenham-1-2.jpg
ORGANIZER;CN="Southern Frontenac Community Services":MAILTO:info@sfcsc.ca
END:VEVENT
BEGIN:VEVENT
DTSTART;TZID=America/Toronto:20280223T130000
DTEND;TZID=America/Toronto:20280223T150000
DTSTAMP:20260423T123013
CREATED:20230414T214807Z
LAST-MODIFIED:20230414T214807Z
UID:10048332-1834923600-1834930800@ontariocaregiver.ca
SUMMARY:Grief Support Groups (Sydenham\, ON)
DESCRIPTION:We provide emotional support to individuals and families who are wither anticipating a death or experiencing grief due to the loss of a loved one.
URL:https://ontariocaregiver.ca/event/grief-support-groups-sydenham-on/2028-02-23/
LOCATION:Sydenham Library\, 4412 Wheatley St\, Sydenham\, Ontario\, K0H 2T0
ATTACH;FMTTYPE=image/jpeg:https://ontariocaregiver.ca/wp-content/uploads/2024/03/Support-Groups-Caregiver-and-Grief-Sydenham-1-2.jpg
ORGANIZER;CN="Southern Frontenac Community Services":MAILTO:info@sfcsc.ca
END:VEVENT
BEGIN:VEVENT
DTSTART;TZID=America/Toronto:20280223T130000
DTEND;TZID=America/Toronto:20280223T150000
DTSTAMP:20260423T123013
CREATED:20230414T214807Z
LAST-MODIFIED:20230414T214807Z
UID:10054758-1834923600-1834930800@ontariocaregiver.ca
SUMMARY:Grief Support Groups (Sydenham\, ON)
DESCRIPTION:We provide emotional support to individuals and families who are wither anticipating a death or experiencing grief due to the loss of a loved one.
URL:https://ontariocaregiver.ca/event/grief-support-groups-sydenham-on/2028-02-23/
LOCATION:Sydenham Library\, 4412 Wheatley St\, Sydenham\, Ontario\, K0H 2T0
ATTACH;FMTTYPE=image/jpeg:https://ontariocaregiver.ca/wp-content/uploads/2024/03/Support-Groups-Caregiver-and-Grief-Sydenham-1-2.jpg
ORGANIZER;CN="Southern Frontenac Community Services":MAILTO:info@sfcsc.ca
END:VEVENT
BEGIN:VEVENT
DTSTART;TZID=America/Toronto:20280223T130000
DTEND;TZID=America/Toronto:20280223T150000
DTSTAMP:20260423T123013
CREATED:20230414T214807Z
LAST-MODIFIED:20230414T214807Z
UID:10006927-1834923600-1834930800@ontariocaregiver.ca
SUMMARY:Grief Support Groups (Sydenham\, ON)
DESCRIPTION:We provide emotional support to individuals and families who are wither anticipating a death or experiencing grief due to the loss of a loved one.
URL:https://ontariocaregiver.ca/event/grief-support-groups-sydenham-on/2028-02-23/
LOCATION:Sydenham Library\, 4412 Wheatley St\, Sydenham\, Ontario\, K0H 2T0
ATTACH;FMTTYPE=image/jpeg:https://ontariocaregiver.ca/wp-content/uploads/2024/03/Support-Groups-Caregiver-and-Grief-Sydenham-1-2.jpg
ORGANIZER;CN="Southern Frontenac Community Services":MAILTO:info@sfcsc.ca
END:VEVENT
BEGIN:VEVENT
DTSTART;TZID=America/Toronto:20280223T130000
DTEND;TZID=America/Toronto:20280223T150000
DTSTAMP:20260423T123013
CREATED:20230414T214807Z
LAST-MODIFIED:20230414T214807Z
UID:10007047-1834923600-1834930800@ontariocaregiver.ca
SUMMARY:Grief Support Groups (Sydenham\, ON)
DESCRIPTION:We provide emotional support to individuals and families who are wither anticipating a death or experiencing grief due to the loss of a loved one.
URL:https://ontariocaregiver.ca/event/grief-support-groups-sydenham-on/2028-02-23/
LOCATION:Sydenham Library\, 4412 Wheatley St\, Sydenham\, Ontario\, K0H 2T0
ATTACH;FMTTYPE=image/jpeg:https://ontariocaregiver.ca/wp-content/uploads/2024/03/Support-Groups-Caregiver-and-Grief-Sydenham-1-2.jpg
ORGANIZER;CN="Southern Frontenac Community Services":MAILTO:info@sfcsc.ca
END:VEVENT
BEGIN:VEVENT
DTSTART;TZID=America/Toronto:20280223T130000
DTEND;TZID=America/Toronto:20280223T150000
DTSTAMP:20260423T123013
CREATED:20230414T214807Z
LAST-MODIFIED:20230414T214807Z
UID:10072427-1834923600-1834930800@ontariocaregiver.ca
SUMMARY:Grief Support Groups (Sydenham\, ON)
DESCRIPTION:We provide emotional support to individuals and families who are wither anticipating a death or experiencing grief due to the loss of a loved one.
URL:https://ontariocaregiver.ca/event/grief-support-groups-sydenham-on/2028-02-23/
LOCATION:Sydenham Library\, 4412 Wheatley St\, Sydenham\, Ontario\, K0H 2T0
ATTACH;FMTTYPE=image/jpeg:https://ontariocaregiver.ca/wp-content/uploads/2024/03/Support-Groups-Caregiver-and-Grief-Sydenham-1-2.jpg
ORGANIZER;CN="Southern Frontenac Community Services":MAILTO:info@sfcsc.ca
END:VEVENT
BEGIN:VEVENT
DTSTART;TZID=America/Toronto:20280315T133000
DTEND;TZID=America/Toronto:20280315T150000
DTSTAMP:20260423T123013
CREATED:20230414T214742Z
LAST-MODIFIED:20230414T214742Z
UID:10006843-1836739800-1836745200@ontariocaregiver.ca
SUMMARY:Caregiver Support Group (Sydenham\, ON)
DESCRIPTION:Caregiver Support groups provide people an opportunity to share their thoughts and experiences in a safe\, confidential environment.
URL:https://ontariocaregiver.ca/event/caregiver-support-group-sydenham-on/2028-03-15/
LOCATION:Sydenham Library\, 4412 Wheatley St\, Sydenham\, Ontario\, K0H 2T0
ATTACH;FMTTYPE=image/jpeg:https://ontariocaregiver.ca/wp-content/uploads/2024/03/Support-Groups-Caregiver-and-Grief-Sydenham-3.jpg
ORGANIZER;CN="Southern Frontenac Community Services":MAILTO:info@sfcsc.ca
END:VEVENT
BEGIN:VEVENT
DTSTART;TZID=America/Toronto:20280315T133000
DTEND;TZID=America/Toronto:20280315T150000
DTSTAMP:20260423T123013
CREATED:20230414T214742Z
LAST-MODIFIED:20230414T214742Z
UID:10033024-1836739800-1836745200@ontariocaregiver.ca
SUMMARY:Caregiver Support Group (Sydenham\, ON)
DESCRIPTION:Caregiver Support groups provide people an opportunity to share their thoughts and experiences in a safe\, confidential environment.
URL:https://ontariocaregiver.ca/event/caregiver-support-group-sydenham-on/2028-03-15/
LOCATION:Sydenham Library\, 4412 Wheatley St\, Sydenham\, Ontario\, K0H 2T0
ATTACH;FMTTYPE=image/jpeg:https://ontariocaregiver.ca/wp-content/uploads/2024/03/Support-Groups-Caregiver-and-Grief-Sydenham-3.jpg
ORGANIZER;CN="Southern Frontenac Community Services":MAILTO:info@sfcsc.ca
END:VEVENT
BEGIN:VEVENT
DTSTART;TZID=America/Toronto:20280315T133000
DTEND;TZID=America/Toronto:20280315T150000
DTSTAMP:20260423T123013
CREATED:20230414T214742Z
LAST-MODIFIED:20230414T214742Z
UID:10050724-1836739800-1836745200@ontariocaregiver.ca
SUMMARY:Caregiver Support Group (Sydenham\, ON)
DESCRIPTION:Caregiver Support groups provide people an opportunity to share their thoughts and experiences in a safe\, confidential environment.
URL:https://ontariocaregiver.ca/event/caregiver-support-group-sydenham-on/2028-03-15/
LOCATION:Sydenham Library\, 4412 Wheatley St\, Sydenham\, Ontario\, K0H 2T0
ATTACH;FMTTYPE=image/jpeg:https://ontariocaregiver.ca/wp-content/uploads/2024/03/Support-Groups-Caregiver-and-Grief-Sydenham-3.jpg
ORGANIZER;CN="Southern Frontenac Community Services":MAILTO:info@sfcsc.ca
END:VEVENT
BEGIN:VEVENT
DTSTART;TZID=America/Toronto:20280315T133000
DTEND;TZID=America/Toronto:20280315T150000
DTSTAMP:20260423T123013
CREATED:20230414T214742Z
LAST-MODIFIED:20230414T214742Z
UID:10057157-1836739800-1836745200@ontariocaregiver.ca
SUMMARY:Caregiver Support Group (Sydenham\, ON)
DESCRIPTION:Caregiver Support groups provide people an opportunity to share their thoughts and experiences in a safe\, confidential environment.
URL:https://ontariocaregiver.ca/event/caregiver-support-group-sydenham-on/2028-03-15/
LOCATION:Sydenham Library\, 4412 Wheatley St\, Sydenham\, Ontario\, K0H 2T0
ATTACH;FMTTYPE=image/jpeg:https://ontariocaregiver.ca/wp-content/uploads/2024/03/Support-Groups-Caregiver-and-Grief-Sydenham-3.jpg
ORGANIZER;CN="Southern Frontenac Community Services":MAILTO:info@sfcsc.ca
END:VEVENT
BEGIN:VEVENT
DTSTART;TZID=America/Toronto:20280315T133000
DTEND;TZID=America/Toronto:20280315T150000
DTSTAMP:20260423T123013
CREATED:20230414T214742Z
LAST-MODIFIED:20230414T214742Z
UID:10074826-1836739800-1836745200@ontariocaregiver.ca
SUMMARY:Caregiver Support Group (Sydenham\, ON)
DESCRIPTION:Caregiver Support groups provide people an opportunity to share their thoughts and experiences in a safe\, confidential environment.
URL:https://ontariocaregiver.ca/event/caregiver-support-group-sydenham-on/2028-03-15/
LOCATION:Sydenham Library\, 4412 Wheatley St\, Sydenham\, Ontario\, K0H 2T0
ATTACH;FMTTYPE=image/jpeg:https://ontariocaregiver.ca/wp-content/uploads/2024/03/Support-Groups-Caregiver-and-Grief-Sydenham-3.jpg
ORGANIZER;CN="Southern Frontenac Community Services":MAILTO:info@sfcsc.ca
END:VEVENT
BEGIN:VEVENT
DTSTART;TZID=America/Toronto:20280315T133000
DTEND;TZID=America/Toronto:20280315T150000
DTSTAMP:20260423T123013
CREATED:20230414T214742Z
LAST-MODIFIED:20230414T214742Z
UID:10043515-1836739800-1836745200@ontariocaregiver.ca
SUMMARY:Caregiver Support Group (Sydenham\, ON)
DESCRIPTION:Caregiver Support groups provide people an opportunity to share their thoughts and experiences in a safe\, confidential environment.
URL:https://ontariocaregiver.ca/event/caregiver-support-group-sydenham-on/2028-03-15/
LOCATION:Sydenham Library\, 4412 Wheatley St\, Sydenham\, Ontario\, K0H 2T0
ATTACH;FMTTYPE=image/jpeg:https://ontariocaregiver.ca/wp-content/uploads/2024/03/Support-Groups-Caregiver-and-Grief-Sydenham-3.jpg
ORGANIZER;CN="Southern Frontenac Community Services":MAILTO:info@sfcsc.ca
END:VEVENT
BEGIN:VEVENT
DTSTART;TZID=America/Toronto:20280315T133000
DTEND;TZID=America/Toronto:20280315T150000
DTSTAMP:20260423T123013
CREATED:20230414T214742Z
LAST-MODIFIED:20230414T214742Z
UID:10067580-1836739800-1836745200@ontariocaregiver.ca
SUMMARY:Caregiver Support Group (Sydenham\, ON)
DESCRIPTION:Caregiver Support groups provide people an opportunity to share their thoughts and experiences in a safe\, confidential environment.
URL:https://ontariocaregiver.ca/event/caregiver-support-group-sydenham-on/2028-03-15/
LOCATION:Sydenham Library\, 4412 Wheatley St\, Sydenham\, Ontario\, K0H 2T0
ATTACH;FMTTYPE=image/jpeg:https://ontariocaregiver.ca/wp-content/uploads/2024/03/Support-Groups-Caregiver-and-Grief-Sydenham-3.jpg
ORGANIZER;CN="Southern Frontenac Community Services":MAILTO:info@sfcsc.ca
END:VEVENT
BEGIN:VEVENT
DTSTART;TZID=America/Toronto:20280315T133000
DTEND;TZID=America/Toronto:20280315T150000
DTSTAMP:20260423T123013
CREATED:20230414T214742Z
LAST-MODIFIED:20230414T214742Z
UID:10006806-1836739800-1836745200@ontariocaregiver.ca
SUMMARY:Caregiver Support Group (Sydenham\, ON)
DESCRIPTION:Caregiver Support groups provide people an opportunity to share their thoughts and experiences in a safe\, confidential environment.
URL:https://ontariocaregiver.ca/event/caregiver-support-group-sydenham-on/2028-03-15/
LOCATION:Sydenham Library\, 4412 Wheatley St\, Sydenham\, Ontario\, K0H 2T0
ATTACH;FMTTYPE=image/jpeg:https://ontariocaregiver.ca/wp-content/uploads/2024/03/Support-Groups-Caregiver-and-Grief-Sydenham-3.jpg
ORGANIZER;CN="Southern Frontenac Community Services":MAILTO:info@sfcsc.ca
END:VEVENT
BEGIN:VEVENT
DTSTART;TZID=America/Toronto:20280315T133000
DTEND;TZID=America/Toronto:20280315T150000
DTSTAMP:20260423T123013
CREATED:20230414T214742Z
LAST-MODIFIED:20230414T214742Z
UID:10036296-1836739800-1836745200@ontariocaregiver.ca
SUMMARY:Caregiver Support Group (Sydenham\, ON)
DESCRIPTION:Caregiver Support groups provide people an opportunity to share their thoughts and experiences in a safe\, confidential environment.
URL:https://ontariocaregiver.ca/event/caregiver-support-group-sydenham-on/2028-03-15/
LOCATION:Sydenham Library\, 4412 Wheatley St\, Sydenham\, Ontario\, K0H 2T0
ATTACH;FMTTYPE=image/jpeg:https://ontariocaregiver.ca/wp-content/uploads/2024/03/Support-Groups-Caregiver-and-Grief-Sydenham-3.jpg
ORGANIZER;CN="Southern Frontenac Community Services":MAILTO:info@sfcsc.ca
END:VEVENT
BEGIN:VEVENT
DTSTART;TZID=America/Toronto:20280315T133000
DTEND;TZID=America/Toronto:20280315T150000
DTSTAMP:20260423T123013
CREATED:20230414T214742Z
LAST-MODIFIED:20230414T214742Z
UID:10061156-1836739800-1836745200@ontariocaregiver.ca
SUMMARY:Caregiver Support Group (Sydenham\, ON)
DESCRIPTION:Caregiver Support groups provide people an opportunity to share their thoughts and experiences in a safe\, confidential environment.
URL:https://ontariocaregiver.ca/event/caregiver-support-group-sydenham-on/2028-03-15/
LOCATION:Sydenham Library\, 4412 Wheatley St\, Sydenham\, Ontario\, K0H 2T0
ATTACH;FMTTYPE=image/jpeg:https://ontariocaregiver.ca/wp-content/uploads/2024/03/Support-Groups-Caregiver-and-Grief-Sydenham-3.jpg
ORGANIZER;CN="Southern Frontenac Community Services":MAILTO:info@sfcsc.ca
END:VEVENT
END:VCALENDAR