BEGIN:VCALENDAR
VERSION:2.0
PRODID:-//Ontario Caregiver - ECPv6.15.20//NONSGML v1.0//EN
CALSCALE:GREGORIAN
METHOD:PUBLISH
X-WR-CALNAME:Ontario Caregiver
X-ORIGINAL-URL:https://ontariocaregiver.ca
X-WR-CALDESC:Events for Ontario Caregiver
REFRESH-INTERVAL;VALUE=DURATION:PT1H
X-Robots-Tag:noindex
X-PUBLISHED-TTL:PT1H
BEGIN:VTIMEZONE
TZID:America/Toronto
BEGIN:DAYLIGHT
TZOFFSETFROM:-0500
TZOFFSETTO:-0400
TZNAME:EDT
DTSTART:20260308T070000
END:DAYLIGHT
BEGIN:STANDARD
TZOFFSETFROM:-0400
TZOFFSETTO:-0500
TZNAME:EST
DTSTART:20261101T060000
END:STANDARD
BEGIN:DAYLIGHT
TZOFFSETFROM:-0500
TZOFFSETTO:-0400
TZNAME:EDT
DTSTART:20270314T070000
END:DAYLIGHT
BEGIN:STANDARD
TZOFFSETFROM:-0400
TZOFFSETTO:-0500
TZNAME:EST
DTSTART:20271107T060000
END:STANDARD
BEGIN:DAYLIGHT
TZOFFSETFROM:-0500
TZOFFSETTO:-0400
TZNAME:EDT
DTSTART:20280312T070000
END:DAYLIGHT
BEGIN:STANDARD
TZOFFSETFROM:-0400
TZOFFSETTO:-0500
TZNAME:EST
DTSTART:20281105T060000
END:STANDARD
END:VTIMEZONE
BEGIN:VEVENT
DTSTART;TZID=America/Toronto:20271020T133000
DTEND;TZID=America/Toronto:20271020T150000
DTSTAMP:20260422T124714
CREATED:20230414T214742Z
LAST-MODIFIED:20230414T214742Z
UID:10006838-1824039000-1824044400@ontariocaregiver.ca
SUMMARY:Caregiver Support Group (Sydenham\, ON)
DESCRIPTION:Caregiver Support groups provide people an opportunity to share their thoughts and experiences in a safe\, confidential environment.
URL:https://ontariocaregiver.ca/event/caregiver-support-group-sydenham-on/2027-10-20/
LOCATION:Sydenham Library\, 4412 Wheatley St\, Sydenham\, Ontario\, K0H 2T0
ATTACH;FMTTYPE=image/jpeg:https://ontariocaregiver.ca/wp-content/uploads/2024/03/Support-Groups-Caregiver-and-Grief-Sydenham-3.jpg
ORGANIZER;CN="Southern Frontenac Community Services":MAILTO:info@sfcsc.ca
END:VEVENT
BEGIN:VEVENT
DTSTART;TZID=America/Toronto:20271020T133000
DTEND;TZID=America/Toronto:20271020T150000
DTSTAMP:20260422T124714
CREATED:20230414T214742Z
LAST-MODIFIED:20230414T214742Z
UID:10033019-1824039000-1824044400@ontariocaregiver.ca
SUMMARY:Caregiver Support Group (Sydenham\, ON)
DESCRIPTION:Caregiver Support groups provide people an opportunity to share their thoughts and experiences in a safe\, confidential environment.
URL:https://ontariocaregiver.ca/event/caregiver-support-group-sydenham-on/2027-10-20/
LOCATION:Sydenham Library\, 4412 Wheatley St\, Sydenham\, Ontario\, K0H 2T0
ATTACH;FMTTYPE=image/jpeg:https://ontariocaregiver.ca/wp-content/uploads/2024/03/Support-Groups-Caregiver-and-Grief-Sydenham-3.jpg
ORGANIZER;CN="Southern Frontenac Community Services":MAILTO:info@sfcsc.ca
END:VEVENT
BEGIN:VEVENT
DTSTART;TZID=America/Toronto:20271020T133000
DTEND;TZID=America/Toronto:20271020T150000
DTSTAMP:20260422T124714
CREATED:20230414T214742Z
LAST-MODIFIED:20230414T214742Z
UID:10050719-1824039000-1824044400@ontariocaregiver.ca
SUMMARY:Caregiver Support Group (Sydenham\, ON)
DESCRIPTION:Caregiver Support groups provide people an opportunity to share their thoughts and experiences in a safe\, confidential environment.
URL:https://ontariocaregiver.ca/event/caregiver-support-group-sydenham-on/2027-10-20/
LOCATION:Sydenham Library\, 4412 Wheatley St\, Sydenham\, Ontario\, K0H 2T0
ATTACH;FMTTYPE=image/jpeg:https://ontariocaregiver.ca/wp-content/uploads/2024/03/Support-Groups-Caregiver-and-Grief-Sydenham-3.jpg
ORGANIZER;CN="Southern Frontenac Community Services":MAILTO:info@sfcsc.ca
END:VEVENT
BEGIN:VEVENT
DTSTART;TZID=America/Toronto:20271020T133000
DTEND;TZID=America/Toronto:20271020T150000
DTSTAMP:20260422T124714
CREATED:20230414T214742Z
LAST-MODIFIED:20230414T214742Z
UID:10057152-1824039000-1824044400@ontariocaregiver.ca
SUMMARY:Caregiver Support Group (Sydenham\, ON)
DESCRIPTION:Caregiver Support groups provide people an opportunity to share their thoughts and experiences in a safe\, confidential environment.
URL:https://ontariocaregiver.ca/event/caregiver-support-group-sydenham-on/2027-10-20/
LOCATION:Sydenham Library\, 4412 Wheatley St\, Sydenham\, Ontario\, K0H 2T0
ATTACH;FMTTYPE=image/jpeg:https://ontariocaregiver.ca/wp-content/uploads/2024/03/Support-Groups-Caregiver-and-Grief-Sydenham-3.jpg
ORGANIZER;CN="Southern Frontenac Community Services":MAILTO:info@sfcsc.ca
END:VEVENT
BEGIN:VEVENT
DTSTART;TZID=America/Toronto:20271020T133000
DTEND;TZID=America/Toronto:20271020T150000
DTSTAMP:20260422T124714
CREATED:20230414T214742Z
LAST-MODIFIED:20230414T214742Z
UID:10043510-1824039000-1824044400@ontariocaregiver.ca
SUMMARY:Caregiver Support Group (Sydenham\, ON)
DESCRIPTION:Caregiver Support groups provide people an opportunity to share their thoughts and experiences in a safe\, confidential environment.
URL:https://ontariocaregiver.ca/event/caregiver-support-group-sydenham-on/2027-10-20/
LOCATION:Sydenham Library\, 4412 Wheatley St\, Sydenham\, Ontario\, K0H 2T0
ATTACH;FMTTYPE=image/jpeg:https://ontariocaregiver.ca/wp-content/uploads/2024/03/Support-Groups-Caregiver-and-Grief-Sydenham-3.jpg
ORGANIZER;CN="Southern Frontenac Community Services":MAILTO:info@sfcsc.ca
END:VEVENT
BEGIN:VEVENT
DTSTART;TZID=America/Toronto:20271020T133000
DTEND;TZID=America/Toronto:20271020T150000
DTSTAMP:20260422T124714
CREATED:20230414T214742Z
LAST-MODIFIED:20230414T214742Z
UID:10067575-1824039000-1824044400@ontariocaregiver.ca
SUMMARY:Caregiver Support Group (Sydenham\, ON)
DESCRIPTION:Caregiver Support groups provide people an opportunity to share their thoughts and experiences in a safe\, confidential environment.
URL:https://ontariocaregiver.ca/event/caregiver-support-group-sydenham-on/2027-10-20/
LOCATION:Sydenham Library\, 4412 Wheatley St\, Sydenham\, Ontario\, K0H 2T0
ATTACH;FMTTYPE=image/jpeg:https://ontariocaregiver.ca/wp-content/uploads/2024/03/Support-Groups-Caregiver-and-Grief-Sydenham-3.jpg
ORGANIZER;CN="Southern Frontenac Community Services":MAILTO:info@sfcsc.ca
END:VEVENT
BEGIN:VEVENT
DTSTART;TZID=America/Toronto:20271020T133000
DTEND;TZID=America/Toronto:20271020T150000
DTSTAMP:20260422T124714
CREATED:20230414T214742Z
LAST-MODIFIED:20230414T214742Z
UID:10006801-1824039000-1824044400@ontariocaregiver.ca
SUMMARY:Caregiver Support Group (Sydenham\, ON)
DESCRIPTION:Caregiver Support groups provide people an opportunity to share their thoughts and experiences in a safe\, confidential environment.
URL:https://ontariocaregiver.ca/event/caregiver-support-group-sydenham-on/2027-10-20/
LOCATION:Sydenham Library\, 4412 Wheatley St\, Sydenham\, Ontario\, K0H 2T0
ATTACH;FMTTYPE=image/jpeg:https://ontariocaregiver.ca/wp-content/uploads/2024/03/Support-Groups-Caregiver-and-Grief-Sydenham-3.jpg
ORGANIZER;CN="Southern Frontenac Community Services":MAILTO:info@sfcsc.ca
END:VEVENT
BEGIN:VEVENT
DTSTART;TZID=America/Toronto:20271020T133000
DTEND;TZID=America/Toronto:20271020T150000
DTSTAMP:20260422T124714
CREATED:20230414T214742Z
LAST-MODIFIED:20230414T214742Z
UID:10036291-1824039000-1824044400@ontariocaregiver.ca
SUMMARY:Caregiver Support Group (Sydenham\, ON)
DESCRIPTION:Caregiver Support groups provide people an opportunity to share their thoughts and experiences in a safe\, confidential environment.
URL:https://ontariocaregiver.ca/event/caregiver-support-group-sydenham-on/2027-10-20/
LOCATION:Sydenham Library\, 4412 Wheatley St\, Sydenham\, Ontario\, K0H 2T0
ATTACH;FMTTYPE=image/jpeg:https://ontariocaregiver.ca/wp-content/uploads/2024/03/Support-Groups-Caregiver-and-Grief-Sydenham-3.jpg
ORGANIZER;CN="Southern Frontenac Community Services":MAILTO:info@sfcsc.ca
END:VEVENT
BEGIN:VEVENT
DTSTART;TZID=America/Toronto:20271020T133000
DTEND;TZID=America/Toronto:20271020T150000
DTSTAMP:20260422T124714
CREATED:20230414T214742Z
LAST-MODIFIED:20230414T214742Z
UID:10061151-1824039000-1824044400@ontariocaregiver.ca
SUMMARY:Caregiver Support Group (Sydenham\, ON)
DESCRIPTION:Caregiver Support groups provide people an opportunity to share their thoughts and experiences in a safe\, confidential environment.
URL:https://ontariocaregiver.ca/event/caregiver-support-group-sydenham-on/2027-10-20/
LOCATION:Sydenham Library\, 4412 Wheatley St\, Sydenham\, Ontario\, K0H 2T0
ATTACH;FMTTYPE=image/jpeg:https://ontariocaregiver.ca/wp-content/uploads/2024/03/Support-Groups-Caregiver-and-Grief-Sydenham-3.jpg
ORGANIZER;CN="Southern Frontenac Community Services":MAILTO:info@sfcsc.ca
END:VEVENT
BEGIN:VEVENT
DTSTART;TZID=America/Toronto:20271020T133000
DTEND;TZID=America/Toronto:20271020T150000
DTSTAMP:20260422T124714
CREATED:20230414T214742Z
LAST-MODIFIED:20230414T214742Z
UID:10029676-1824039000-1824044400@ontariocaregiver.ca
SUMMARY:Caregiver Support Group (Sydenham\, ON)
DESCRIPTION:Caregiver Support groups provide people an opportunity to share their thoughts and experiences in a safe\, confidential environment.
URL:https://ontariocaregiver.ca/event/caregiver-support-group-sydenham-on/2027-10-20/
LOCATION:Sydenham Library\, 4412 Wheatley St\, Sydenham\, Ontario\, K0H 2T0
ATTACH;FMTTYPE=image/jpeg:https://ontariocaregiver.ca/wp-content/uploads/2024/03/Support-Groups-Caregiver-and-Grief-Sydenham-3.jpg
ORGANIZER;CN="Southern Frontenac Community Services":MAILTO:info@sfcsc.ca
END:VEVENT
BEGIN:VEVENT
DTSTART;TZID=America/Toronto:20271020T133000
DTEND;TZID=America/Toronto:20271020T150000
DTSTAMP:20260422T124714
CREATED:20230414T214742Z
LAST-MODIFIED:20230414T214742Z
UID:10053932-1824039000-1824044400@ontariocaregiver.ca
SUMMARY:Caregiver Support Group (Sydenham\, ON)
DESCRIPTION:Caregiver Support groups provide people an opportunity to share their thoughts and experiences in a safe\, confidential environment.
URL:https://ontariocaregiver.ca/event/caregiver-support-group-sydenham-on/2027-10-20/
LOCATION:Sydenham Library\, 4412 Wheatley St\, Sydenham\, Ontario\, K0H 2T0
ATTACH;FMTTYPE=image/jpeg:https://ontariocaregiver.ca/wp-content/uploads/2024/03/Support-Groups-Caregiver-and-Grief-Sydenham-3.jpg
ORGANIZER;CN="Southern Frontenac Community Services":MAILTO:info@sfcsc.ca
END:VEVENT
BEGIN:VEVENT
DTSTART;TZID=America/Toronto:20271020T133000
DTEND;TZID=America/Toronto:20271020T150000
DTSTAMP:20260422T124714
CREATED:20230414T214742Z
LAST-MODIFIED:20230414T214742Z
UID:10006601-1824039000-1824044400@ontariocaregiver.ca
SUMMARY:Caregiver Support Group (Sydenham\, ON)
DESCRIPTION:Caregiver Support groups provide people an opportunity to share their thoughts and experiences in a safe\, confidential environment.
URL:https://ontariocaregiver.ca/event/caregiver-support-group-sydenham-on/2027-10-20/
LOCATION:Sydenham Library\, 4412 Wheatley St\, Sydenham\, Ontario\, K0H 2T0
ATTACH;FMTTYPE=image/jpeg:https://ontariocaregiver.ca/wp-content/uploads/2024/03/Support-Groups-Caregiver-and-Grief-Sydenham-3.jpg
ORGANIZER;CN="Southern Frontenac Community Services":MAILTO:info@sfcsc.ca
END:VEVENT
BEGIN:VEVENT
DTSTART;TZID=America/Toronto:20271027T130000
DTEND;TZID=America/Toronto:20271027T150000
DTSTAMP:20260422T124714
CREATED:20230414T214807Z
LAST-MODIFIED:20230414T214807Z
UID:10037906-1824642000-1824649200@ontariocaregiver.ca
SUMMARY:Grief Support Groups (Sydenham\, ON)
DESCRIPTION:We provide emotional support to individuals and families who are wither anticipating a death or experiencing grief due to the loss of a loved one.
URL:https://ontariocaregiver.ca/event/grief-support-groups-sydenham-on/2027-10-27/
LOCATION:Sydenham Library\, 4412 Wheatley St\, Sydenham\, Ontario\, K0H 2T0
ATTACH;FMTTYPE=image/jpeg:https://ontariocaregiver.ca/wp-content/uploads/2024/03/Support-Groups-Caregiver-and-Grief-Sydenham-1-2.jpg
ORGANIZER;CN="Southern Frontenac Community Services":MAILTO:info@sfcsc.ca
END:VEVENT
BEGIN:VEVENT
DTSTART;TZID=America/Toronto:20271027T130000
DTEND;TZID=America/Toronto:20271027T150000
DTSTAMP:20260422T124714
CREATED:20230414T214807Z
LAST-MODIFIED:20230414T214807Z
UID:10006881-1824642000-1824649200@ontariocaregiver.ca
SUMMARY:Grief Support Groups (Sydenham\, ON)
DESCRIPTION:We provide emotional support to individuals and families who are wither anticipating a death or experiencing grief due to the loss of a loved one.
URL:https://ontariocaregiver.ca/event/grief-support-groups-sydenham-on/2027-10-27/
LOCATION:Sydenham Library\, 4412 Wheatley St\, Sydenham\, Ontario\, K0H 2T0
ATTACH;FMTTYPE=image/jpeg:https://ontariocaregiver.ca/wp-content/uploads/2024/03/Support-Groups-Caregiver-and-Grief-Sydenham-1-2.jpg
ORGANIZER;CN="Southern Frontenac Community Services":MAILTO:info@sfcsc.ca
END:VEVENT
BEGIN:VEVENT
DTSTART;TZID=America/Toronto:20271027T130000
DTEND;TZID=America/Toronto:20271027T150000
DTSTAMP:20260422T124714
CREATED:20230414T214807Z
LAST-MODIFIED:20230414T214807Z
UID:10007081-1824642000-1824649200@ontariocaregiver.ca
SUMMARY:Grief Support Groups (Sydenham\, ON)
DESCRIPTION:We provide emotional support to individuals and families who are wither anticipating a death or experiencing grief due to the loss of a loved one.
URL:https://ontariocaregiver.ca/event/grief-support-groups-sydenham-on/2027-10-27/
LOCATION:Sydenham Library\, 4412 Wheatley St\, Sydenham\, Ontario\, K0H 2T0
ATTACH;FMTTYPE=image/jpeg:https://ontariocaregiver.ca/wp-content/uploads/2024/03/Support-Groups-Caregiver-and-Grief-Sydenham-1-2.jpg
ORGANIZER;CN="Southern Frontenac Community Services":MAILTO:info@sfcsc.ca
END:VEVENT
BEGIN:VEVENT
DTSTART;TZID=America/Toronto:20271027T130000
DTEND;TZID=America/Toronto:20271027T150000
DTSTAMP:20260422T124714
CREATED:20230414T214807Z
LAST-MODIFIED:20230414T214807Z
UID:10061973-1824642000-1824649200@ontariocaregiver.ca
SUMMARY:Grief Support Groups (Sydenham\, ON)
DESCRIPTION:We provide emotional support to individuals and families who are wither anticipating a death or experiencing grief due to the loss of a loved one.
URL:https://ontariocaregiver.ca/event/grief-support-groups-sydenham-on/2027-10-27/
LOCATION:Sydenham Library\, 4412 Wheatley St\, Sydenham\, Ontario\, K0H 2T0
ATTACH;FMTTYPE=image/jpeg:https://ontariocaregiver.ca/wp-content/uploads/2024/03/Support-Groups-Caregiver-and-Grief-Sydenham-1-2.jpg
ORGANIZER;CN="Southern Frontenac Community Services":MAILTO:info@sfcsc.ca
END:VEVENT
BEGIN:VEVENT
DTSTART;TZID=America/Toronto:20271027T130000
DTEND;TZID=America/Toronto:20271027T150000
DTSTAMP:20260422T124714
CREATED:20230414T214807Z
LAST-MODIFIED:20230414T214807Z
UID:10030554-1824642000-1824649200@ontariocaregiver.ca
SUMMARY:Grief Support Groups (Sydenham\, ON)
DESCRIPTION:We provide emotional support to individuals and families who are wither anticipating a death or experiencing grief due to the loss of a loved one.
URL:https://ontariocaregiver.ca/event/grief-support-groups-sydenham-on/2027-10-27/
LOCATION:Sydenham Library\, 4412 Wheatley St\, Sydenham\, Ontario\, K0H 2T0
ATTACH;FMTTYPE=image/jpeg:https://ontariocaregiver.ca/wp-content/uploads/2024/03/Support-Groups-Caregiver-and-Grief-Sydenham-1-2.jpg
ORGANIZER;CN="Southern Frontenac Community Services":MAILTO:info@sfcsc.ca
END:VEVENT
BEGIN:VEVENT
DTSTART;TZID=America/Toronto:20271027T130000
DTEND;TZID=America/Toronto:20271027T150000
DTSTAMP:20260422T124714
CREATED:20230414T214807Z
LAST-MODIFIED:20230414T214807Z
UID:10048328-1824642000-1824649200@ontariocaregiver.ca
SUMMARY:Grief Support Groups (Sydenham\, ON)
DESCRIPTION:We provide emotional support to individuals and families who are wither anticipating a death or experiencing grief due to the loss of a loved one.
URL:https://ontariocaregiver.ca/event/grief-support-groups-sydenham-on/2027-10-27/
LOCATION:Sydenham Library\, 4412 Wheatley St\, Sydenham\, Ontario\, K0H 2T0
ATTACH;FMTTYPE=image/jpeg:https://ontariocaregiver.ca/wp-content/uploads/2024/03/Support-Groups-Caregiver-and-Grief-Sydenham-1-2.jpg
ORGANIZER;CN="Southern Frontenac Community Services":MAILTO:info@sfcsc.ca
END:VEVENT
BEGIN:VEVENT
DTSTART;TZID=America/Toronto:20271027T130000
DTEND;TZID=America/Toronto:20271027T150000
DTSTAMP:20260422T124714
CREATED:20230414T214807Z
LAST-MODIFIED:20230414T214807Z
UID:10054754-1824642000-1824649200@ontariocaregiver.ca
SUMMARY:Grief Support Groups (Sydenham\, ON)
DESCRIPTION:We provide emotional support to individuals and families who are wither anticipating a death or experiencing grief due to the loss of a loved one.
URL:https://ontariocaregiver.ca/event/grief-support-groups-sydenham-on/2027-10-27/
LOCATION:Sydenham Library\, 4412 Wheatley St\, Sydenham\, Ontario\, K0H 2T0
ATTACH;FMTTYPE=image/jpeg:https://ontariocaregiver.ca/wp-content/uploads/2024/03/Support-Groups-Caregiver-and-Grief-Sydenham-1-2.jpg
ORGANIZER;CN="Southern Frontenac Community Services":MAILTO:info@sfcsc.ca
END:VEVENT
BEGIN:VEVENT
DTSTART;TZID=America/Toronto:20271027T130000
DTEND;TZID=America/Toronto:20271027T150000
DTSTAMP:20260422T124714
CREATED:20230414T214807Z
LAST-MODIFIED:20230414T214807Z
UID:10006923-1824642000-1824649200@ontariocaregiver.ca
SUMMARY:Grief Support Groups (Sydenham\, ON)
DESCRIPTION:We provide emotional support to individuals and families who are wither anticipating a death or experiencing grief due to the loss of a loved one.
URL:https://ontariocaregiver.ca/event/grief-support-groups-sydenham-on/2027-10-27/
LOCATION:Sydenham Library\, 4412 Wheatley St\, Sydenham\, Ontario\, K0H 2T0
ATTACH;FMTTYPE=image/jpeg:https://ontariocaregiver.ca/wp-content/uploads/2024/03/Support-Groups-Caregiver-and-Grief-Sydenham-1-2.jpg
ORGANIZER;CN="Southern Frontenac Community Services":MAILTO:info@sfcsc.ca
END:VEVENT
BEGIN:VEVENT
DTSTART;TZID=America/Toronto:20271027T130000
DTEND;TZID=America/Toronto:20271027T150000
DTSTAMP:20260422T124714
CREATED:20230414T214807Z
LAST-MODIFIED:20230414T214807Z
UID:10007043-1824642000-1824649200@ontariocaregiver.ca
SUMMARY:Grief Support Groups (Sydenham\, ON)
DESCRIPTION:We provide emotional support to individuals and families who are wither anticipating a death or experiencing grief due to the loss of a loved one.
URL:https://ontariocaregiver.ca/event/grief-support-groups-sydenham-on/2027-10-27/
LOCATION:Sydenham Library\, 4412 Wheatley St\, Sydenham\, Ontario\, K0H 2T0
ATTACH;FMTTYPE=image/jpeg:https://ontariocaregiver.ca/wp-content/uploads/2024/03/Support-Groups-Caregiver-and-Grief-Sydenham-1-2.jpg
ORGANIZER;CN="Southern Frontenac Community Services":MAILTO:info@sfcsc.ca
END:VEVENT
BEGIN:VEVENT
DTSTART;TZID=America/Toronto:20271027T130000
DTEND;TZID=America/Toronto:20271027T150000
DTSTAMP:20260422T124714
CREATED:20230414T214807Z
LAST-MODIFIED:20230414T214807Z
UID:10072423-1824642000-1824649200@ontariocaregiver.ca
SUMMARY:Grief Support Groups (Sydenham\, ON)
DESCRIPTION:We provide emotional support to individuals and families who are wither anticipating a death or experiencing grief due to the loss of a loved one.
URL:https://ontariocaregiver.ca/event/grief-support-groups-sydenham-on/2027-10-27/
LOCATION:Sydenham Library\, 4412 Wheatley St\, Sydenham\, Ontario\, K0H 2T0
ATTACH;FMTTYPE=image/jpeg:https://ontariocaregiver.ca/wp-content/uploads/2024/03/Support-Groups-Caregiver-and-Grief-Sydenham-1-2.jpg
ORGANIZER;CN="Southern Frontenac Community Services":MAILTO:info@sfcsc.ca
END:VEVENT
BEGIN:VEVENT
DTSTART;TZID=America/Toronto:20271027T130000
DTEND;TZID=America/Toronto:20271027T150000
DTSTAMP:20260422T124714
CREATED:20230414T214807Z
LAST-MODIFIED:20230414T214807Z
UID:10006964-1824642000-1824649200@ontariocaregiver.ca
SUMMARY:Grief Support Groups (Sydenham\, ON)
DESCRIPTION:We provide emotional support to individuals and families who are wither anticipating a death or experiencing grief due to the loss of a loved one.
URL:https://ontariocaregiver.ca/event/grief-support-groups-sydenham-on/2027-10-27/
LOCATION:Sydenham Library\, 4412 Wheatley St\, Sydenham\, Ontario\, K0H 2T0
ATTACH;FMTTYPE=image/jpeg:https://ontariocaregiver.ca/wp-content/uploads/2024/03/Support-Groups-Caregiver-and-Grief-Sydenham-1-2.jpg
ORGANIZER;CN="Southern Frontenac Community Services":MAILTO:info@sfcsc.ca
END:VEVENT
BEGIN:VEVENT
DTSTART;TZID=America/Toronto:20271027T130000
DTEND;TZID=America/Toronto:20271027T150000
DTSTAMP:20260422T124714
CREATED:20230414T214807Z
LAST-MODIFIED:20230414T214807Z
UID:10007004-1824642000-1824649200@ontariocaregiver.ca
SUMMARY:Grief Support Groups (Sydenham\, ON)
DESCRIPTION:We provide emotional support to individuals and families who are wither anticipating a death or experiencing grief due to the loss of a loved one.
URL:https://ontariocaregiver.ca/event/grief-support-groups-sydenham-on/2027-10-27/
LOCATION:Sydenham Library\, 4412 Wheatley St\, Sydenham\, Ontario\, K0H 2T0
ATTACH;FMTTYPE=image/jpeg:https://ontariocaregiver.ca/wp-content/uploads/2024/03/Support-Groups-Caregiver-and-Grief-Sydenham-1-2.jpg
ORGANIZER;CN="Southern Frontenac Community Services":MAILTO:info@sfcsc.ca
END:VEVENT
BEGIN:VEVENT
DTSTART;TZID=America/Toronto:20271027T130000
DTEND;TZID=America/Toronto:20271027T150000
DTSTAMP:20260422T124714
CREATED:20230414T214807Z
LAST-MODIFIED:20230414T214807Z
UID:10041120-1824642000-1824649200@ontariocaregiver.ca
SUMMARY:Grief Support Groups (Sydenham\, ON)
DESCRIPTION:We provide emotional support to individuals and families who are wither anticipating a death or experiencing grief due to the loss of a loved one.
URL:https://ontariocaregiver.ca/event/grief-support-groups-sydenham-on/2027-10-27/
LOCATION:Sydenham Library\, 4412 Wheatley St\, Sydenham\, Ontario\, K0H 2T0
ATTACH;FMTTYPE=image/jpeg:https://ontariocaregiver.ca/wp-content/uploads/2024/03/Support-Groups-Caregiver-and-Grief-Sydenham-1-2.jpg
ORGANIZER;CN="Southern Frontenac Community Services":MAILTO:info@sfcsc.ca
END:VEVENT
BEGIN:VEVENT
DTSTART;TZID=America/Toronto:20271027T130000
DTEND;TZID=America/Toronto:20271027T150000
DTSTAMP:20260422T124714
CREATED:20230414T214807Z
LAST-MODIFIED:20230414T214807Z
UID:10065185-1824642000-1824649200@ontariocaregiver.ca
SUMMARY:Grief Support Groups (Sydenham\, ON)
DESCRIPTION:We provide emotional support to individuals and families who are wither anticipating a death or experiencing grief due to the loss of a loved one.
URL:https://ontariocaregiver.ca/event/grief-support-groups-sydenham-on/2027-10-27/
LOCATION:Sydenham Library\, 4412 Wheatley St\, Sydenham\, Ontario\, K0H 2T0
ATTACH;FMTTYPE=image/jpeg:https://ontariocaregiver.ca/wp-content/uploads/2024/03/Support-Groups-Caregiver-and-Grief-Sydenham-1-2.jpg
ORGANIZER;CN="Southern Frontenac Community Services":MAILTO:info@sfcsc.ca
END:VEVENT
BEGIN:VEVENT
DTSTART;TZID=America/Toronto:20271027T130000
DTEND;TZID=America/Toronto:20271027T150000
DTSTAMP:20260422T124714
CREATED:20230414T214807Z
LAST-MODIFIED:20230414T214807Z
UID:10033840-1824642000-1824649200@ontariocaregiver.ca
SUMMARY:Grief Support Groups (Sydenham\, ON)
DESCRIPTION:We provide emotional support to individuals and families who are wither anticipating a death or experiencing grief due to the loss of a loved one.
URL:https://ontariocaregiver.ca/event/grief-support-groups-sydenham-on/2027-10-27/
LOCATION:Sydenham Library\, 4412 Wheatley St\, Sydenham\, Ontario\, K0H 2T0
ATTACH;FMTTYPE=image/jpeg:https://ontariocaregiver.ca/wp-content/uploads/2024/03/Support-Groups-Caregiver-and-Grief-Sydenham-1-2.jpg
ORGANIZER;CN="Southern Frontenac Community Services":MAILTO:info@sfcsc.ca
END:VEVENT
BEGIN:VEVENT
DTSTART;TZID=America/Toronto:20271027T130000
DTEND;TZID=America/Toronto:20271027T150000
DTSTAMP:20260422T124714
CREATED:20230414T214807Z
LAST-MODIFIED:20230414T214807Z
UID:10058759-1824642000-1824649200@ontariocaregiver.ca
SUMMARY:Grief Support Groups (Sydenham\, ON)
DESCRIPTION:We provide emotional support to individuals and families who are wither anticipating a death or experiencing grief due to the loss of a loved one.
URL:https://ontariocaregiver.ca/event/grief-support-groups-sydenham-on/2027-10-27/
LOCATION:Sydenham Library\, 4412 Wheatley St\, Sydenham\, Ontario\, K0H 2T0
ATTACH;FMTTYPE=image/jpeg:https://ontariocaregiver.ca/wp-content/uploads/2024/03/Support-Groups-Caregiver-and-Grief-Sydenham-1-2.jpg
ORGANIZER;CN="Southern Frontenac Community Services":MAILTO:info@sfcsc.ca
END:VEVENT
BEGIN:VEVENT
DTSTART;TZID=America/Toronto:20271027T130000
DTEND;TZID=America/Toronto:20271027T150000
DTSTAMP:20260422T124714
CREATED:20230414T214807Z
LAST-MODIFIED:20230414T214807Z
UID:10007118-1824642000-1824649200@ontariocaregiver.ca
SUMMARY:Grief Support Groups (Sydenham\, ON)
DESCRIPTION:We provide emotional support to individuals and families who are wither anticipating a death or experiencing grief due to the loss of a loved one.
URL:https://ontariocaregiver.ca/event/grief-support-groups-sydenham-on/2027-10-27/
LOCATION:Sydenham Library\, 4412 Wheatley St\, Sydenham\, Ontario\, K0H 2T0
ATTACH;FMTTYPE=image/jpeg:https://ontariocaregiver.ca/wp-content/uploads/2024/03/Support-Groups-Caregiver-and-Grief-Sydenham-1-2.jpg
ORGANIZER;CN="Southern Frontenac Community Services":MAILTO:info@sfcsc.ca
END:VEVENT
BEGIN:VEVENT
DTSTART;TZID=America/Toronto:20271027T130000
DTEND;TZID=America/Toronto:20271027T150000
DTSTAMP:20260422T124714
CREATED:20230414T214807Z
LAST-MODIFIED:20230414T214807Z
UID:10051541-1824642000-1824649200@ontariocaregiver.ca
SUMMARY:Grief Support Groups (Sydenham\, ON)
DESCRIPTION:We provide emotional support to individuals and families who are wither anticipating a death or experiencing grief due to the loss of a loved one.
URL:https://ontariocaregiver.ca/event/grief-support-groups-sydenham-on/2027-10-27/
LOCATION:Sydenham Library\, 4412 Wheatley St\, Sydenham\, Ontario\, K0H 2T0
ATTACH;FMTTYPE=image/jpeg:https://ontariocaregiver.ca/wp-content/uploads/2024/03/Support-Groups-Caregiver-and-Grief-Sydenham-1-2.jpg
ORGANIZER;CN="Southern Frontenac Community Services":MAILTO:info@sfcsc.ca
END:VEVENT
END:VCALENDAR