BEGIN:VCALENDAR
VERSION:2.0
PRODID:-//Ontario Caregiver - ECPv6.15.18//NONSGML v1.0//EN
CALSCALE:GREGORIAN
METHOD:PUBLISH
X-ORIGINAL-URL:https://ontariocaregiver.ca
X-WR-CALDESC:Events for Ontario Caregiver
REFRESH-INTERVAL;VALUE=DURATION:PT1H
X-Robots-Tag:noindex
X-PUBLISHED-TTL:PT1H
BEGIN:VTIMEZONE
TZID:America/Toronto
BEGIN:DAYLIGHT
TZOFFSETFROM:-0500
TZOFFSETTO:-0400
TZNAME:EDT
DTSTART:20260308T070000
END:DAYLIGHT
BEGIN:STANDARD
TZOFFSETFROM:-0400
TZOFFSETTO:-0500
TZNAME:EST
DTSTART:20261101T060000
END:STANDARD
BEGIN:DAYLIGHT
TZOFFSETFROM:-0500
TZOFFSETTO:-0400
TZNAME:EDT
DTSTART:20270314T070000
END:DAYLIGHT
BEGIN:STANDARD
TZOFFSETFROM:-0400
TZOFFSETTO:-0500
TZNAME:EST
DTSTART:20271107T060000
END:STANDARD
BEGIN:DAYLIGHT
TZOFFSETFROM:-0500
TZOFFSETTO:-0400
TZNAME:EDT
DTSTART:20280312T070000
END:DAYLIGHT
BEGIN:STANDARD
TZOFFSETFROM:-0400
TZOFFSETTO:-0500
TZNAME:EST
DTSTART:20281105T060000
END:STANDARD
END:VTIMEZONE
BEGIN:VEVENT
DTSTART;TZID=America/Toronto:20270630T130000
DTEND;TZID=America/Toronto:20270630T150000
DTSTAMP:20260421T220545
CREATED:20230414T214807Z
LAST-MODIFIED:20230414T214807Z
UID:10007114-1814360400-1814367600@ontariocaregiver.ca
SUMMARY:Grief Support Groups (Sydenham\, ON)
DESCRIPTION:We provide emotional support to individuals and families who are wither anticipating a death or experiencing grief due to the loss of a loved one.
URL:https://ontariocaregiver.ca/event/grief-support-groups-sydenham-on/2027-06-30/
LOCATION:Sydenham Library\, 4412 Wheatley St\, Sydenham\, Ontario\, K0H 2T0
ATTACH;FMTTYPE=image/jpeg:https://ontariocaregiver.ca/wp-content/uploads/2024/03/Support-Groups-Caregiver-and-Grief-Sydenham-1-2.jpg
ORGANIZER;CN="Southern Frontenac Community Services":MAILTO:info@sfcsc.ca
END:VEVENT
BEGIN:VEVENT
DTSTART;TZID=America/Toronto:20270630T130000
DTEND;TZID=America/Toronto:20270630T150000
DTSTAMP:20260421T220545
CREATED:20230414T214807Z
LAST-MODIFIED:20230414T214807Z
UID:10051537-1814360400-1814367600@ontariocaregiver.ca
SUMMARY:Grief Support Groups (Sydenham\, ON)
DESCRIPTION:We provide emotional support to individuals and families who are wither anticipating a death or experiencing grief due to the loss of a loved one.
URL:https://ontariocaregiver.ca/event/grief-support-groups-sydenham-on/2027-06-30/
LOCATION:Sydenham Library\, 4412 Wheatley St\, Sydenham\, Ontario\, K0H 2T0
ATTACH;FMTTYPE=image/jpeg:https://ontariocaregiver.ca/wp-content/uploads/2024/03/Support-Groups-Caregiver-and-Grief-Sydenham-1-2.jpg
ORGANIZER;CN="Southern Frontenac Community Services":MAILTO:info@sfcsc.ca
END:VEVENT
BEGIN:VEVENT
DTSTART;TZID=America/Toronto:20270630T130000
DTEND;TZID=America/Toronto:20270630T150000
DTSTAMP:20260421T220545
CREATED:20230414T214807Z
LAST-MODIFIED:20230414T214807Z
UID:10044327-1814360400-1814367600@ontariocaregiver.ca
SUMMARY:Grief Support Groups (Sydenham\, ON)
DESCRIPTION:We provide emotional support to individuals and families who are wither anticipating a death or experiencing grief due to the loss of a loved one.
URL:https://ontariocaregiver.ca/event/grief-support-groups-sydenham-on/2027-06-30/
LOCATION:Sydenham Library\, 4412 Wheatley St\, Sydenham\, Ontario\, K0H 2T0
ATTACH;FMTTYPE=image/jpeg:https://ontariocaregiver.ca/wp-content/uploads/2024/03/Support-Groups-Caregiver-and-Grief-Sydenham-1-2.jpg
ORGANIZER;CN="Southern Frontenac Community Services":MAILTO:info@sfcsc.ca
END:VEVENT
BEGIN:VEVENT
DTSTART;TZID=America/Toronto:20270630T130000
DTEND;TZID=America/Toronto:20270630T150000
DTSTAMP:20260421T220545
CREATED:20230414T214807Z
LAST-MODIFIED:20230414T214807Z
UID:10037902-1814360400-1814367600@ontariocaregiver.ca
SUMMARY:Grief Support Groups (Sydenham\, ON)
DESCRIPTION:We provide emotional support to individuals and families who are wither anticipating a death or experiencing grief due to the loss of a loved one.
URL:https://ontariocaregiver.ca/event/grief-support-groups-sydenham-on/2027-06-30/
LOCATION:Sydenham Library\, 4412 Wheatley St\, Sydenham\, Ontario\, K0H 2T0
ATTACH;FMTTYPE=image/jpeg:https://ontariocaregiver.ca/wp-content/uploads/2024/03/Support-Groups-Caregiver-and-Grief-Sydenham-1-2.jpg
ORGANIZER;CN="Southern Frontenac Community Services":MAILTO:info@sfcsc.ca
END:VEVENT
BEGIN:VEVENT
DTSTART;TZID=America/Toronto:20270721T133000
DTEND;TZID=America/Toronto:20270721T150000
DTSTAMP:20260421T220545
CREATED:20230414T214742Z
LAST-MODIFIED:20230414T214742Z
UID:10006640-1816176600-1816182000@ontariocaregiver.ca
SUMMARY:Caregiver Support Group (Sydenham\, ON)
DESCRIPTION:Caregiver Support groups provide people an opportunity to share their thoughts and experiences in a safe\, confidential environment.
URL:https://ontariocaregiver.ca/event/caregiver-support-group-sydenham-on/2027-07-21/
LOCATION:Sydenham Library\, 4412 Wheatley St\, Sydenham\, Ontario\, K0H 2T0
ATTACH;FMTTYPE=image/jpeg:https://ontariocaregiver.ca/wp-content/uploads/2024/03/Support-Groups-Caregiver-and-Grief-Sydenham-3.jpg
ORGANIZER;CN="Southern Frontenac Community Services":MAILTO:info@sfcsc.ca
END:VEVENT
BEGIN:VEVENT
DTSTART;TZID=America/Toronto:20270721T133000
DTEND;TZID=America/Toronto:20270721T150000
DTSTAMP:20260421T220545
CREATED:20230414T214742Z
LAST-MODIFIED:20230414T214742Z
UID:10006760-1816176600-1816182000@ontariocaregiver.ca
SUMMARY:Caregiver Support Group (Sydenham\, ON)
DESCRIPTION:Caregiver Support groups provide people an opportunity to share their thoughts and experiences in a safe\, confidential environment.
URL:https://ontariocaregiver.ca/event/caregiver-support-group-sydenham-on/2027-07-21/
LOCATION:Sydenham Library\, 4412 Wheatley St\, Sydenham\, Ontario\, K0H 2T0
ATTACH;FMTTYPE=image/jpeg:https://ontariocaregiver.ca/wp-content/uploads/2024/03/Support-Groups-Caregiver-and-Grief-Sydenham-3.jpg
ORGANIZER;CN="Southern Frontenac Community Services":MAILTO:info@sfcsc.ca
END:VEVENT
BEGIN:VEVENT
DTSTART;TZID=America/Toronto:20270721T133000
DTEND;TZID=America/Toronto:20270721T150000
DTSTAMP:20260421T220545
CREATED:20230414T214742Z
LAST-MODIFIED:20230414T214742Z
UID:10046719-1816176600-1816182000@ontariocaregiver.ca
SUMMARY:Caregiver Support Group (Sydenham\, ON)
DESCRIPTION:Caregiver Support groups provide people an opportunity to share their thoughts and experiences in a safe\, confidential environment.
URL:https://ontariocaregiver.ca/event/caregiver-support-group-sydenham-on/2027-07-21/
LOCATION:Sydenham Library\, 4412 Wheatley St\, Sydenham\, Ontario\, K0H 2T0
ATTACH;FMTTYPE=image/jpeg:https://ontariocaregiver.ca/wp-content/uploads/2024/03/Support-Groups-Caregiver-and-Grief-Sydenham-3.jpg
ORGANIZER;CN="Southern Frontenac Community Services":MAILTO:info@sfcsc.ca
END:VEVENT
BEGIN:VEVENT
DTSTART;TZID=America/Toronto:20270721T133000
DTEND;TZID=America/Toronto:20270721T150000
DTSTAMP:20260421T220545
CREATED:20230414T214742Z
LAST-MODIFIED:20230414T214742Z
UID:10006681-1816176600-1816182000@ontariocaregiver.ca
SUMMARY:Caregiver Support Group (Sydenham\, ON)
DESCRIPTION:Caregiver Support groups provide people an opportunity to share their thoughts and experiences in a safe\, confidential environment.
URL:https://ontariocaregiver.ca/event/caregiver-support-group-sydenham-on/2027-07-21/
LOCATION:Sydenham Library\, 4412 Wheatley St\, Sydenham\, Ontario\, K0H 2T0
ATTACH;FMTTYPE=image/jpeg:https://ontariocaregiver.ca/wp-content/uploads/2024/03/Support-Groups-Caregiver-and-Grief-Sydenham-3.jpg
ORGANIZER;CN="Southern Frontenac Community Services":MAILTO:info@sfcsc.ca
END:VEVENT
BEGIN:VEVENT
DTSTART;TZID=America/Toronto:20270721T133000
DTEND;TZID=America/Toronto:20270721T150000
DTSTAMP:20260421T220545
CREATED:20230414T214742Z
LAST-MODIFIED:20230414T214742Z
UID:10006721-1816176600-1816182000@ontariocaregiver.ca
SUMMARY:Caregiver Support Group (Sydenham\, ON)
DESCRIPTION:Caregiver Support groups provide people an opportunity to share their thoughts and experiences in a safe\, confidential environment.
URL:https://ontariocaregiver.ca/event/caregiver-support-group-sydenham-on/2027-07-21/
LOCATION:Sydenham Library\, 4412 Wheatley St\, Sydenham\, Ontario\, K0H 2T0
ATTACH;FMTTYPE=image/jpeg:https://ontariocaregiver.ca/wp-content/uploads/2024/03/Support-Groups-Caregiver-and-Grief-Sydenham-3.jpg
ORGANIZER;CN="Southern Frontenac Community Services":MAILTO:info@sfcsc.ca
END:VEVENT
BEGIN:VEVENT
DTSTART;TZID=America/Toronto:20270721T133000
DTEND;TZID=America/Toronto:20270721T150000
DTSTAMP:20260421T220545
CREATED:20230414T214742Z
LAST-MODIFIED:20230414T214742Z
UID:10040295-1816176600-1816182000@ontariocaregiver.ca
SUMMARY:Caregiver Support Group (Sydenham\, ON)
DESCRIPTION:Caregiver Support groups provide people an opportunity to share their thoughts and experiences in a safe\, confidential environment.
URL:https://ontariocaregiver.ca/event/caregiver-support-group-sydenham-on/2027-07-21/
LOCATION:Sydenham Library\, 4412 Wheatley St\, Sydenham\, Ontario\, K0H 2T0
ATTACH;FMTTYPE=image/jpeg:https://ontariocaregiver.ca/wp-content/uploads/2024/03/Support-Groups-Caregiver-and-Grief-Sydenham-3.jpg
ORGANIZER;CN="Southern Frontenac Community Services":MAILTO:info@sfcsc.ca
END:VEVENT
BEGIN:VEVENT
DTSTART;TZID=America/Toronto:20270721T133000
DTEND;TZID=America/Toronto:20270721T150000
DTSTAMP:20260421T220545
CREATED:20230414T214742Z
LAST-MODIFIED:20230414T214742Z
UID:10006835-1816176600-1816182000@ontariocaregiver.ca
SUMMARY:Caregiver Support Group (Sydenham\, ON)
DESCRIPTION:Caregiver Support groups provide people an opportunity to share their thoughts and experiences in a safe\, confidential environment.
URL:https://ontariocaregiver.ca/event/caregiver-support-group-sydenham-on/2027-07-21/
LOCATION:Sydenham Library\, 4412 Wheatley St\, Sydenham\, Ontario\, K0H 2T0
ATTACH;FMTTYPE=image/jpeg:https://ontariocaregiver.ca/wp-content/uploads/2024/03/Support-Groups-Caregiver-and-Grief-Sydenham-3.jpg
ORGANIZER;CN="Southern Frontenac Community Services":MAILTO:info@sfcsc.ca
END:VEVENT
BEGIN:VEVENT
DTSTART;TZID=America/Toronto:20270721T133000
DTEND;TZID=America/Toronto:20270721T150000
DTSTAMP:20260421T220545
CREATED:20230414T214742Z
LAST-MODIFIED:20230414T214742Z
UID:10033016-1816176600-1816182000@ontariocaregiver.ca
SUMMARY:Caregiver Support Group (Sydenham\, ON)
DESCRIPTION:Caregiver Support groups provide people an opportunity to share their thoughts and experiences in a safe\, confidential environment.
URL:https://ontariocaregiver.ca/event/caregiver-support-group-sydenham-on/2027-07-21/
LOCATION:Sydenham Library\, 4412 Wheatley St\, Sydenham\, Ontario\, K0H 2T0
ATTACH;FMTTYPE=image/jpeg:https://ontariocaregiver.ca/wp-content/uploads/2024/03/Support-Groups-Caregiver-and-Grief-Sydenham-3.jpg
ORGANIZER;CN="Southern Frontenac Community Services":MAILTO:info@sfcsc.ca
END:VEVENT
BEGIN:VEVENT
DTSTART;TZID=America/Toronto:20270721T133000
DTEND;TZID=America/Toronto:20270721T150000
DTSTAMP:20260421T220545
CREATED:20230414T214742Z
LAST-MODIFIED:20230414T214742Z
UID:10050716-1816176600-1816182000@ontariocaregiver.ca
SUMMARY:Caregiver Support Group (Sydenham\, ON)
DESCRIPTION:Caregiver Support groups provide people an opportunity to share their thoughts and experiences in a safe\, confidential environment.
URL:https://ontariocaregiver.ca/event/caregiver-support-group-sydenham-on/2027-07-21/
LOCATION:Sydenham Library\, 4412 Wheatley St\, Sydenham\, Ontario\, K0H 2T0
ATTACH;FMTTYPE=image/jpeg:https://ontariocaregiver.ca/wp-content/uploads/2024/03/Support-Groups-Caregiver-and-Grief-Sydenham-3.jpg
ORGANIZER;CN="Southern Frontenac Community Services":MAILTO:info@sfcsc.ca
END:VEVENT
BEGIN:VEVENT
DTSTART;TZID=America/Toronto:20270721T133000
DTEND;TZID=America/Toronto:20270721T150000
DTSTAMP:20260421T220545
CREATED:20230414T214742Z
LAST-MODIFIED:20230414T214742Z
UID:10057149-1816176600-1816182000@ontariocaregiver.ca
SUMMARY:Caregiver Support Group (Sydenham\, ON)
DESCRIPTION:Caregiver Support groups provide people an opportunity to share their thoughts and experiences in a safe\, confidential environment.
URL:https://ontariocaregiver.ca/event/caregiver-support-group-sydenham-on/2027-07-21/
LOCATION:Sydenham Library\, 4412 Wheatley St\, Sydenham\, Ontario\, K0H 2T0
ATTACH;FMTTYPE=image/jpeg:https://ontariocaregiver.ca/wp-content/uploads/2024/03/Support-Groups-Caregiver-and-Grief-Sydenham-3.jpg
ORGANIZER;CN="Southern Frontenac Community Services":MAILTO:info@sfcsc.ca
END:VEVENT
BEGIN:VEVENT
DTSTART;TZID=America/Toronto:20270721T133000
DTEND;TZID=America/Toronto:20270721T150000
DTSTAMP:20260421T220545
CREATED:20230414T214742Z
LAST-MODIFIED:20230414T214742Z
UID:10043507-1816176600-1816182000@ontariocaregiver.ca
SUMMARY:Caregiver Support Group (Sydenham\, ON)
DESCRIPTION:Caregiver Support groups provide people an opportunity to share their thoughts and experiences in a safe\, confidential environment.
URL:https://ontariocaregiver.ca/event/caregiver-support-group-sydenham-on/2027-07-21/
LOCATION:Sydenham Library\, 4412 Wheatley St\, Sydenham\, Ontario\, K0H 2T0
ATTACH;FMTTYPE=image/jpeg:https://ontariocaregiver.ca/wp-content/uploads/2024/03/Support-Groups-Caregiver-and-Grief-Sydenham-3.jpg
ORGANIZER;CN="Southern Frontenac Community Services":MAILTO:info@sfcsc.ca
END:VEVENT
BEGIN:VEVENT
DTSTART;TZID=America/Toronto:20270721T133000
DTEND;TZID=America/Toronto:20270721T150000
DTSTAMP:20260421T220545
CREATED:20230414T214742Z
LAST-MODIFIED:20230414T214742Z
UID:10006798-1816176600-1816182000@ontariocaregiver.ca
SUMMARY:Caregiver Support Group (Sydenham\, ON)
DESCRIPTION:Caregiver Support groups provide people an opportunity to share their thoughts and experiences in a safe\, confidential environment.
URL:https://ontariocaregiver.ca/event/caregiver-support-group-sydenham-on/2027-07-21/
LOCATION:Sydenham Library\, 4412 Wheatley St\, Sydenham\, Ontario\, K0H 2T0
ATTACH;FMTTYPE=image/jpeg:https://ontariocaregiver.ca/wp-content/uploads/2024/03/Support-Groups-Caregiver-and-Grief-Sydenham-3.jpg
ORGANIZER;CN="Southern Frontenac Community Services":MAILTO:info@sfcsc.ca
END:VEVENT
BEGIN:VEVENT
DTSTART;TZID=America/Toronto:20270721T133000
DTEND;TZID=America/Toronto:20270721T150000
DTSTAMP:20260421T220545
CREATED:20230414T214742Z
LAST-MODIFIED:20230414T214742Z
UID:10036288-1816176600-1816182000@ontariocaregiver.ca
SUMMARY:Caregiver Support Group (Sydenham\, ON)
DESCRIPTION:Caregiver Support groups provide people an opportunity to share their thoughts and experiences in a safe\, confidential environment.
URL:https://ontariocaregiver.ca/event/caregiver-support-group-sydenham-on/2027-07-21/
LOCATION:Sydenham Library\, 4412 Wheatley St\, Sydenham\, Ontario\, K0H 2T0
ATTACH;FMTTYPE=image/jpeg:https://ontariocaregiver.ca/wp-content/uploads/2024/03/Support-Groups-Caregiver-and-Grief-Sydenham-3.jpg
ORGANIZER;CN="Southern Frontenac Community Services":MAILTO:info@sfcsc.ca
END:VEVENT
BEGIN:VEVENT
DTSTART;TZID=America/Toronto:20270721T133000
DTEND;TZID=America/Toronto:20270721T150000
DTSTAMP:20260421T220545
CREATED:20230414T214742Z
LAST-MODIFIED:20230414T214742Z
UID:10061148-1816176600-1816182000@ontariocaregiver.ca
SUMMARY:Caregiver Support Group (Sydenham\, ON)
DESCRIPTION:Caregiver Support groups provide people an opportunity to share their thoughts and experiences in a safe\, confidential environment.
URL:https://ontariocaregiver.ca/event/caregiver-support-group-sydenham-on/2027-07-21/
LOCATION:Sydenham Library\, 4412 Wheatley St\, Sydenham\, Ontario\, K0H 2T0
ATTACH;FMTTYPE=image/jpeg:https://ontariocaregiver.ca/wp-content/uploads/2024/03/Support-Groups-Caregiver-and-Grief-Sydenham-3.jpg
ORGANIZER;CN="Southern Frontenac Community Services":MAILTO:info@sfcsc.ca
END:VEVENT
BEGIN:VEVENT
DTSTART;TZID=America/Toronto:20270721T133000
DTEND;TZID=America/Toronto:20270721T150000
DTSTAMP:20260421T220545
CREATED:20230414T214742Z
LAST-MODIFIED:20230414T214742Z
UID:10006598-1816176600-1816182000@ontariocaregiver.ca
SUMMARY:Caregiver Support Group (Sydenham\, ON)
DESCRIPTION:Caregiver Support groups provide people an opportunity to share their thoughts and experiences in a safe\, confidential environment.
URL:https://ontariocaregiver.ca/event/caregiver-support-group-sydenham-on/2027-07-21/
LOCATION:Sydenham Library\, 4412 Wheatley St\, Sydenham\, Ontario\, K0H 2T0
ATTACH;FMTTYPE=image/jpeg:https://ontariocaregiver.ca/wp-content/uploads/2024/03/Support-Groups-Caregiver-and-Grief-Sydenham-3.jpg
ORGANIZER;CN="Southern Frontenac Community Services":MAILTO:info@sfcsc.ca
END:VEVENT
BEGIN:VEVENT
DTSTART;TZID=America/Toronto:20270721T133000
DTEND;TZID=America/Toronto:20270721T150000
DTSTAMP:20260421T220545
CREATED:20230414T214742Z
LAST-MODIFIED:20230414T214742Z
UID:10029673-1816176600-1816182000@ontariocaregiver.ca
SUMMARY:Caregiver Support Group (Sydenham\, ON)
DESCRIPTION:Caregiver Support groups provide people an opportunity to share their thoughts and experiences in a safe\, confidential environment.
URL:https://ontariocaregiver.ca/event/caregiver-support-group-sydenham-on/2027-07-21/
LOCATION:Sydenham Library\, 4412 Wheatley St\, Sydenham\, Ontario\, K0H 2T0
ATTACH;FMTTYPE=image/jpeg:https://ontariocaregiver.ca/wp-content/uploads/2024/03/Support-Groups-Caregiver-and-Grief-Sydenham-3.jpg
ORGANIZER;CN="Southern Frontenac Community Services":MAILTO:info@sfcsc.ca
END:VEVENT
BEGIN:VEVENT
DTSTART;TZID=America/Toronto:20270721T133000
DTEND;TZID=America/Toronto:20270721T150000
DTSTAMP:20260421T220545
CREATED:20230414T214742Z
LAST-MODIFIED:20230414T214742Z
UID:10053929-1816176600-1816182000@ontariocaregiver.ca
SUMMARY:Caregiver Support Group (Sydenham\, ON)
DESCRIPTION:Caregiver Support groups provide people an opportunity to share their thoughts and experiences in a safe\, confidential environment.
URL:https://ontariocaregiver.ca/event/caregiver-support-group-sydenham-on/2027-07-21/
LOCATION:Sydenham Library\, 4412 Wheatley St\, Sydenham\, Ontario\, K0H 2T0
ATTACH;FMTTYPE=image/jpeg:https://ontariocaregiver.ca/wp-content/uploads/2024/03/Support-Groups-Caregiver-and-Grief-Sydenham-3.jpg
ORGANIZER;CN="Southern Frontenac Community Services":MAILTO:info@sfcsc.ca
END:VEVENT
BEGIN:VEVENT
DTSTART;TZID=America/Toronto:20270728T130000
DTEND;TZID=America/Toronto:20270728T150000
DTSTAMP:20260421T220545
CREATED:20230414T214807Z
LAST-MODIFIED:20230414T214807Z
UID:10037903-1816779600-1816786800@ontariocaregiver.ca
SUMMARY:Grief Support Groups (Sydenham\, ON)
DESCRIPTION:We provide emotional support to individuals and families who are wither anticipating a death or experiencing grief due to the loss of a loved one.
URL:https://ontariocaregiver.ca/event/grief-support-groups-sydenham-on/2027-07-28/
LOCATION:Sydenham Library\, 4412 Wheatley St\, Sydenham\, Ontario\, K0H 2T0
ATTACH;FMTTYPE=image/jpeg:https://ontariocaregiver.ca/wp-content/uploads/2024/03/Support-Groups-Caregiver-and-Grief-Sydenham-1-2.jpg
ORGANIZER;CN="Southern Frontenac Community Services":MAILTO:info@sfcsc.ca
END:VEVENT
BEGIN:VEVENT
DTSTART;TZID=America/Toronto:20270728T130000
DTEND;TZID=America/Toronto:20270728T150000
DTSTAMP:20260421T220545
CREATED:20230414T214807Z
LAST-MODIFIED:20230414T214807Z
UID:10006878-1816779600-1816786800@ontariocaregiver.ca
SUMMARY:Grief Support Groups (Sydenham\, ON)
DESCRIPTION:We provide emotional support to individuals and families who are wither anticipating a death or experiencing grief due to the loss of a loved one.
URL:https://ontariocaregiver.ca/event/grief-support-groups-sydenham-on/2027-07-28/
LOCATION:Sydenham Library\, 4412 Wheatley St\, Sydenham\, Ontario\, K0H 2T0
ATTACH;FMTTYPE=image/jpeg:https://ontariocaregiver.ca/wp-content/uploads/2024/03/Support-Groups-Caregiver-and-Grief-Sydenham-1-2.jpg
ORGANIZER;CN="Southern Frontenac Community Services":MAILTO:info@sfcsc.ca
END:VEVENT
BEGIN:VEVENT
DTSTART;TZID=America/Toronto:20270728T130000
DTEND;TZID=America/Toronto:20270728T150000
DTSTAMP:20260421T220545
CREATED:20230414T214807Z
LAST-MODIFIED:20230414T214807Z
UID:10007078-1816779600-1816786800@ontariocaregiver.ca
SUMMARY:Grief Support Groups (Sydenham\, ON)
DESCRIPTION:We provide emotional support to individuals and families who are wither anticipating a death or experiencing grief due to the loss of a loved one.
URL:https://ontariocaregiver.ca/event/grief-support-groups-sydenham-on/2027-07-28/
LOCATION:Sydenham Library\, 4412 Wheatley St\, Sydenham\, Ontario\, K0H 2T0
ATTACH;FMTTYPE=image/jpeg:https://ontariocaregiver.ca/wp-content/uploads/2024/03/Support-Groups-Caregiver-and-Grief-Sydenham-1-2.jpg
ORGANIZER;CN="Southern Frontenac Community Services":MAILTO:info@sfcsc.ca
END:VEVENT
BEGIN:VEVENT
DTSTART;TZID=America/Toronto:20270728T130000
DTEND;TZID=America/Toronto:20270728T150000
DTSTAMP:20260421T220545
CREATED:20230414T214807Z
LAST-MODIFIED:20230414T214807Z
UID:10061970-1816779600-1816786800@ontariocaregiver.ca
SUMMARY:Grief Support Groups (Sydenham\, ON)
DESCRIPTION:We provide emotional support to individuals and families who are wither anticipating a death or experiencing grief due to the loss of a loved one.
URL:https://ontariocaregiver.ca/event/grief-support-groups-sydenham-on/2027-07-28/
LOCATION:Sydenham Library\, 4412 Wheatley St\, Sydenham\, Ontario\, K0H 2T0
ATTACH;FMTTYPE=image/jpeg:https://ontariocaregiver.ca/wp-content/uploads/2024/03/Support-Groups-Caregiver-and-Grief-Sydenham-1-2.jpg
ORGANIZER;CN="Southern Frontenac Community Services":MAILTO:info@sfcsc.ca
END:VEVENT
BEGIN:VEVENT
DTSTART;TZID=America/Toronto:20270728T130000
DTEND;TZID=America/Toronto:20270728T150000
DTSTAMP:20260421T220545
CREATED:20230414T214807Z
LAST-MODIFIED:20230414T214807Z
UID:10030551-1816779600-1816786800@ontariocaregiver.ca
SUMMARY:Grief Support Groups (Sydenham\, ON)
DESCRIPTION:We provide emotional support to individuals and families who are wither anticipating a death or experiencing grief due to the loss of a loved one.
URL:https://ontariocaregiver.ca/event/grief-support-groups-sydenham-on/2027-07-28/
LOCATION:Sydenham Library\, 4412 Wheatley St\, Sydenham\, Ontario\, K0H 2T0
ATTACH;FMTTYPE=image/jpeg:https://ontariocaregiver.ca/wp-content/uploads/2024/03/Support-Groups-Caregiver-and-Grief-Sydenham-1-2.jpg
ORGANIZER;CN="Southern Frontenac Community Services":MAILTO:info@sfcsc.ca
END:VEVENT
BEGIN:VEVENT
DTSTART;TZID=America/Toronto:20270728T130000
DTEND;TZID=America/Toronto:20270728T150000
DTSTAMP:20260421T220545
CREATED:20230414T214807Z
LAST-MODIFIED:20230414T214807Z
UID:10048325-1816779600-1816786800@ontariocaregiver.ca
SUMMARY:Grief Support Groups (Sydenham\, ON)
DESCRIPTION:We provide emotional support to individuals and families who are wither anticipating a death or experiencing grief due to the loss of a loved one.
URL:https://ontariocaregiver.ca/event/grief-support-groups-sydenham-on/2027-07-28/
LOCATION:Sydenham Library\, 4412 Wheatley St\, Sydenham\, Ontario\, K0H 2T0
ATTACH;FMTTYPE=image/jpeg:https://ontariocaregiver.ca/wp-content/uploads/2024/03/Support-Groups-Caregiver-and-Grief-Sydenham-1-2.jpg
ORGANIZER;CN="Southern Frontenac Community Services":MAILTO:info@sfcsc.ca
END:VEVENT
BEGIN:VEVENT
DTSTART;TZID=America/Toronto:20270728T130000
DTEND;TZID=America/Toronto:20270728T150000
DTSTAMP:20260421T220545
CREATED:20230414T214807Z
LAST-MODIFIED:20230414T214807Z
UID:10054751-1816779600-1816786800@ontariocaregiver.ca
SUMMARY:Grief Support Groups (Sydenham\, ON)
DESCRIPTION:We provide emotional support to individuals and families who are wither anticipating a death or experiencing grief due to the loss of a loved one.
URL:https://ontariocaregiver.ca/event/grief-support-groups-sydenham-on/2027-07-28/
LOCATION:Sydenham Library\, 4412 Wheatley St\, Sydenham\, Ontario\, K0H 2T0
ATTACH;FMTTYPE=image/jpeg:https://ontariocaregiver.ca/wp-content/uploads/2024/03/Support-Groups-Caregiver-and-Grief-Sydenham-1-2.jpg
ORGANIZER;CN="Southern Frontenac Community Services":MAILTO:info@sfcsc.ca
END:VEVENT
BEGIN:VEVENT
DTSTART;TZID=America/Toronto:20270728T130000
DTEND;TZID=America/Toronto:20270728T150000
DTSTAMP:20260421T220545
CREATED:20230414T214807Z
LAST-MODIFIED:20230414T214807Z
UID:10006920-1816779600-1816786800@ontariocaregiver.ca
SUMMARY:Grief Support Groups (Sydenham\, ON)
DESCRIPTION:We provide emotional support to individuals and families who are wither anticipating a death or experiencing grief due to the loss of a loved one.
URL:https://ontariocaregiver.ca/event/grief-support-groups-sydenham-on/2027-07-28/
LOCATION:Sydenham Library\, 4412 Wheatley St\, Sydenham\, Ontario\, K0H 2T0
ATTACH;FMTTYPE=image/jpeg:https://ontariocaregiver.ca/wp-content/uploads/2024/03/Support-Groups-Caregiver-and-Grief-Sydenham-1-2.jpg
ORGANIZER;CN="Southern Frontenac Community Services":MAILTO:info@sfcsc.ca
END:VEVENT
BEGIN:VEVENT
DTSTART;TZID=America/Toronto:20270728T130000
DTEND;TZID=America/Toronto:20270728T150000
DTSTAMP:20260421T220545
CREATED:20230414T214807Z
LAST-MODIFIED:20230414T214807Z
UID:10007040-1816779600-1816786800@ontariocaregiver.ca
SUMMARY:Grief Support Groups (Sydenham\, ON)
DESCRIPTION:We provide emotional support to individuals and families who are wither anticipating a death or experiencing grief due to the loss of a loved one.
URL:https://ontariocaregiver.ca/event/grief-support-groups-sydenham-on/2027-07-28/
LOCATION:Sydenham Library\, 4412 Wheatley St\, Sydenham\, Ontario\, K0H 2T0
ATTACH;FMTTYPE=image/jpeg:https://ontariocaregiver.ca/wp-content/uploads/2024/03/Support-Groups-Caregiver-and-Grief-Sydenham-1-2.jpg
ORGANIZER;CN="Southern Frontenac Community Services":MAILTO:info@sfcsc.ca
END:VEVENT
END:VCALENDAR