BEGIN:VCALENDAR
VERSION:2.0
PRODID:-//Ontario Caregiver - ECPv6.15.18//NONSGML v1.0//EN
CALSCALE:GREGORIAN
METHOD:PUBLISH
X-WR-CALNAME:Ontario Caregiver
X-ORIGINAL-URL:https://ontariocaregiver.ca
X-WR-CALDESC:Events for Ontario Caregiver
REFRESH-INTERVAL;VALUE=DURATION:PT1H
X-Robots-Tag:noindex
X-PUBLISHED-TTL:PT1H
BEGIN:VTIMEZONE
TZID:America/Toronto
BEGIN:DAYLIGHT
TZOFFSETFROM:-0500
TZOFFSETTO:-0400
TZNAME:EDT
DTSTART:20220313T070000
END:DAYLIGHT
BEGIN:STANDARD
TZOFFSETFROM:-0400
TZOFFSETTO:-0500
TZNAME:EST
DTSTART:20221106T060000
END:STANDARD
BEGIN:DAYLIGHT
TZOFFSETFROM:-0500
TZOFFSETTO:-0400
TZNAME:EDT
DTSTART:20230312T070000
END:DAYLIGHT
BEGIN:STANDARD
TZOFFSETFROM:-0400
TZOFFSETTO:-0500
TZNAME:EST
DTSTART:20231105T060000
END:STANDARD
BEGIN:DAYLIGHT
TZOFFSETFROM:-0500
TZOFFSETTO:-0400
TZNAME:EDT
DTSTART:20240310T070000
END:DAYLIGHT
BEGIN:STANDARD
TZOFFSETFROM:-0400
TZOFFSETTO:-0500
TZNAME:EST
DTSTART:20241103T060000
END:STANDARD
END:VTIMEZONE
BEGIN:VEVENT
DTSTART;TZID=America/Toronto:20230509T180000
DTEND;TZID=America/Toronto:20230509T203000
DTSTAMP:20260421T220703
CREATED:20230317T224330Z
LAST-MODIFIED:20230317T224330Z
UID:10000677-1683655200-1683664200@ontariocaregiver.ca
SUMMARY:LEAP Training (Part 2 of 2 mandatory session) - In person Ottawa
DESCRIPTION:Intended audience\nAs a family member or caregiver\, we understand that your loved one’s mental health or substance use health can have a significant impact on you. The Royal’s family information and support events are intended for family members or caregivers of individuals with a mental health or substance use health issue. These events are an opportunity to learn from our experts\, find out about available resources\, and connect with others who share a similar experience. There is no cost to participate but registration is required. \nPresenter\nJenepher Lennox Terrion\, PhD\nCaregiver advocate and professor in the department of communication\, UOttawa \nOverview\nLEAP (Listen-Empathize-Agree-Partner®) is an evidence-based program that teaches you how to communicate with people struggling with serious mental illness to create an alliance that leads to treatment and recovery. LEAP is based on Dr. Xavier Amador’s best-selling book “I’m Not Sick\, I Don’t Need Help” and is facilitated by Jenepher Lennox Terrion\, the only facilitator currently certified to lead this workshop in Ontario\, and Caroline Liebenberg\, labour program at Employment and Social Development Canada.
URL:https://ontariocaregiver.ca/event/leap-training-part-2-of-2-mandatory-session-in-person-ottawa/
LOCATION:Royal Ottawa Mental Health Centre\, 1145 Carling Ave\, Ottawa\, Ontario\, K1Z 7K4\, Canada
END:VEVENT
BEGIN:VEVENT
DTSTART;TZID=America/Toronto:20230502T180000
DTEND;TZID=America/Toronto:20230502T203000
DTSTAMP:20260421T220703
CREATED:20230317T224312Z
LAST-MODIFIED:20230317T224312Z
UID:10000676-1683050400-1683059400@ontariocaregiver.ca
SUMMARY:LEAP Training (Part 1 of 2 mandatory session) - In person Ottawa
DESCRIPTION:Intended audience\nAs a family member or caregiver\, we understand that your loved one’s mental health or substance use health can have a significant impact on you. The Royal’s family information and support events are intended for family members or caregivers of individuals with a mental health or substance use health issue. These events are an opportunity to learn from our experts\, find out about available resources\, and connect with others who share a similar experience. There is no cost to participate but registration is required. \nPresenter\nJenepher Lennox Terrion\, PhD\nCaregiver advocate and professor in the department of communication\, UOttawa \nOverview\nLEAP (Listen-Empathize-Agree-Partner®) is an evidence-based program that teaches you how to communicate with people struggling with serious mental illness to create an alliance that leads to treatment and recovery. LEAP is based on Dr. Xavier Amador’s best-selling book “I’m Not Sick\, I Don’t Need Help” and is facilitated by Jenepher Lennox Terrion\, the only facilitator currently certified to lead this workshop in Ontario\, and Caroline Liebenberg\, labour program at Employment and Social Development Canada.
URL:https://ontariocaregiver.ca/event/leap-training-part-1-of-2-mandatory-session-in-person-ottawa/
LOCATION:Royal Ottawa Mental Health Centre\, 1145 Carling Ave\, Ottawa\, Ontario\, K1Z 7K4\, Canada
END:VEVENT
END:VCALENDAR