BEGIN:VCALENDAR
VERSION:2.0
PRODID:-//Ontario Caregiver - ECPv6.15.18//NONSGML v1.0//EN
CALSCALE:GREGORIAN
METHOD:PUBLISH
X-ORIGINAL-URL:https://ontariocaregiver.ca
X-WR-CALDESC:Events for Ontario Caregiver
REFRESH-INTERVAL;VALUE=DURATION:PT1H
X-Robots-Tag:noindex
X-PUBLISHED-TTL:PT1H
BEGIN:VTIMEZONE
TZID:America/Toronto
BEGIN:DAYLIGHT
TZOFFSETFROM:-0500
TZOFFSETTO:-0400
TZNAME:EDT
DTSTART:20190310T070000
END:DAYLIGHT
BEGIN:STANDARD
TZOFFSETFROM:-0400
TZOFFSETTO:-0500
TZNAME:EST
DTSTART:20191103T060000
END:STANDARD
BEGIN:DAYLIGHT
TZOFFSETFROM:-0500
TZOFFSETTO:-0400
TZNAME:EDT
DTSTART:20200308T070000
END:DAYLIGHT
BEGIN:STANDARD
TZOFFSETFROM:-0400
TZOFFSETTO:-0500
TZNAME:EST
DTSTART:20201101T060000
END:STANDARD
BEGIN:DAYLIGHT
TZOFFSETFROM:-0500
TZOFFSETTO:-0400
TZNAME:EDT
DTSTART:20210314T070000
END:DAYLIGHT
BEGIN:STANDARD
TZOFFSETFROM:-0400
TZOFFSETTO:-0500
TZNAME:EST
DTSTART:20211107T060000
END:STANDARD
END:VTIMEZONE
BEGIN:VEVENT
DTSTART;TZID=America/Toronto:20200426T110000
DTEND;TZID=America/Toronto:20200428T160000
DTSTAMP:20260421T114012
CREATED:20200203T204458Z
LAST-MODIFIED:20200203T204458Z
UID:10000025-1587898800-1588089600@ontariocaregiver.ca
SUMMARY:Hospice Palliative Care Ontario Conference
DESCRIPTION:Each year\, HPCO invites thought leaders\, service providers\, health system planners\, researchers\, policy makers\, administrators\, front-line practitioners and volunteers from across the healthcare spectrum to gather for a three-day conference to collaborate\, network and integrate hospice palliative care in all settings. April 2020 Conference is going virtual! \n\nPartners in Care: Working with Caregivers to Support Palliative Care\nMonday April 27 from 10:45 am to 12:00 pm with Amy Coupal\, CEO of the Ontario Caregiver Organization
URL:https://ontariocaregiver.ca/event/hospice-palliative-care-ontario-conference-palliative-care-ontario-conference/
LOCATION:Richmond Hill – Sheraton Parkway Toronto North Hotel & Suites\, 600 Hwy 7\, Richmond Hill\, ON\, Canada
END:VEVENT
END:VCALENDAR