BEGIN:VCALENDAR
VERSION:2.0
PRODID:-//Ontario Caregiver - ECPv6.15.18//NONSGML v1.0//EN
CALSCALE:GREGORIAN
METHOD:PUBLISH
X-WR-CALNAME:Ontario Caregiver
X-ORIGINAL-URL:https://ontariocaregiver.ca
X-WR-CALDESC:Events for Ontario Caregiver
REFRESH-INTERVAL;VALUE=DURATION:PT1H
X-Robots-Tag:noindex
X-PUBLISHED-TTL:PT1H
BEGIN:VTIMEZONE
TZID:America/Toronto
BEGIN:DAYLIGHT
TZOFFSETFROM:-0500
TZOFFSETTO:-0400
TZNAME:EDT
DTSTART:20220313T070000
END:DAYLIGHT
BEGIN:STANDARD
TZOFFSETFROM:-0400
TZOFFSETTO:-0500
TZNAME:EST
DTSTART:20221106T060000
END:STANDARD
BEGIN:DAYLIGHT
TZOFFSETFROM:-0500
TZOFFSETTO:-0400
TZNAME:EDT
DTSTART:20230312T070000
END:DAYLIGHT
BEGIN:STANDARD
TZOFFSETFROM:-0400
TZOFFSETTO:-0500
TZNAME:EST
DTSTART:20231105T060000
END:STANDARD
BEGIN:DAYLIGHT
TZOFFSETFROM:-0500
TZOFFSETTO:-0400
TZNAME:EDT
DTSTART:20240310T070000
END:DAYLIGHT
BEGIN:STANDARD
TZOFFSETFROM:-0400
TZOFFSETTO:-0500
TZNAME:EST
DTSTART:20241103T060000
END:STANDARD
END:VTIMEZONE
BEGIN:VEVENT
DTSTART;TZID=America/Toronto:20230915T100000
DTEND;TZID=America/Toronto:20230915T110000
DTSTAMP:20260421T044807
CREATED:20230815T181832Z
LAST-MODIFIED:20230815T181832Z
UID:10000998-1694772000-1694775600@ontariocaregiver.ca
SUMMARY:Caregivers in Motion Walking Group
DESCRIPTION:A six week caregiver walking group aimed at increasing mental and physical wellness and connecting caregivers in their local community.
URL:https://ontariocaregiver.ca/event/caregivers-in-motion-walking-group/2023-09-15/
LOCATION:Regional Learning Centre Mississauga Halton\, 2030 Bristol Circle\, Oakville\, Ontario\, L6H 6P5\, Canada
ORGANIZER;CN="Regional Learning Centre Mississauga Halton":MAILTO:info@regionallearningcentre.ca
END:VEVENT
BEGIN:VEVENT
DTSTART;TZID=America/Toronto:20230908T100000
DTEND;TZID=America/Toronto:20230908T110000
DTSTAMP:20260421T044807
CREATED:20230815T181832Z
LAST-MODIFIED:20230815T181832Z
UID:10000997-1694167200-1694170800@ontariocaregiver.ca
SUMMARY:Caregivers in Motion Walking Group
DESCRIPTION:A six week caregiver walking group aimed at increasing mental and physical wellness and connecting caregivers in their local community.
URL:https://ontariocaregiver.ca/event/caregivers-in-motion-walking-group/2023-09-08/
LOCATION:Regional Learning Centre Mississauga Halton\, 2030 Bristol Circle\, Oakville\, Ontario\, L6H 6P5\, Canada
ORGANIZER;CN="Regional Learning Centre Mississauga Halton":MAILTO:info@regionallearningcentre.ca
END:VEVENT
BEGIN:VEVENT
DTSTART;TZID=America/Toronto:20230901T100000
DTEND;TZID=America/Toronto:20230901T110000
DTSTAMP:20260421T044807
CREATED:20230815T181832Z
LAST-MODIFIED:20230815T181832Z
UID:10000996-1693562400-1693566000@ontariocaregiver.ca
SUMMARY:Caregivers in Motion Walking Group
DESCRIPTION:A six week caregiver walking group aimed at increasing mental and physical wellness and connecting caregivers in their local community.
URL:https://ontariocaregiver.ca/event/caregivers-in-motion-walking-group/2023-09-01/
LOCATION:Regional Learning Centre Mississauga Halton\, 2030 Bristol Circle\, Oakville\, Ontario\, L6H 6P5\, Canada
ORGANIZER;CN="Regional Learning Centre Mississauga Halton":MAILTO:info@regionallearningcentre.ca
END:VEVENT
BEGIN:VEVENT
DTSTART;TZID=America/Toronto:20230825T100000
DTEND;TZID=America/Toronto:20230825T110000
DTSTAMP:20260421T044807
CREATED:20230815T181832Z
LAST-MODIFIED:20230815T181832Z
UID:10000995-1692957600-1692961200@ontariocaregiver.ca
SUMMARY:Caregivers in Motion Walking Group
DESCRIPTION:A six week caregiver walking group aimed at increasing mental and physical wellness and connecting caregivers in their local community.
URL:https://ontariocaregiver.ca/event/caregivers-in-motion-walking-group/2023-08-25/
LOCATION:Regional Learning Centre Mississauga Halton\, 2030 Bristol Circle\, Oakville\, Ontario\, L6H 6P5\, Canada
ORGANIZER;CN="Regional Learning Centre Mississauga Halton":MAILTO:info@regionallearningcentre.ca
END:VEVENT
BEGIN:VEVENT
DTSTART;VALUE=DATE:20230824
DTEND;VALUE=DATE:20230825
DTSTAMP:20260421T044807
CREATED:20230815T182804Z
LAST-MODIFIED:20230815T182804Z
UID:10000999-1692835200-1692921599@ontariocaregiver.ca
SUMMARY:Helping Someone to Move: Hands-on Practice for Caregivers
DESCRIPTION:Join us for a practical and interactive drop-in event designed to provide family caregivers with the basic skills to assist with moving and transferring. Caregivers will also have the opportunity to learn from other caregivers\, and view and test out a variety of assistive devices and mobility equipment. \nDuring this hands-on session\, you will learn proper body mechanics and generalized strategies to prevent injuries while assisting someone with mobility challenges. Our experienced instructors will guide you through a variety of options\, allowing you to practice and refine your skills in a supportive environment. \nPlease note that the instructors are not able to provide medical advice or person-specific consultation. Do not bring the person that you are caring for\, as the instructors are unable to provide person-specific medical advice.\nTime:\nThere are four drop-in times for caregivers to choose from.\n\n9:00-10:00 am\n11:00 -12:00 pm\n12:30-1:30 pm\n2:00 – 3:00 pm
URL:https://ontariocaregiver.ca/event/helping-someone-to-move-hands-on-practice-for-caregivers/
LOCATION:Regional Learning Centre Mississauga Halton\, 2030 Bristol Circle\, Oakville\, Ontario\, L6H 6P5\, Canada
ORGANIZER;CN="Regional Learning Centre Mississauga Halton":MAILTO:info@regionallearningcentre.ca
END:VEVENT
BEGIN:VEVENT
DTSTART;TZID=America/Toronto:20230818T100000
DTEND;TZID=America/Toronto:20230818T110000
DTSTAMP:20260421T044807
CREATED:20230815T181832Z
LAST-MODIFIED:20230815T181832Z
UID:10000994-1692352800-1692356400@ontariocaregiver.ca
SUMMARY:Caregivers in Motion Walking Group
DESCRIPTION:A six week caregiver walking group aimed at increasing mental and physical wellness and connecting caregivers in their local community.
URL:https://ontariocaregiver.ca/event/caregivers-in-motion-walking-group/2023-08-18/
LOCATION:Regional Learning Centre Mississauga Halton\, 2030 Bristol Circle\, Oakville\, Ontario\, L6H 6P5\, Canada
ORGANIZER;CN="Regional Learning Centre Mississauga Halton":MAILTO:info@regionallearningcentre.ca
END:VEVENT
BEGIN:VEVENT
DTSTART;TZID=America/Toronto:20230811T100000
DTEND;TZID=America/Toronto:20230811T110000
DTSTAMP:20260421T044807
CREATED:20230815T181832Z
LAST-MODIFIED:20230815T181832Z
UID:10000993-1691748000-1691751600@ontariocaregiver.ca
SUMMARY:Caregivers in Motion Walking Group
DESCRIPTION:A six week caregiver walking group aimed at increasing mental and physical wellness and connecting caregivers in their local community.
URL:https://ontariocaregiver.ca/event/caregivers-in-motion-walking-group/2023-08-11/
LOCATION:Regional Learning Centre Mississauga Halton\, 2030 Bristol Circle\, Oakville\, Ontario\, L6H 6P5\, Canada
ORGANIZER;CN="Regional Learning Centre Mississauga Halton":MAILTO:info@regionallearningcentre.ca
END:VEVENT
BEGIN:VEVENT
DTSTART;TZID=America/Toronto:20230804T100000
DTEND;TZID=America/Toronto:20230804T110000
DTSTAMP:20260421T044807
CREATED:20230815T181832Z
LAST-MODIFIED:20230815T181832Z
UID:10000992-1691143200-1691146800@ontariocaregiver.ca
SUMMARY:Caregivers in Motion Walking Group
DESCRIPTION:A six week caregiver walking group aimed at increasing mental and physical wellness and connecting caregivers in their local community.
URL:https://ontariocaregiver.ca/event/caregivers-in-motion-walking-group/2023-08-04/
LOCATION:Regional Learning Centre Mississauga Halton\, 2030 Bristol Circle\, Oakville\, Ontario\, L6H 6P5\, Canada
ORGANIZER;CN="Regional Learning Centre Mississauga Halton":MAILTO:info@regionallearningcentre.ca
END:VEVENT
END:VCALENDAR