BEGIN:VCALENDAR
VERSION:2.0
PRODID:-//Ontario Caregiver - ECPv6.15.18//NONSGML v1.0//EN
CALSCALE:GREGORIAN
METHOD:PUBLISH
X-ORIGINAL-URL:https://ontariocaregiver.ca
X-WR-CALDESC:Events for Ontario Caregiver
REFRESH-INTERVAL;VALUE=DURATION:PT1H
X-Robots-Tag:noindex
X-PUBLISHED-TTL:PT1H
BEGIN:VTIMEZONE
TZID:America/Toronto
BEGIN:DAYLIGHT
TZOFFSETFROM:-0500
TZOFFSETTO:-0400
TZNAME:EDT
DTSTART:20220313T070000
END:DAYLIGHT
BEGIN:STANDARD
TZOFFSETFROM:-0400
TZOFFSETTO:-0500
TZNAME:EST
DTSTART:20221106T060000
END:STANDARD
BEGIN:DAYLIGHT
TZOFFSETFROM:-0500
TZOFFSETTO:-0400
TZNAME:EDT
DTSTART:20230312T070000
END:DAYLIGHT
BEGIN:STANDARD
TZOFFSETFROM:-0400
TZOFFSETTO:-0500
TZNAME:EST
DTSTART:20231105T060000
END:STANDARD
BEGIN:DAYLIGHT
TZOFFSETFROM:-0500
TZOFFSETTO:-0400
TZNAME:EDT
DTSTART:20240310T070000
END:DAYLIGHT
BEGIN:STANDARD
TZOFFSETFROM:-0400
TZOFFSETTO:-0500
TZNAME:EST
DTSTART:20241103T060000
END:STANDARD
END:VTIMEZONE
BEGIN:VEVENT
DTSTART;TZID=America/Toronto:20231205T180000
DTEND;TZID=America/Toronto:20231205T190000
DTSTAMP:20260421T065003
CREATED:20230602T214818Z
LAST-MODIFIED:20230602T214818Z
UID:10000871-1701799200-1701802800@ontariocaregiver.ca
SUMMARY:Balancing Work & Care Workshop for Caregivers of Cancer Patients - In person in Ottawa
DESCRIPTION:Presented by the Ontario Caregiver Organization \nThere are 4 million Ontarians providing care to family members and friends facing health concerns. We know many may also be caring for a family member or friend outside of work\, which can sometimes lead to challenges as you strive to meet the demands of both commitments. In this session\, participants will: \n\nLearn more on the caregiving experience.\nExplore the best strategies for balancing work and caregiving.\nGain access to resources focused on their needs.
URL:https://ontariocaregiver.ca/event/balancing-work-care-workshop-for-caregivers-of-cancer-patients-in-person-in-ottawa/
LOCATION:Ottawa Community Cancer Hub\, 1500 Alta Vista Dr\,\, Ottawa\, Ontario\, K1G 3Y9
ORGANIZER;CN="Ottawa Regional Cancer Foundation":MAILTO:info@ottawacancer.ca
END:VEVENT
BEGIN:VEVENT
DTSTART;TZID=America/Toronto:20231003T180000
DTEND;TZID=America/Toronto:20231003T190000
DTSTAMP:20260421T065003
CREATED:20230602T214750Z
LAST-MODIFIED:20230602T214750Z
UID:10000870-1696356000-1696359600@ontariocaregiver.ca
SUMMARY:Caregiver Stress and Burnout Workshop for Caregivers of Cancer Patients - In person in Ottawa
DESCRIPTION:Presented by the Ontario Caregiver Organization – \nThere can be many benefits to being a caregiver. People report feeling a sense of fulfillment and appreciate the time they are spending with their loved one. However\, two thirds of caregivers report feeling stressed or burnt out. This presentation aims to educate caregivers on: \n\nThe caregiving experience across Ontario.\nThe differences between stress and burnout and knowing the common signs and symptoms of each.\nStrategies to identify when they are feeling stressed or burnt out and resources to support them in their caregiving experience.
URL:https://ontariocaregiver.ca/event/caregiver-stress-and-burnout-workshop-for-caregivers-of-cancer-patients-in-person-in-ottawa/
LOCATION:Ottawa Community Cancer Hub\, 1500 Alta Vista Dr\,\, Ottawa\, Ontario\, K1G 3Y9
ORGANIZER;CN="Ottawa Regional Cancer Foundation":MAILTO:info@ottawacancer.ca
END:VEVENT
BEGIN:VEVENT
DTSTART;TZID=America/Toronto:20230822T180000
DTEND;TZID=America/Toronto:20230822T193000
DTSTAMP:20260421T065003
CREATED:20230602T214721Z
LAST-MODIFIED:20230602T214721Z
UID:10000869-1692727200-1692732600@ontariocaregiver.ca
SUMMARY:Caregiver 101 Workshop for Caregivers of Cancer Patients - In person in Ottawa
DESCRIPTION:Presented by The Ontario Caregiver Organization- \nThis presentation is designed for people who are new to caregiving for a family member or friend living with a Cancer gianosis. It centers around the emotional impact of caring\, potential challenges that may arise\, and identifying sources of support along the journey. The Ontario Caregiver Organization provides resources to support caregivers at any step of the caregiving experience. \n  \nIn this presentation\, caregivers learn about: \n\nThe various roles that caregivers have.\nThe emotional impact of caregiving\, and what to expect.\nWhen to ask for support and how to promote resilience.\nInformation and resources about where to find support.\n\n  \n 
URL:https://ontariocaregiver.ca/event/caregiver-101-workshop-for-caregivers-of-cancer-patients-in-person-in-ottawa/
LOCATION:Ottawa Community Cancer Hub\, 1500 Alta Vista Dr\,\, Ottawa\, Ontario\, K1G 3Y9
ORGANIZER;CN="Ottawa Regional Cancer Foundation":MAILTO:info@ottawacancer.ca
END:VEVENT
BEGIN:VEVENT
DTSTART;TZID=America/Toronto:20230712T190000
DTEND;TZID=America/Toronto:20230712T203000
DTSTAMP:20260421T065003
CREATED:20230602T215202Z
LAST-MODIFIED:20230602T215202Z
UID:10000875-1689188400-1689193800@ontariocaregiver.ca
SUMMARY:Caring for a Loved One with Cancer: The Challenging Role of Caregivers - 4 part series\, in person in Ottawa
DESCRIPTION:Caring for a loved one with cancer is a challenging role that requires both physical and emotional support. Caregivers of cancer patients can be responsible for managing medications\, appointments\, and treatments while providing emotional support to the their loved one. This can lead to high levels of stress and exhaustion. \nThe role of a caregiver can also take a toll on mental health\, causing feelings of anxiety\, depression\, and isolation. Mental health professionals suggest that caregivers will benefit from self-care activities such as exercise\, socializing with friends\, or participating in hobbies they enjoy. \nCommunication is also important for caregivers to understand their loved one’s needs and limitations. For example\, speaking openly with healthcare providers will help caregivers to understand available resources such as counseling or respite care. \nWhenever possible\, caregivers need support from friends\, family members\, and support groups to help manage the emotional burden of caregiving. This can provide caregivers with a safe space to express their concerns and feelings. \nAs part of your supportive care team\, Ottawa Community Cancer Hub has partnered with Melina Ladouceur\, Registered Social Worker and Psychotherapist\, to offer a 4-part series to support caregivers to address their own needs.
URL:https://ontariocaregiver.ca/event/caring-for-a-loved-one-with-cancer-the-challenging-role-of-caregivers-4-part-series-in-person-in-ottawa/2023-07-12/
LOCATION:Ottawa Community Cancer Hub\, 1500 Alta Vista Dr\,\, Ottawa\, Ontario\, K1G 3Y9
ORGANIZER;CN="Ottawa Regional Cancer Foundation":MAILTO:info@ottawacancer.ca
END:VEVENT
BEGIN:VEVENT
DTSTART;TZID=America/Toronto:20230705T190000
DTEND;TZID=America/Toronto:20230705T203000
DTSTAMP:20260421T065003
CREATED:20230602T215201Z
LAST-MODIFIED:20230602T215201Z
UID:10000874-1688583600-1688589000@ontariocaregiver.ca
SUMMARY:Caring for a Loved One with Cancer: The Challenging Role of Caregivers - 4 part series\, in person in Ottawa
DESCRIPTION:Caring for a loved one with cancer is a challenging role that requires both physical and emotional support. Caregivers of cancer patients can be responsible for managing medications\, appointments\, and treatments while providing emotional support to the their loved one. This can lead to high levels of stress and exhaustion. \nThe role of a caregiver can also take a toll on mental health\, causing feelings of anxiety\, depression\, and isolation. Mental health professionals suggest that caregivers will benefit from self-care activities such as exercise\, socializing with friends\, or participating in hobbies they enjoy. \nCommunication is also important for caregivers to understand their loved one’s needs and limitations. For example\, speaking openly with healthcare providers will help caregivers to understand available resources such as counseling or respite care. \nWhenever possible\, caregivers need support from friends\, family members\, and support groups to help manage the emotional burden of caregiving. This can provide caregivers with a safe space to express their concerns and feelings. \nAs part of your supportive care team\, Ottawa Community Cancer Hub has partnered with Melina Ladouceur\, Registered Social Worker and Psychotherapist\, to offer a 4-part series to support caregivers to address their own needs.
URL:https://ontariocaregiver.ca/event/caring-for-a-loved-one-with-cancer-the-challenging-role-of-caregivers-4-part-series-in-person-in-ottawa/2023-07-05/
LOCATION:Ottawa Community Cancer Hub\, 1500 Alta Vista Dr\,\, Ottawa\, Ontario\, K1G 3Y9
ORGANIZER;CN="Ottawa Regional Cancer Foundation":MAILTO:info@ottawacancer.ca
END:VEVENT
BEGIN:VEVENT
DTSTART;TZID=America/Toronto:20230628T190000
DTEND;TZID=America/Toronto:20230628T203000
DTSTAMP:20260421T065003
CREATED:20230602T215201Z
LAST-MODIFIED:20230602T215201Z
UID:10000873-1687978800-1687984200@ontariocaregiver.ca
SUMMARY:Caring for a Loved One with Cancer: The Challenging Role of Caregivers - 4 part series\, in person in Ottawa
DESCRIPTION:Caring for a loved one with cancer is a challenging role that requires both physical and emotional support. Caregivers of cancer patients can be responsible for managing medications\, appointments\, and treatments while providing emotional support to the their loved one. This can lead to high levels of stress and exhaustion. \nThe role of a caregiver can also take a toll on mental health\, causing feelings of anxiety\, depression\, and isolation. Mental health professionals suggest that caregivers will benefit from self-care activities such as exercise\, socializing with friends\, or participating in hobbies they enjoy. \nCommunication is also important for caregivers to understand their loved one’s needs and limitations. For example\, speaking openly with healthcare providers will help caregivers to understand available resources such as counseling or respite care. \nWhenever possible\, caregivers need support from friends\, family members\, and support groups to help manage the emotional burden of caregiving. This can provide caregivers with a safe space to express their concerns and feelings. \nAs part of your supportive care team\, Ottawa Community Cancer Hub has partnered with Melina Ladouceur\, Registered Social Worker and Psychotherapist\, to offer a 4-part series to support caregivers to address their own needs.
URL:https://ontariocaregiver.ca/event/caring-for-a-loved-one-with-cancer-the-challenging-role-of-caregivers-4-part-series-in-person-in-ottawa/2023-06-28/
LOCATION:Ottawa Community Cancer Hub\, 1500 Alta Vista Dr\,\, Ottawa\, Ontario\, K1G 3Y9
ORGANIZER;CN="Ottawa Regional Cancer Foundation":MAILTO:info@ottawacancer.ca
END:VEVENT
BEGIN:VEVENT
DTSTART;TZID=America/Toronto:20230621T190000
DTEND;TZID=America/Toronto:20230621T203000
DTSTAMP:20260421T065003
CREATED:20230602T215200Z
LAST-MODIFIED:20230602T215200Z
UID:10000872-1687374000-1687379400@ontariocaregiver.ca
SUMMARY:Caring for a Loved One with Cancer: The Challenging Role of Caregivers - 4 part series\, in person in Ottawa
DESCRIPTION:Caring for a loved one with cancer is a challenging role that requires both physical and emotional support. Caregivers of cancer patients can be responsible for managing medications\, appointments\, and treatments while providing emotional support to the their loved one. This can lead to high levels of stress and exhaustion. \nThe role of a caregiver can also take a toll on mental health\, causing feelings of anxiety\, depression\, and isolation. Mental health professionals suggest that caregivers will benefit from self-care activities such as exercise\, socializing with friends\, or participating in hobbies they enjoy. \nCommunication is also important for caregivers to understand their loved one’s needs and limitations. For example\, speaking openly with healthcare providers will help caregivers to understand available resources such as counseling or respite care. \nWhenever possible\, caregivers need support from friends\, family members\, and support groups to help manage the emotional burden of caregiving. This can provide caregivers with a safe space to express their concerns and feelings. \nAs part of your supportive care team\, Ottawa Community Cancer Hub has partnered with Melina Ladouceur\, Registered Social Worker and Psychotherapist\, to offer a 4-part series to support caregivers to address their own needs.
URL:https://ontariocaregiver.ca/event/caring-for-a-loved-one-with-cancer-the-challenging-role-of-caregivers-4-part-series-in-person-in-ottawa/2023-06-21/
LOCATION:Ottawa Community Cancer Hub\, 1500 Alta Vista Dr\,\, Ottawa\, Ontario\, K1G 3Y9
ORGANIZER;CN="Ottawa Regional Cancer Foundation":MAILTO:info@ottawacancer.ca
END:VEVENT
END:VCALENDAR