BEGIN:VCALENDAR
VERSION:2.0
PRODID:-//Ontario Caregiver - ECPv6.15.18//NONSGML v1.0//EN
CALSCALE:GREGORIAN
METHOD:PUBLISH
X-WR-CALNAME:Ontario Caregiver
X-ORIGINAL-URL:https://ontariocaregiver.ca
X-WR-CALDESC:Events for Ontario Caregiver
REFRESH-INTERVAL;VALUE=DURATION:PT1H
X-Robots-Tag:noindex
X-PUBLISHED-TTL:PT1H
BEGIN:VTIMEZONE
TZID:America/Toronto
BEGIN:DAYLIGHT
TZOFFSETFROM:-0500
TZOFFSETTO:-0400
TZNAME:EDT
DTSTART:20220313T070000
END:DAYLIGHT
BEGIN:STANDARD
TZOFFSETFROM:-0400
TZOFFSETTO:-0500
TZNAME:EST
DTSTART:20221106T060000
END:STANDARD
BEGIN:DAYLIGHT
TZOFFSETFROM:-0500
TZOFFSETTO:-0400
TZNAME:EDT
DTSTART:20230312T070000
END:DAYLIGHT
BEGIN:STANDARD
TZOFFSETFROM:-0400
TZOFFSETTO:-0500
TZNAME:EST
DTSTART:20231105T060000
END:STANDARD
BEGIN:DAYLIGHT
TZOFFSETFROM:-0500
TZOFFSETTO:-0400
TZNAME:EDT
DTSTART:20240310T070000
END:DAYLIGHT
BEGIN:STANDARD
TZOFFSETFROM:-0400
TZOFFSETTO:-0500
TZNAME:EST
DTSTART:20241103T060000
END:STANDARD
END:VTIMEZONE
BEGIN:VEVENT
DTSTART;TZID=America/Toronto:20230715T100000
DTEND;TZID=America/Toronto:20230715T150000
DTSTAMP:20260421T161412
CREATED:20230620T003742Z
LAST-MODIFIED:20230620T003742Z
UID:10000919-1689415200-1689433200@ontariocaregiver.ca
SUMMARY:Caregiver Education Day
DESCRIPTION:This a one day event in collaboration with North York Senior Centre and Alzheimer Society of Toronto. Along with presentations\, Seneca College students are offering massage.
URL:https://ontariocaregiver.ca/event/caregiver-education-day/
LOCATION:North York Seniors Centre\, Toronto\, Ontario\, M2M 1A9\, Canada
ATTACH;FMTTYPE=image/png:https://ontariocaregiver.ca/wp-content/uploads/2024/03/CAREGIVERS-DAY-1-2.png
END:VEVENT
END:VCALENDAR