BEGIN:VCALENDAR
VERSION:2.0
PRODID:-//Ontario Caregiver - ECPv6.15.20//NONSGML v1.0//EN
CALSCALE:GREGORIAN
METHOD:PUBLISH
X-WR-CALNAME:Ontario Caregiver
X-ORIGINAL-URL:https://ontariocaregiver.ca
X-WR-CALDESC:Events for Ontario Caregiver
REFRESH-INTERVAL;VALUE=DURATION:PT1H
X-Robots-Tag:noindex
X-PUBLISHED-TTL:PT1H
BEGIN:VTIMEZONE
TZID:America/Toronto
BEGIN:DAYLIGHT
TZOFFSETFROM:-0500
TZOFFSETTO:-0400
TZNAME:EDT
DTSTART:20220313T070000
END:DAYLIGHT
BEGIN:STANDARD
TZOFFSETFROM:-0400
TZOFFSETTO:-0500
TZNAME:EST
DTSTART:20221106T060000
END:STANDARD
BEGIN:DAYLIGHT
TZOFFSETFROM:-0500
TZOFFSETTO:-0400
TZNAME:EDT
DTSTART:20230312T070000
END:DAYLIGHT
BEGIN:STANDARD
TZOFFSETFROM:-0400
TZOFFSETTO:-0500
TZNAME:EST
DTSTART:20231105T060000
END:STANDARD
BEGIN:DAYLIGHT
TZOFFSETFROM:-0500
TZOFFSETTO:-0400
TZNAME:EDT
DTSTART:20240310T070000
END:DAYLIGHT
BEGIN:STANDARD
TZOFFSETFROM:-0400
TZOFFSETTO:-0500
TZNAME:EST
DTSTART:20241103T060000
END:STANDARD
END:VTIMEZONE
BEGIN:VEVENT
DTSTART;TZID=America/Toronto:20231116T180000
DTEND;TZID=America/Toronto:20231116T203000
DTSTAMP:20260423T125935
CREATED:20230828T220535Z
LAST-MODIFIED:20230828T220535Z
UID:10001019-1700157600-1700166600@ontariocaregiver.ca
SUMMARY:PRACTICAL CAREGIVER TRAINING (A 5-WEEK IN-PERSON WORKSHOP IN OTTAWA)
DESCRIPTION:A 5-WEEK IN-PERSON WORKSHOP\nPRACTICAL TRAINING TO MAKE THE CAREGIVING EXPERIENCE SAFER & LESS STRESSFUL FOR YOU AND THE ONES YOU CARE FOR \nWeek 1: Your Role as a Caregiver (Navigation\, Advance Care Planning)\nWeek 2: Lifts & Transfers (Body Mechanics\, Lifting Techniques)\nWeek 3: Providing Personal Care (All things hygiene\, Grief\, Dignity etc.)\nWeek 4: End of Life Care (What to expect at the end of life)\nWeek 5: Communication & Self Care \nLimited spaces\, register now https://www.surveymonkey.com/r/Caregiver2023
URL:https://ontariocaregiver.ca/event/practical-caregiver-training-a-5-week-in-person-workshop-in-ottawa/2023-11-16/
LOCATION:Hillel Lodge\, 10 Nadolny Sachs Private\,\, Ottawa\, ON\, K2A 4G7
ATTACH;FMTTYPE=image/jpeg:https://ontariocaregiver.ca/wp-content/uploads/2024/03/Screenshot-2023-08-28-130350-2.jpg
ORGANIZER;CN="Champlain Hospice Palliative Care Program":MAILTO:education@champlainpalliative.ca
END:VEVENT
BEGIN:VEVENT
DTSTART;TZID=America/Toronto:20231109T180000
DTEND;TZID=America/Toronto:20231109T203000
DTSTAMP:20260423T125935
CREATED:20230828T220535Z
LAST-MODIFIED:20230828T220535Z
UID:10001018-1699552800-1699561800@ontariocaregiver.ca
SUMMARY:PRACTICAL CAREGIVER TRAINING (A 5-WEEK IN-PERSON WORKSHOP IN OTTAWA)
DESCRIPTION:A 5-WEEK IN-PERSON WORKSHOP\nPRACTICAL TRAINING TO MAKE THE CAREGIVING EXPERIENCE SAFER & LESS STRESSFUL FOR YOU AND THE ONES YOU CARE FOR \nWeek 1: Your Role as a Caregiver (Navigation\, Advance Care Planning)\nWeek 2: Lifts & Transfers (Body Mechanics\, Lifting Techniques)\nWeek 3: Providing Personal Care (All things hygiene\, Grief\, Dignity etc.)\nWeek 4: End of Life Care (What to expect at the end of life)\nWeek 5: Communication & Self Care \nLimited spaces\, register now https://www.surveymonkey.com/r/Caregiver2023
URL:https://ontariocaregiver.ca/event/practical-caregiver-training-a-5-week-in-person-workshop-in-ottawa/2023-11-09/
LOCATION:Hillel Lodge\, 10 Nadolny Sachs Private\,\, Ottawa\, ON\, K2A 4G7
ATTACH;FMTTYPE=image/jpeg:https://ontariocaregiver.ca/wp-content/uploads/2024/03/Screenshot-2023-08-28-130350-2.jpg
ORGANIZER;CN="Champlain Hospice Palliative Care Program":MAILTO:education@champlainpalliative.ca
END:VEVENT
BEGIN:VEVENT
DTSTART;TZID=America/Toronto:20231102T180000
DTEND;TZID=America/Toronto:20231102T203000
DTSTAMP:20260423T125935
CREATED:20230828T220534Z
LAST-MODIFIED:20230828T220534Z
UID:10001017-1698948000-1698957000@ontariocaregiver.ca
SUMMARY:PRACTICAL CAREGIVER TRAINING (A 5-WEEK IN-PERSON WORKSHOP IN OTTAWA)
DESCRIPTION:A 5-WEEK IN-PERSON WORKSHOP\nPRACTICAL TRAINING TO MAKE THE CAREGIVING EXPERIENCE SAFER & LESS STRESSFUL FOR YOU AND THE ONES YOU CARE FOR \nWeek 1: Your Role as a Caregiver (Navigation\, Advance Care Planning)\nWeek 2: Lifts & Transfers (Body Mechanics\, Lifting Techniques)\nWeek 3: Providing Personal Care (All things hygiene\, Grief\, Dignity etc.)\nWeek 4: End of Life Care (What to expect at the end of life)\nWeek 5: Communication & Self Care \nLimited spaces\, register now https://www.surveymonkey.com/r/Caregiver2023
URL:https://ontariocaregiver.ca/event/practical-caregiver-training-a-5-week-in-person-workshop-in-ottawa/2023-11-02/
LOCATION:Hillel Lodge\, 10 Nadolny Sachs Private\,\, Ottawa\, ON\, K2A 4G7
ATTACH;FMTTYPE=image/jpeg:https://ontariocaregiver.ca/wp-content/uploads/2024/03/Screenshot-2023-08-28-130350-2.jpg
ORGANIZER;CN="Champlain Hospice Palliative Care Program":MAILTO:education@champlainpalliative.ca
END:VEVENT
BEGIN:VEVENT
DTSTART;TZID=America/Toronto:20231026T180000
DTEND;TZID=America/Toronto:20231026T203000
DTSTAMP:20260423T125935
CREATED:20230828T220533Z
LAST-MODIFIED:20230828T220533Z
UID:10001016-1698343200-1698352200@ontariocaregiver.ca
SUMMARY:PRACTICAL CAREGIVER TRAINING (A 5-WEEK IN-PERSON WORKSHOP IN OTTAWA)
DESCRIPTION:A 5-WEEK IN-PERSON WORKSHOP\nPRACTICAL TRAINING TO MAKE THE CAREGIVING EXPERIENCE SAFER & LESS STRESSFUL FOR YOU AND THE ONES YOU CARE FOR \nWeek 1: Your Role as a Caregiver (Navigation\, Advance Care Planning)\nWeek 2: Lifts & Transfers (Body Mechanics\, Lifting Techniques)\nWeek 3: Providing Personal Care (All things hygiene\, Grief\, Dignity etc.)\nWeek 4: End of Life Care (What to expect at the end of life)\nWeek 5: Communication & Self Care \nLimited spaces\, register now https://www.surveymonkey.com/r/Caregiver2023
URL:https://ontariocaregiver.ca/event/practical-caregiver-training-a-5-week-in-person-workshop-in-ottawa/2023-10-26/
LOCATION:Hillel Lodge\, 10 Nadolny Sachs Private\,\, Ottawa\, ON\, K2A 4G7
ATTACH;FMTTYPE=image/jpeg:https://ontariocaregiver.ca/wp-content/uploads/2024/03/Screenshot-2023-08-28-130350-2.jpg
ORGANIZER;CN="Champlain Hospice Palliative Care Program":MAILTO:education@champlainpalliative.ca
END:VEVENT
BEGIN:VEVENT
DTSTART;TZID=America/Toronto:20231019T180000
DTEND;TZID=America/Toronto:20231019T203000
DTSTAMP:20260423T125935
CREATED:20230828T220531Z
LAST-MODIFIED:20230828T220531Z
UID:10001015-1697738400-1697747400@ontariocaregiver.ca
SUMMARY:PRACTICAL CAREGIVER TRAINING (A 5-WEEK IN-PERSON WORKSHOP IN OTTAWA)
DESCRIPTION:A 5-WEEK IN-PERSON WORKSHOP\nPRACTICAL TRAINING TO MAKE THE CAREGIVING EXPERIENCE SAFER & LESS STRESSFUL FOR YOU AND THE ONES YOU CARE FOR \nWeek 1: Your Role as a Caregiver (Navigation\, Advance Care Planning)\nWeek 2: Lifts & Transfers (Body Mechanics\, Lifting Techniques)\nWeek 3: Providing Personal Care (All things hygiene\, Grief\, Dignity etc.)\nWeek 4: End of Life Care (What to expect at the end of life)\nWeek 5: Communication & Self Care \nLimited spaces\, register now https://www.surveymonkey.com/r/Caregiver2023
URL:https://ontariocaregiver.ca/event/practical-caregiver-training-a-5-week-in-person-workshop-in-ottawa/2023-10-19/
LOCATION:Hillel Lodge\, 10 Nadolny Sachs Private\,\, Ottawa\, ON\, K2A 4G7
ATTACH;FMTTYPE=image/jpeg:https://ontariocaregiver.ca/wp-content/uploads/2024/03/Screenshot-2023-08-28-130350-2.jpg
ORGANIZER;CN="Champlain Hospice Palliative Care Program":MAILTO:education@champlainpalliative.ca
END:VEVENT
END:VCALENDAR