BEGIN:VCALENDAR
VERSION:2.0
PRODID:-//Ontario Caregiver - ECPv6.15.20//NONSGML v1.0//EN
CALSCALE:GREGORIAN
METHOD:PUBLISH
X-ORIGINAL-URL:https://ontariocaregiver.ca
X-WR-CALDESC:Events for Ontario Caregiver
REFRESH-INTERVAL;VALUE=DURATION:PT1H
X-Robots-Tag:noindex
X-PUBLISHED-TTL:PT1H
BEGIN:VTIMEZONE
TZID:America/Toronto
BEGIN:DAYLIGHT
TZOFFSETFROM:-0500
TZOFFSETTO:-0400
TZNAME:EDT
DTSTART:20190310T070000
END:DAYLIGHT
BEGIN:STANDARD
TZOFFSETFROM:-0400
TZOFFSETTO:-0500
TZNAME:EST
DTSTART:20191103T060000
END:STANDARD
BEGIN:DAYLIGHT
TZOFFSETFROM:-0500
TZOFFSETTO:-0400
TZNAME:EDT
DTSTART:20200308T070000
END:DAYLIGHT
BEGIN:STANDARD
TZOFFSETFROM:-0400
TZOFFSETTO:-0500
TZNAME:EST
DTSTART:20201101T060000
END:STANDARD
BEGIN:DAYLIGHT
TZOFFSETFROM:-0500
TZOFFSETTO:-0400
TZNAME:EDT
DTSTART:20210314T070000
END:DAYLIGHT
BEGIN:STANDARD
TZOFFSETFROM:-0400
TZOFFSETTO:-0500
TZNAME:EST
DTSTART:20211107T060000
END:STANDARD
BEGIN:DAYLIGHT
TZOFFSETFROM:-0500
TZOFFSETTO:-0400
TZNAME:EDT
DTSTART:20220313T070000
END:DAYLIGHT
BEGIN:STANDARD
TZOFFSETFROM:-0400
TZOFFSETTO:-0500
TZNAME:EST
DTSTART:20221106T060000
END:STANDARD
END:VTIMEZONE
BEGIN:VEVENT
DTSTART;TZID=America/Toronto:20210510T170000
DTEND;TZID=America/Toronto:20210510T180000
DTSTAMP:20260423T024440
CREATED:20210506T224126Z
LAST-MODIFIED:20210506T224126Z
UID:10000199-1620666000-1620669600@ontariocaregiver.ca
SUMMARY:How To Become A Better Caregiver By Understanding the Power of the Number 3 by The Dementia Society of Ottawa & Renfrew County
DESCRIPTION:Caring for someone with dementia can create many challenges for the inexperienced caregiver.  \nJoin seasoned caregiver and dementia advocate Ron Beleno as he discusses in this session:  \n\nHow to Interpret the Challenges that Caregivers Encounter \n\n\nBecoming a Conscious Calculating Caregiver \n\n\nHow to Harness the Power of 3 or More Choices to Get Better Results \n\nRegister here: https://www.eventbrite.ca/e/how-to-become-a-better-caregiver-by-understanding-the-power-of-the-number-3-tickets-151483580467   \nOur guest speaker Ron Beleno is an active member\, advisor\, and mentor to numerous organizations and educational institutions such as AGE-WELL NCE\, Centre for Aging and Brain Health Innovation (CABHI) at Baycrest\, City of Toronto’s Seniors Strategy Accountability Table \, SE Health (formerly known as Saint Elizabeth Health Care)\, the Translational Research Program (TRP) at the University of Toronto’s Faculty of Medicine and Dementia Advocacy Canada.  \nRon’s activities are usually posted on his twitter feed at www.twitter.com/rb33canada  \n 
URL:https://ontariocaregiver.ca/event/how-to-become-a-better-caregiver-by-understanding-the-power-of-the-number-3-by-the-dementia-society-of-ottawa-renfrew-county/
LOCATION:Online
ORGANIZER;CN="The Dementia Society of Ottawa and Renfrew County":MAILTO:dhenderson@DSORC.org
END:VEVENT
BEGIN:VEVENT
DTSTART;TZID=America/Toronto:20200820T183000
DTEND;TZID=America/Toronto:20200820T203000
DTSTAMP:20260423T024440
CREATED:20200813T234622Z
LAST-MODIFIED:20200813T234622Z
UID:10000095-1597948200-1597955400@ontariocaregiver.ca
SUMMARY:Support Group-Young Caregivers by The Dementia Society of Ottawa and Renfrew County
DESCRIPTION:Online Caregiver Support Group\n\n\n\n\n\n\nAbout this Event\n\n\nOur caregiver support groups are designed to help educate care partners with up-to-date information that can help improve their quality of life\, as well as the life of the person with dementia they are supporting. Our support groups provide a safe environment where everyone can learn\, express\, manage emotions\, and help each other through mutual understanding and support. A Dementia Care Coach will be present to facilitate the group\, answer questions and provide ongoing support. \nJoin us today! \nThe Caregiver Support Group will be an ongoing event on the 3rd Thursday/Month \n6:30pm-8:30pm \nJuly 16\, Aug 20\, Sept 17 \nOnce you sign up\, we will send you the link to join. All you need is a cell phone\, landline\, tablet\, or computer. Having a webcam is a bonus so we can see each other.
URL:https://ontariocaregiver.ca/event/support-group-young-caregivers-by-the-dementia-society-of-ottawa-and-renfrew-county/2020-08-20/
ORGANIZER;CN="The Dementia Society of Ottawa and Renfrew County":MAILTO:dhenderson@DSORC.org
END:VEVENT
END:VCALENDAR