BEGIN:VCALENDAR
VERSION:2.0
PRODID:-//Ontario Caregiver - ECPv6.15.20//NONSGML v1.0//EN
CALSCALE:GREGORIAN
METHOD:PUBLISH
X-WR-CALNAME:Ontario Caregiver
X-ORIGINAL-URL:https://ontariocaregiver.ca
X-WR-CALDESC:Events for Ontario Caregiver
REFRESH-INTERVAL;VALUE=DURATION:PT1H
X-Robots-Tag:noindex
X-PUBLISHED-TTL:PT1H
BEGIN:VTIMEZONE
TZID:America/Toronto
BEGIN:DAYLIGHT
TZOFFSETFROM:-0500
TZOFFSETTO:-0400
TZNAME:EDT
DTSTART:20240310T070000
END:DAYLIGHT
BEGIN:STANDARD
TZOFFSETFROM:-0400
TZOFFSETTO:-0500
TZNAME:EST
DTSTART:20241103T060000
END:STANDARD
BEGIN:DAYLIGHT
TZOFFSETFROM:-0500
TZOFFSETTO:-0400
TZNAME:EDT
DTSTART:20250309T070000
END:DAYLIGHT
BEGIN:STANDARD
TZOFFSETFROM:-0400
TZOFFSETTO:-0500
TZNAME:EST
DTSTART:20251102T060000
END:STANDARD
BEGIN:DAYLIGHT
TZOFFSETFROM:-0500
TZOFFSETTO:-0400
TZNAME:EDT
DTSTART:20260308T070000
END:DAYLIGHT
BEGIN:STANDARD
TZOFFSETFROM:-0400
TZOFFSETTO:-0500
TZNAME:EST
DTSTART:20261101T060000
END:STANDARD
END:VTIMEZONE
BEGIN:VEVENT
DTSTART;TZID=America/Toronto:20250710T120000
DTEND;TZID=America/Toronto:20250710T130000
DTSTAMP:20260424T075915
CREATED:20250612T141856Z
LAST-MODIFIED:20250612T141856Z
UID:10055887-1752148800-1752152400@ontariocaregiver.ca
SUMMARY:Medications as We Age: Information to Support Caregiving
DESCRIPTION:Are you caregiving for someone who takes medications? Have you ever wondered if each of their medications is still right for them? Medications can offer significant benefits\, but as we age\, our bodies may become more sensitive to their effects. Some medications that were once helpful might no longer be necessary or could even cause harm. \nJoin us for an informative session hosted by the Canadian Medication Appropriateness and Deprescribing Network. This session will provide valuable insights and practical tips to help you ensure that your care recipient’s medications are still needed and beneficial. \nIn this presentation\, we will explore: \n\nHow aging can increase sensitivity to medications\nThe importance of regular “medication check-ups”\, and how to collaborate with healthcare professionals to prevent harmful side effects\nEssential questions to ask about your care recipient’s medication\n\nThe Canadian Medication Appropriateness and Deprescribing Network is a collaborative group of individuals with lived experience\, clinicians\, educators\, policymakers\, and researchers. They work together to create\, share\, and apply information that promotes the safe and appropriate use of medications for all Canadians. \nDisclaimer: Please note that the information provided in this webinar is for educational purposes only and is not intended as medical advice. Always consult with a healthcare professional before making any changes to your care recipient’s medications.
URL:https://ontariocaregiver.ca/event/medications-as-we-age-information-to-support-caregiving/
LOCATION:Online
ATTACH;FMTTYPE=image/jpeg:https://ontariocaregiver.ca/wp-content/uploads/2025/06/iStock-1265149067.jpg
END:VEVENT
END:VCALENDAR