BEGIN:VCALENDAR
VERSION:2.0
PRODID:-//Ontario Caregiver - ECPv6.15.18//NONSGML v1.0//EN
CALSCALE:GREGORIAN
METHOD:PUBLISH
X-ORIGINAL-URL:https://ontariocaregiver.ca
X-WR-CALDESC:Events for Ontario Caregiver
REFRESH-INTERVAL;VALUE=DURATION:PT1H
X-Robots-Tag:noindex
X-PUBLISHED-TTL:PT1H
BEGIN:VTIMEZONE
TZID:America/Toronto
BEGIN:DAYLIGHT
TZOFFSETFROM:-0500
TZOFFSETTO:-0400
TZNAME:EDT
DTSTART:20200308T070000
END:DAYLIGHT
BEGIN:STANDARD
TZOFFSETFROM:-0400
TZOFFSETTO:-0500
TZNAME:EST
DTSTART:20201101T060000
END:STANDARD
BEGIN:DAYLIGHT
TZOFFSETFROM:-0500
TZOFFSETTO:-0400
TZNAME:EDT
DTSTART:20210314T070000
END:DAYLIGHT
BEGIN:STANDARD
TZOFFSETFROM:-0400
TZOFFSETTO:-0500
TZNAME:EST
DTSTART:20211107T060000
END:STANDARD
BEGIN:DAYLIGHT
TZOFFSETFROM:-0500
TZOFFSETTO:-0400
TZNAME:EDT
DTSTART:20220313T070000
END:DAYLIGHT
BEGIN:STANDARD
TZOFFSETFROM:-0400
TZOFFSETTO:-0500
TZNAME:EST
DTSTART:20221106T060000
END:STANDARD
END:VTIMEZONE
BEGIN:VEVENT
DTSTART;TZID=America/Toronto:20210908T183000
DTEND;TZID=America/Toronto:20210908T210000
DTSTAMP:20260422T063918
CREATED:20210824T192535Z
LAST-MODIFIED:20210824T192535Z
UID:10000258-1631125800-1631134800@ontariocaregiver.ca
SUMMARY:Mental Health Family Education Course by St. Joseph's Health Care London
DESCRIPTION:Do you have a family member or a friend with a mental illness and want to learn more about mental health? This course may be for you. \nKnowledgeable family members\, professionals and individuals with lived mental health experience will speak on topics which include: Bipolar Disorder\, Schizophrenia\, Anxiety\, Depression\, coping with mental illness\, communicating with your loved one\, estate planning\, mental health and the law\, types of treatments\, community services and more. \nPROGRAM GOALS: \n• To reduce family stress by developing coping strategies and familiarity with resources \n• To support family involvement in treatment through knowledge of mental illnesses and the mental health care system \n• To improve communication among families\, health care professionals and related community services providers \nDATES: Every Wednesday evening from Sept 8 to Dec 1\, 2021 TIME: 6:30 to 8:45 pm \nLOCATION: Virtual Registration required: contact Laurel Lamarre: 519 646-6100 x 47440 register early\, seats are limited.
URL:https://ontariocaregiver.ca/event/mental-health-family-education-course-by-st-josephs-health-care-london/2021-09-08/
LOCATION:Online
END:VEVENT
END:VCALENDAR