BEGIN:VCALENDAR
VERSION:2.0
PRODID:-//Ontario Caregiver - ECPv6.15.18//NONSGML v1.0//EN
CALSCALE:GREGORIAN
METHOD:PUBLISH
X-ORIGINAL-URL:https://ontariocaregiver.ca
X-WR-CALDESC:Events for Ontario Caregiver
REFRESH-INTERVAL;VALUE=DURATION:PT1H
X-Robots-Tag:noindex
X-PUBLISHED-TTL:PT1H
BEGIN:VTIMEZONE
TZID:America/Toronto
BEGIN:DAYLIGHT
TZOFFSETFROM:-0500
TZOFFSETTO:-0400
TZNAME:EDT
DTSTART:20190310T070000
END:DAYLIGHT
BEGIN:STANDARD
TZOFFSETFROM:-0400
TZOFFSETTO:-0500
TZNAME:EST
DTSTART:20191103T060000
END:STANDARD
BEGIN:DAYLIGHT
TZOFFSETFROM:-0500
TZOFFSETTO:-0400
TZNAME:EDT
DTSTART:20200308T070000
END:DAYLIGHT
BEGIN:STANDARD
TZOFFSETFROM:-0400
TZOFFSETTO:-0500
TZNAME:EST
DTSTART:20201101T060000
END:STANDARD
BEGIN:DAYLIGHT
TZOFFSETFROM:-0500
TZOFFSETTO:-0400
TZNAME:EDT
DTSTART:20210314T070000
END:DAYLIGHT
BEGIN:STANDARD
TZOFFSETFROM:-0400
TZOFFSETTO:-0500
TZNAME:EST
DTSTART:20211107T060000
END:STANDARD
END:VTIMEZONE
BEGIN:VEVENT
DTSTART;VALUE=DATE:20201026
DTEND;VALUE=DATE:20201027
DTSTAMP:20260422T070037
CREATED:20200825T003106Z
LAST-MODIFIED:20200825T003106Z
UID:10000101-1603670400-1603756799@ontariocaregiver.ca
SUMMARY:Caregiving Strategies course closes (self-directed study)
DESCRIPTION:Caregiving Strategies (Summer 2020) \nYou will be interested in this course if you are a family member or friend providing care and support to a senior who is experiencing frailty. You will learn about living with frailty and develop strategies to support you in your caregiving role. \nCourse Description \nThis course focuses on improving your skills\, knowledge\, and confidence as a family member or friend caring for a person living with frailty. \nCourse content explores your own self-care and topics associated with frailty. Research evidence suggests that applying strategies associated with these topics can support health\, well-being\, and improved quality of life. \nThis course offers diverse learning materials\, relevant readings\, videos\, engaging activities\, and opportunities to connect with other caregivers through moderated\, online discussion groups. \nTogether\, caregivers and health care professionals co-designed this course based on real-life experiences and expertise. \nSyllabus \nIntroduction: Let’s Get Started\nModule 1 – Caring for the Caregiver\nModule 2 – Pain\nModule 3 – Staying Active\nModule 4 – Nutrition and Bladder Health\nModule 5 – Medication Management\nModule 6 – Changes in Thinking and Behaviour (Delirium)\nModule 7 – Social Engagement\nModule 8 – Bringing it all Together \nCourse Details \nCourse Facilitators \nSarah Dolsen\, MN\, RN\, GNC(C)\, PhD (c)\, Knowledge to Practice Specialist \nCourse designed by: \nSarah Dolsen\, MN\, RN\, GNC(C)\, PhD (c)\, Knowledge to Practice Specialist\, Regional Geriatric Programs of Ontario \nSandy Hughes\, Instructional Designer (McMaster University Continuing Education) \nChristie Nash\, M.Ed\, Engagement and Impact Specialist\, Regional Geriatric Programs of Ontario
URL:https://ontariocaregiver.ca/event/caregiving-strategies-course-closes-self-directed-study/
LOCATION:Online
ORGANIZER;CN="RGPs of Ontario":MAILTO:info@rgpo.ca
END:VEVENT
BEGIN:VEVENT
DTSTART;VALUE=DATE:20201023
DTEND;VALUE=DATE:20201024
DTSTAMP:20260422T070037
CREATED:20200825T002919Z
LAST-MODIFIED:20200825T002919Z
UID:10000100-1603411200-1603497599@ontariocaregiver.ca
SUMMARY:Caregiving Strategies registration closes (self-directed study)
DESCRIPTION:Caregiving Strategies (Summer 2020) \nYou will be interested in this course if you are a family member or friend providing care and support to a senior who is experiencing frailty. You will learn about living with frailty and develop strategies to support you in your caregiving role. \nCourse Description \nThis course focuses on improving your skills\, knowledge\, and confidence as a family member or friend caring for a person living with frailty. \nCourse content explores your own self-care and topics associated with frailty. Research evidence suggests that applying strategies associated with these topics can support health\, well-being\, and improved quality of life. \nThis course offers diverse learning materials\, relevant readings\, videos\, engaging activities\, and opportunities to connect with other caregivers through moderated\, online discussion groups. \nTogether\, caregivers and health care professionals co-designed this course based on real-life experiences and expertise. \nSyllabus \nIntroduction: Let’s Get Started\nModule 1 – Caring for the Caregiver\nModule 2 – Pain\nModule 3 – Staying Active\nModule 4 – Nutrition and Bladder Health\nModule 5 – Medication Management\nModule 6 – Changes in Thinking and Behaviour (Delirium)\nModule 7 – Social Engagement\nModule 8 – Bringing it all Together \nCourse Details \nCourse Facilitators \nSarah Dolsen\, MN\, RN\, GNC(C)\, PhD (c)\, Knowledge to Practice Specialist \nCourse designed by: \nSarah Dolsen\, MN\, RN\, GNC(C)\, PhD (c)\, Knowledge to Practice Specialist\, Regional Geriatric Programs of Ontario \nSandy Hughes\, Instructional Designer (McMaster University Continuing Education) \nChristie Nash\, M.Ed\, Engagement and Impact Specialist\, Regional Geriatric Programs of Ontario
URL:https://ontariocaregiver.ca/event/caregiving-strategies-registration-closes-self-directed-study/
ORGANIZER;CN="RGPs of Ontario":MAILTO:info@rgpo.ca
END:VEVENT
BEGIN:VEVENT
DTSTART;VALUE=DATE:20200831
DTEND;VALUE=DATE:20200901
DTSTAMP:20260422T070037
CREATED:20200825T002556Z
LAST-MODIFIED:20200825T002556Z
UID:10000099-1598832000-1598918399@ontariocaregiver.ca
SUMMARY:Caregiving Strategies course begins (self-directed study)
DESCRIPTION:Caregiving Strategies (Summer 2020) \nYou will be interested in this course if you are a family member or friend providing care and support to a senior who is experiencing frailty. You will learn about living with frailty and develop strategies to support you in your caregiving role. \nCourse Description \nThis course focuses on improving your skills\, knowledge\, and confidence as a family member or friend caring for a person living with frailty. \nCourse content explores your own self-care and topics associated with frailty. Research evidence suggests that applying strategies associated with these topics can support health\, well-being\, and improved quality of life. \nThis course offers diverse learning materials\, relevant readings\, videos\, engaging activities\, and opportunities to connect with other caregivers through moderated\, online discussion groups. \nTogether\, caregivers and health care professionals co-designed this course based on real-life experiences and expertise. \nSyllabus \nIntroduction: Let’s Get Started\nModule 1 – Caring for the Caregiver\nModule 2 – Pain\nModule 3 – Staying Active\nModule 4 – Nutrition and Bladder Health\nModule 5 – Medication Management\nModule 6 – Changes in Thinking and Behaviour (Delirium)\nModule 7 – Social Engagement\nModule 8 – Bringing it all Together \nCourse Details \nCourse Facilitators \nSarah Dolsen\, MN\, RN\, GNC(C)\, PhD (c)\, Knowledge to Practice Specialist \nCourse designed by: \nSarah Dolsen\, MN\, RN\, GNC(C)\, PhD (c)\, Knowledge to Practice Specialist\, Regional Geriatric Programs of Ontario \nSandy Hughes\, Instructional Designer (McMaster University Continuing Education) \nChristie Nash\, M.Ed\, Engagement and Impact Specialist\, Regional Geriatric Programs of Ontario
URL:https://ontariocaregiver.ca/event/caregiving-strategies-course-begins-self-directed-study/
LOCATION:Online
ORGANIZER;CN="RGPs of Ontario":MAILTO:info@rgpo.ca
END:VEVENT
END:VCALENDAR