BEGIN:VCALENDAR
VERSION:2.0
PRODID:-//Ontario Caregiver - ECPv6.15.18//NONSGML v1.0//EN
CALSCALE:GREGORIAN
METHOD:PUBLISH
X-ORIGINAL-URL:https://ontariocaregiver.ca
X-WR-CALDESC:Events for Ontario Caregiver
REFRESH-INTERVAL;VALUE=DURATION:PT1H
X-Robots-Tag:noindex
X-PUBLISHED-TTL:PT1H
BEGIN:VTIMEZONE
TZID:America/Toronto
BEGIN:DAYLIGHT
TZOFFSETFROM:-0500
TZOFFSETTO:-0400
TZNAME:EDT
DTSTART:20200308T070000
END:DAYLIGHT
BEGIN:STANDARD
TZOFFSETFROM:-0400
TZOFFSETTO:-0500
TZNAME:EST
DTSTART:20201101T060000
END:STANDARD
BEGIN:DAYLIGHT
TZOFFSETFROM:-0500
TZOFFSETTO:-0400
TZNAME:EDT
DTSTART:20210314T070000
END:DAYLIGHT
BEGIN:STANDARD
TZOFFSETFROM:-0400
TZOFFSETTO:-0500
TZNAME:EST
DTSTART:20211107T060000
END:STANDARD
BEGIN:DAYLIGHT
TZOFFSETFROM:-0500
TZOFFSETTO:-0400
TZNAME:EDT
DTSTART:20220313T070000
END:DAYLIGHT
BEGIN:STANDARD
TZOFFSETFROM:-0400
TZOFFSETTO:-0500
TZNAME:EST
DTSTART:20221106T060000
END:STANDARD
END:VTIMEZONE
BEGIN:VEVENT
DTSTART;TZID=America/Toronto:20211026T130000
DTEND;TZID=America/Toronto:20211026T150000
DTSTAMP:20260421T201753
CREATED:20210831T001529Z
LAST-MODIFIED:20210831T001529Z
UID:10000262-1635253200-1635260400@ontariocaregiver.ca
SUMMARY:Powerful Tools for Caregivers for Caregivers of Children with Special Health & Behavioural Needs by Home and Community Care Support Services Central East
DESCRIPTION:Caring for a family member or friend with a chronic condition can be physically\, emotionally\, and financially draining. This online highly effective\, evidenced-based\, self-care educational program for family caregivers\, builds the skills caregivers need to take better care of themselves as they provide care for others. Use of computer camera and audio is required. Workshop is hosted using Zoom Platform. \nEvery Tuesdays\, October 26 to November 30\, 2021. 1:00 pm – 3:00 pm \nFor more information\, please contact: \n\n\n\nDona Hird\, Coordinator\, Self-Management Program | Email: Dona.Hird@lhins.on.ca; Mobile: 365-885-3298\n\n\n\nRegister:
URL:https://ontariocaregiver.ca/event/powerful-tools-for-caregivers-for-caregivers-of-children-with-special-health-behavioural-needs-by-home-and-community-care-support-services-central-east/2021-10-26/
LOCATION:Online
END:VEVENT
BEGIN:VEVENT
DTSTART;TZID=America/Toronto:20211005T100000
DTEND;TZID=America/Toronto:20211005T113000
DTSTAMP:20260421T201753
CREATED:20210830T234838Z
LAST-MODIFIED:20210830T234838Z
UID:10000261-1633428000-1633433400@ontariocaregiver.ca
SUMMARY:Powerful Tools for Caregivers by Home and Community Care Support Services Central East
DESCRIPTION:Caring for a family member or friend with a chronic condition can be physically\, emotionally\, and financially draining. This online highly effective\, evidenced-based\, self-care educational program for family caregivers\, builds the skills caregivers need to take better care of themselves as they provide care for others. Use of computer camera and audio is required. Workshop is hosted using Zoom Platform. \nEvery Tuesdays\, October 5 to November 9\, 2021. 10:00 am – 11:30 am \nFor more information\, contact: Dona Hird\, Coordinator\, Self-Management Program | Email: Dona.Hird@lhins.on.ca; Mobile: 365-885-3298 \nRegister:
URL:https://ontariocaregiver.ca/event/powerful-tools-for-caregivers-by-home-and-community-care-support-services-central-east-2/2021-10-05/
LOCATION:Online
END:VEVENT
BEGIN:VEVENT
DTSTART;TZID=America/Toronto:20210825T130000
DTEND;TZID=America/Toronto:20210825T143000
DTSTAMP:20260421T201753
CREATED:20210731T005428Z
LAST-MODIFIED:20210731T005428Z
UID:10000245-1629896400-1629901800@ontariocaregiver.ca
SUMMARY:Powerful Tools for Caregivers by Home and Community Care Support Services Central East
DESCRIPTION:Caring for a family member or friend with a chronic condition can be physically\, emotionally\, and financially draining. This online highly effective\, evidenced-based\, self-care educational program for family caregivers\, builds the skills caregivers need to take better care of themselves as they provide care for others. Use of computer camera and audio is required. \nWorkshop is hosted using Zoom Platform. \nEvery Wednesday\, From August 25 – September 29\, 2021 1:00 to 2:30 p.m. \nFor more information contact Dona Hird\, Coordinator\, Self-Management Program | Email: Dona.Hird@lhins.on.ca; Mobile: 365-885-3298 \nRegister here:
URL:https://ontariocaregiver.ca/event/powerful-tools-for-caregivers-by-home-and-community-care-support-services-central-east/2021-08-25/
LOCATION:Online
END:VEVENT
END:VCALENDAR