BEGIN:VCALENDAR
VERSION:2.0
PRODID:-//Ontario Caregiver - ECPv6.15.18//NONSGML v1.0//EN
CALSCALE:GREGORIAN
METHOD:PUBLISH
X-WR-CALNAME:Ontario Caregiver
X-ORIGINAL-URL:https://ontariocaregiver.ca
X-WR-CALDESC:Events for Ontario Caregiver
REFRESH-INTERVAL;VALUE=DURATION:PT1H
X-Robots-Tag:noindex
X-PUBLISHED-TTL:PT1H
BEGIN:VTIMEZONE
TZID:America/Toronto
BEGIN:DAYLIGHT
TZOFFSETFROM:-0500
TZOFFSETTO:-0400
TZNAME:EDT
DTSTART:20220313T070000
END:DAYLIGHT
BEGIN:STANDARD
TZOFFSETFROM:-0400
TZOFFSETTO:-0500
TZNAME:EST
DTSTART:20221106T060000
END:STANDARD
BEGIN:DAYLIGHT
TZOFFSETFROM:-0500
TZOFFSETTO:-0400
TZNAME:EDT
DTSTART:20230312T070000
END:DAYLIGHT
BEGIN:STANDARD
TZOFFSETFROM:-0400
TZOFFSETTO:-0500
TZNAME:EST
DTSTART:20231105T060000
END:STANDARD
BEGIN:DAYLIGHT
TZOFFSETFROM:-0500
TZOFFSETTO:-0400
TZNAME:EDT
DTSTART:20240310T070000
END:DAYLIGHT
BEGIN:STANDARD
TZOFFSETFROM:-0400
TZOFFSETTO:-0500
TZNAME:EST
DTSTART:20241103T060000
END:STANDARD
END:VTIMEZONE
BEGIN:VEVENT
DTSTART;TZID=America/Toronto:20231004T183000
DTEND;TZID=America/Toronto:20231004T193000
DTSTAMP:20260421T162518
CREATED:20230823T195151Z
LAST-MODIFIED:20230823T195151Z
UID:10001006-1696444200-1696447800@ontariocaregiver.ca
SUMMARY:Community Engagement Speaker Series: Caregiver Stress & Burnout
DESCRIPTION:Being a caregiver to someone in need comes with many benefits and positive experiences\, but can also bring some challenges. More than half of caregivers report feeling stressed or burnt out. Join this webcast to hear from the Ontario Caregiver Organization and learn more about: \n\nThe differences between stress and burnout\ncommon signs and symptoms\nstrategies to support you and your own mental health/wellbeing\nthe Ontario Caregiver Organziations free programs and resources to support caregivers at any step of the caergiving experience.\n\nThe webcast will include a live Q&A
URL:https://ontariocaregiver.ca/event/community-engagement-speaker-series-caregiver-stress-burnout/
LOCATION:Online
ATTACH;FMTTYPE=image/png:https://ontariocaregiver.ca/wp-content/uploads/2024/03/Community-Living-Toronto-Oct-2023-2.png
ORGANIZER;CN="Community Living Toronto":MAILTO:mailto:abinetti@cltoronto.ca
END:VEVENT
BEGIN:VEVENT
DTSTART;TZID=America/Toronto:20230502T183000
DTEND;TZID=America/Toronto:20230502T193000
DTSTAMP:20260421T162518
CREATED:20230421T203214Z
LAST-MODIFIED:20230421T203214Z
UID:10000823-1683052200-1683055800@ontariocaregiver.ca
SUMMARY:Community Engagement Speaker Series - Featuring Microboards Ontario
DESCRIPTION:This month\, we are pleased to announce we will be joined by Microboards Ontario! A Microboard is a group of family and friends who join with a person with a disability to create a not-for-profit corporation. That non-profit has one purpose: to support the person in making decisions that helps them enjoy a full life in community\, throughout their life. Microboards play an important part in supporting person-directed values and providing a safe\, sustainable option that reduces pressure on families/caregivers\, agencies and government. \nIn this webcast we will hear from Karen Bell\, the Executive Director of Microboards Ontario and Xavier Noordermeer\, the former Executive Director of CL Windsor to learn if a Microboard is the right fit for your family. The webcast includes a live Q&A. We will discuss: -What a microboard is and how it works\, -Benefits of having a Microboard\, -The role it can play in future planning\, -Family insights\, -Resources to learn more.
URL:https://ontariocaregiver.ca/event/community-engagement-speaker-series-featuring-microboards-ontario/
ORGANIZER;CN="Community Living Toronto":MAILTO:mailto:abinetti@cltoronto.ca
END:VEVENT
END:VCALENDAR