BEGIN:VCALENDAR
VERSION:2.0
PRODID:-//Ontario Caregiver - ECPv6.15.20//NONSGML v1.0//EN
CALSCALE:GREGORIAN
METHOD:PUBLISH
X-WR-CALNAME:Ontario Caregiver
X-ORIGINAL-URL:https://ontariocaregiver.ca
X-WR-CALDESC:Events for Ontario Caregiver
REFRESH-INTERVAL;VALUE=DURATION:PT1H
X-Robots-Tag:noindex
X-PUBLISHED-TTL:PT1H
BEGIN:VTIMEZONE
TZID:America/Toronto
BEGIN:DAYLIGHT
TZOFFSETFROM:-0500
TZOFFSETTO:-0400
TZNAME:EDT
DTSTART:20240310T070000
END:DAYLIGHT
BEGIN:STANDARD
TZOFFSETFROM:-0400
TZOFFSETTO:-0500
TZNAME:EST
DTSTART:20241103T060000
END:STANDARD
BEGIN:DAYLIGHT
TZOFFSETFROM:-0500
TZOFFSETTO:-0400
TZNAME:EDT
DTSTART:20250309T070000
END:DAYLIGHT
BEGIN:STANDARD
TZOFFSETFROM:-0400
TZOFFSETTO:-0500
TZNAME:EST
DTSTART:20251102T060000
END:STANDARD
BEGIN:DAYLIGHT
TZOFFSETFROM:-0500
TZOFFSETTO:-0400
TZNAME:EDT
DTSTART:20260308T070000
END:DAYLIGHT
BEGIN:STANDARD
TZOFFSETFROM:-0400
TZOFFSETTO:-0500
TZNAME:EST
DTSTART:20261101T060000
END:STANDARD
END:VTIMEZONE
BEGIN:VEVENT
DTSTART;TZID=America/Toronto:20250925T120000
DTEND;TZID=America/Toronto:20250925T130000
DTSTAMP:20260424T073533
CREATED:20250918T202938Z
LAST-MODIFIED:20250918T203130Z
UID:10067924-1758801600-1758805200@ontariocaregiver.ca
SUMMARY:Navigating Special Education in Ontario Schools
DESCRIPTION:Ontario’s education system can be complex and confusing for families of students with disabilities. To help address these challenges\, Community Living Ontario has developed a comprehensive guide titled Navigating Special Education in Ontario. The Ontario Caregiver Organization (OCO) is pleased to welcome Community Living Ontario to provide important information\, tips\, and strategies to support caregivers of students navigating special education in both elementary and secondary schools. \nJoin the webinar to learn more about: \n\nThe processes\, procedures\, and key concepts of the Ontario school system.\nCommunity Living Ontario’s new guide:\n“Strategies for Success: Navigating Special Education in Ontario\, A Guide for Students\, Parents and Caregivers.”\nPractical tips to effectively advocate for your child’s needs.\n\nSpeaker:\nShawn Pegg\, Director of Social Policy & Strategic Initiatives at Community Living Ontario.\nWith over 20 years of experience as a social researcher and advocate\, Shawn has worked extensively in health\, income\, food security\, affordable housing\, and social services.
URL:https://ontariocaregiver.ca/event/navigating-special-education-in-ontario-schools/
LOCATION:Online
END:VEVENT
END:VCALENDAR