BEGIN:VCALENDAR
VERSION:2.0
PRODID:-//Ontario Caregiver - ECPv6.15.20//NONSGML v1.0//EN
CALSCALE:GREGORIAN
METHOD:PUBLISH
X-WR-CALNAME:Ontario Caregiver
X-ORIGINAL-URL:https://ontariocaregiver.ca
X-WR-CALDESC:Events for Ontario Caregiver
REFRESH-INTERVAL;VALUE=DURATION:PT1H
X-Robots-Tag:noindex
X-PUBLISHED-TTL:PT1H
BEGIN:VTIMEZONE
TZID:America/Toronto
BEGIN:DAYLIGHT
TZOFFSETFROM:-0500
TZOFFSETTO:-0400
TZNAME:EDT
DTSTART:20190310T070000
END:DAYLIGHT
BEGIN:STANDARD
TZOFFSETFROM:-0400
TZOFFSETTO:-0500
TZNAME:EST
DTSTART:20191103T060000
END:STANDARD
BEGIN:DAYLIGHT
TZOFFSETFROM:-0500
TZOFFSETTO:-0400
TZNAME:EDT
DTSTART:20200308T070000
END:DAYLIGHT
BEGIN:STANDARD
TZOFFSETFROM:-0400
TZOFFSETTO:-0500
TZNAME:EST
DTSTART:20201101T060000
END:STANDARD
BEGIN:DAYLIGHT
TZOFFSETFROM:-0500
TZOFFSETTO:-0400
TZNAME:EDT
DTSTART:20210314T070000
END:DAYLIGHT
BEGIN:STANDARD
TZOFFSETFROM:-0400
TZOFFSETTO:-0500
TZNAME:EST
DTSTART:20211107T060000
END:STANDARD
END:VTIMEZONE
BEGIN:VEVENT
DTSTART;TZID=America/Toronto:20201028T140000
DTEND;TZID=America/Toronto:20201028T150000
DTSTAMP:20260422T123758
CREATED:20201014T222606Z
LAST-MODIFIED:20201014T222606Z
UID:10000121-1603893600-1603897200@ontariocaregiver.ca
SUMMARY:Bits and Bites of Self Care for Older Adults by Community Caregiver Committee (Thunder Bay)
DESCRIPTION:Bits and Bites of Self Care for Older Adults \n\n\nAbout this Event\n\n\nCome and learn about resources available to support you in your caregiving role and then be prepared to laugh!! A 30 min session of laughter yoga will complete this event. \nLaughter yoga is joy\, health and peace through laughter. It’s fun\, easy and contagious! \nPresenters: \nHannah Albani\, Regional Facilitator\, Northern ON\, Ontario Caregiver Organization \nShauna Fossum\, Public Education Coordinator\, Alzheimer Society of Thunder Bay \nColleen Dolce\, Certified Laughter Yoga Teacher\, Radiant Yoga with Colleen \n\nDate: Wednesday\, October 28\, 2020\nTime: 2:00 pm – 3:00 pm (EST)\nLocation: Via ZOOM\, no cost to register\, but registration is required.\nZoom is a video and audio conferencing platform you can use to virtually meet with others – either by video or audio-only or both. Join zoom meeting (requires computer/iPhone/iPad and internet connection) or from your smart phone with a one tap link\, or dial in from your landline using the toll free number. \nRegister in advance for this event through Eventbrite.\nYou will receive a confirmation email from Alison Denton immediately following registration\, as well as an email\nreminder 1 hour before the event with the zoom link. \nShould you require further information please contact:\nAlison Denton\, Manager\, North West Regional Seniors’ Care Program\ndentona@tbh.net or Office: (807) 346-2320 \n\nRegister:
URL:https://ontariocaregiver.ca/event/bits-and-bites-of-self-care-for-older-adults-by-community-caregiver-committee-thunder-bay/
LOCATION:Online
END:VEVENT
END:VCALENDAR