BEGIN:VCALENDAR
VERSION:2.0
PRODID:-//Ontario Caregiver - ECPv6.15.18//NONSGML v1.0//EN
CALSCALE:GREGORIAN
METHOD:PUBLISH
X-WR-CALNAME:Ontario Caregiver
X-ORIGINAL-URL:https://ontariocaregiver.ca
X-WR-CALDESC:Events for Ontario Caregiver
REFRESH-INTERVAL;VALUE=DURATION:PT1H
X-Robots-Tag:noindex
X-PUBLISHED-TTL:PT1H
BEGIN:VTIMEZONE
TZID:America/Toronto
BEGIN:DAYLIGHT
TZOFFSETFROM:-0500
TZOFFSETTO:-0400
TZNAME:EDT
DTSTART:20190310T070000
END:DAYLIGHT
BEGIN:STANDARD
TZOFFSETFROM:-0400
TZOFFSETTO:-0500
TZNAME:EST
DTSTART:20191103T060000
END:STANDARD
BEGIN:DAYLIGHT
TZOFFSETFROM:-0500
TZOFFSETTO:-0400
TZNAME:EDT
DTSTART:20200308T070000
END:DAYLIGHT
BEGIN:STANDARD
TZOFFSETFROM:-0400
TZOFFSETTO:-0500
TZNAME:EST
DTSTART:20201101T060000
END:STANDARD
BEGIN:DAYLIGHT
TZOFFSETFROM:-0500
TZOFFSETTO:-0400
TZNAME:EDT
DTSTART:20210314T070000
END:DAYLIGHT
BEGIN:STANDARD
TZOFFSETFROM:-0400
TZOFFSETTO:-0500
TZNAME:EST
DTSTART:20211107T060000
END:STANDARD
END:VTIMEZONE
BEGIN:VEVENT
DTSTART;TZID=America/Toronto:20200703T100000
DTEND;TZID=America/Toronto:20200703T110000
DTSTAMP:20260421T134416
CREATED:20200527T150734Z
LAST-MODIFIED:20200527T150734Z
UID:10000083-1593770400-1593774000@ontariocaregiver.ca
SUMMARY:Let’s have candid mental health conversations during COVID-19
DESCRIPTION:COVID-19 is bringing unprecedented new stressors and challenges in our life and community that have an impact on our mental health. We are increasingly realizing the importance of resiliency but how can we attain it? We now collectively understand the impact of loneliness. Young adults are struggling\nwith social distancing. Our elders’ mental and cognitive health is particularly at risk. What will happen next? How will we address a crisis that will inevitably leave lasting problems? \nJoin Canadian Mental Health Association\, Ontario Living Life To The Full team and Dr. Nasreen Khatri\, principal investigator on the Living Life To The Full Caregivers 55+ study\, and clinician scientist with Baycrest’s Rotman Research Institute\, for a series of conversations that will shed light on various solutions. \nJuly 3 | 10-11 a.m.\nWhen a crisis becomes chronic: The mental health tsunami that follows pandemics \nRegister today.
URL:https://ontariocaregiver.ca/event/lets-have-candid-mental-health-conversations-during-covid-19-4/
END:VEVENT
BEGIN:VEVENT
DTSTART;TZID=America/Toronto:20200626T100000
DTEND;TZID=America/Toronto:20200626T110000
DTSTAMP:20260421T134416
CREATED:20200527T150545Z
LAST-MODIFIED:20200527T150545Z
UID:10000082-1593165600-1593169200@ontariocaregiver.ca
SUMMARY:Let’s have candid mental health conversations during COVID-19
DESCRIPTION:COVID-19 is bringing unprecedented new stressors and challenges in our life and community that have an impact on our mental health. We are increasingly realizing the importance of resiliency but how can we attain it? We now collectively understand the impact of loneliness. Young adults are struggling\nwith social distancing. Our elders’ mental and cognitive health is particularly at risk. What will happen next? How will we address a crisis that will inevitably leave lasting problems? \nJoin Canadian Mental Health Association\, Ontario Living Life To The Full team and Dr. Nasreen Khatri\, principal investigator on the Living Life To The Full Caregivers 55+ study\, and clinician scientist with Baycrest’s Rotman Research Institute\, for a series of conversations that will shed light on various solutions. \nJune 26 | 10-11 a.m.\nValuing elders: Advocating for older adults’ mental and cognitive health during a pandemic \nRegister today.
URL:https://ontariocaregiver.ca/event/lets-have-candid-mental-health-conversations-during-covid-19-3/
END:VEVENT
BEGIN:VEVENT
DTSTART;TZID=America/Toronto:20200619T100000
DTEND;TZID=America/Toronto:20200619T110000
DTSTAMP:20260421T134416
CREATED:20200527T150425Z
LAST-MODIFIED:20200527T150425Z
UID:10000081-1592560800-1592564400@ontariocaregiver.ca
SUMMARY:Let’s have candid mental health conversations during COVID-19
DESCRIPTION:COVID-19 is bringing unprecedented new stressors and challenges in our life and community that have an impact on our mental health. We are increasingly realizing the importance of resiliency but how can we attain it? We now collectively understand the impact of loneliness. Young adults are struggling\nwith social distancing. Our elders’ mental and cognitive health is particularly at risk. What will happen next? How will we address a crisis that will inevitably leave lasting problems? \nJoin Canadian Mental Health Association\, Ontario Living Life To The Full team and Dr. Nasreen Khatri\, principal investigator on the Living Life To The Full Caregivers 55+ study\, and clinician scientist with Baycrest’s Rotman Research Institute\, for a series of conversations that will shed light on various solutions. \nJune 19 | 10-11 a.m.\nLife\, Interrupted: Young adult mental health during COVID-19 \nRegister today.
URL:https://ontariocaregiver.ca/event/lets-have-candid-mental-health-conversations-during-covid-19-2/
END:VEVENT
BEGIN:VEVENT
DTSTART;TZID=America/Toronto:20200612T100000
DTEND;TZID=America/Toronto:20200612T110000
DTSTAMP:20260421T134416
CREATED:20200527T150226Z
LAST-MODIFIED:20200527T150226Z
UID:10000080-1591956000-1591959600@ontariocaregiver.ca
SUMMARY:Let’s have candid mental health conversations during COVID-19
DESCRIPTION:COVID-19 is bringing unprecedented new stressors and challenges in our life and community that have an impact on our mental health. We are increasingly realizing the importance of resiliency but how can we attain it? We now collectively understand the impact of loneliness. Young adults are struggling\nwith social distancing. Our elders’ mental and cognitive health is particularly at risk. What will happen next? How will we address a crisis that will inevitably leave lasting problems? \nJoin Canadian Mental Health Association\, Ontario Living Life To The Full team and Dr. Nasreen Khatri\, principal investigator on the Living Life To The Full Caregivers 55+ study\, and clinician scientist with Baycrest’s Rotman Research Institute\, for a series of conversations that will shed light on various solutions. \nJune 12 | 10-11 a.m.\nBeing alone together: The social pandemic of loneliness during COVID-19 \nRegister today.
URL:https://ontariocaregiver.ca/event/lets-have-candid-mental-health-conversations-during-covid-19/
END:VEVENT
END:VCALENDAR