BEGIN:VCALENDAR
VERSION:2.0
PRODID:-//Ontario Caregiver - ECPv6.15.18//NONSGML v1.0//EN
CALSCALE:GREGORIAN
METHOD:PUBLISH
X-WR-CALNAME:Ontario Caregiver
X-ORIGINAL-URL:https://ontariocaregiver.ca
X-WR-CALDESC:Events for Ontario Caregiver
REFRESH-INTERVAL;VALUE=DURATION:PT1H
X-Robots-Tag:noindex
X-PUBLISHED-TTL:PT1H
BEGIN:VTIMEZONE
TZID:America/Toronto
BEGIN:DAYLIGHT
TZOFFSETFROM:-0500
TZOFFSETTO:-0400
TZNAME:EDT
DTSTART:20200308T070000
END:DAYLIGHT
BEGIN:STANDARD
TZOFFSETFROM:-0400
TZOFFSETTO:-0500
TZNAME:EST
DTSTART:20201101T060000
END:STANDARD
BEGIN:DAYLIGHT
TZOFFSETFROM:-0500
TZOFFSETTO:-0400
TZNAME:EDT
DTSTART:20210314T070000
END:DAYLIGHT
BEGIN:STANDARD
TZOFFSETFROM:-0400
TZOFFSETTO:-0500
TZNAME:EST
DTSTART:20211107T060000
END:STANDARD
BEGIN:DAYLIGHT
TZOFFSETFROM:-0500
TZOFFSETTO:-0400
TZNAME:EDT
DTSTART:20220313T070000
END:DAYLIGHT
BEGIN:STANDARD
TZOFFSETFROM:-0400
TZOFFSETTO:-0500
TZNAME:EST
DTSTART:20221106T060000
END:STANDARD
END:VTIMEZONE
BEGIN:VEVENT
DTSTART;TZID=America/Toronto:20210506T150000
DTEND;TZID=America/Toronto:20210506T153000
DTSTAMP:20260421T083836
CREATED:20210419T231454Z
LAST-MODIFIED:20210419T231454Z
UID:10000183-1620313200-1620315000@ontariocaregiver.ca
SUMMARY:Virtual Open House by The Bitove Method
DESCRIPTION:Time & Location\n\nMay 06\, 3:00 p.m. – 3:30 p.m. EDT\nOnline Event\n\n\nAbout the Event\n\n\n\nJoin us for a 30 minute snapshot showcasing how we offer our arts-based engagement classes. As well\, see all the beautiful work our members and artists have created while we engage together online! \n  \nBy attending this event you will leave feeling empowered\, inspired\, and educated in new ways to support people that you care for. \n\nRegister:
URL:https://ontariocaregiver.ca/event/virtual-open-house-by-the-bitove-method/
LOCATION:Online
END:VEVENT
BEGIN:VEVENT
DTSTART;TZID=America/Toronto:20210429T140000
DTEND;TZID=America/Toronto:20210429T150000
DTSTAMP:20260421T083836
CREATED:20210329T233123Z
LAST-MODIFIED:20210329T233123Z
UID:10000174-1619704800-1619708400@ontariocaregiver.ca
SUMMARY:FREE CONCERT: Fellows Perform from Glenn Gould Music School by the Bitove Method
DESCRIPTION:Free Event! Hear artists on the cusp of major careers. Featuring solo and chamber works performed by Rebanks Fellows currently enrolled in the one-year Rebanks Family Fellowship and International Performance Residency Program at The Glenn Gould School. \n  \n\nThe Bitove Method\n\n\nOnline Arts-Based Classes for People Living with Memory Loss & Dementia.
URL:https://ontariocaregiver.ca/event/free-concert-fellows-perform-from-glenn-gould-music-school-by-the-bitove-method/
LOCATION:Online
END:VEVENT
END:VCALENDAR