BEGIN:VCALENDAR
VERSION:2.0
PRODID:-//Ontario Caregiver - ECPv6.15.20//NONSGML v1.0//EN
CALSCALE:GREGORIAN
METHOD:PUBLISH
X-ORIGINAL-URL:https://ontariocaregiver.ca
X-WR-CALDESC:Events for Ontario Caregiver
REFRESH-INTERVAL;VALUE=DURATION:PT1H
X-Robots-Tag:noindex
X-PUBLISHED-TTL:PT1H
BEGIN:VTIMEZONE
TZID:America/Toronto
BEGIN:DAYLIGHT
TZOFFSETFROM:-0500
TZOFFSETTO:-0400
TZNAME:EDT
DTSTART:20240310T070000
END:DAYLIGHT
BEGIN:STANDARD
TZOFFSETFROM:-0400
TZOFFSETTO:-0500
TZNAME:EST
DTSTART:20241103T060000
END:STANDARD
BEGIN:DAYLIGHT
TZOFFSETFROM:-0500
TZOFFSETTO:-0400
TZNAME:EDT
DTSTART:20250309T070000
END:DAYLIGHT
BEGIN:STANDARD
TZOFFSETFROM:-0400
TZOFFSETTO:-0500
TZNAME:EST
DTSTART:20251102T060000
END:STANDARD
BEGIN:DAYLIGHT
TZOFFSETFROM:-0500
TZOFFSETTO:-0400
TZNAME:EDT
DTSTART:20260308T070000
END:DAYLIGHT
BEGIN:STANDARD
TZOFFSETFROM:-0400
TZOFFSETTO:-0500
TZNAME:EST
DTSTART:20261101T060000
END:STANDARD
END:VTIMEZONE
BEGIN:VEVENT
DTSTART;TZID=America/Toronto:20250807T120000
DTEND;TZID=America/Toronto:20250807T130000
DTSTAMP:20260424T073715
CREATED:20250612T142513Z
LAST-MODIFIED:20250918T202931Z
UID:10055889-1754568000-1754571600@ontariocaregiver.ca
SUMMARY:Supporting Caregivers Made Simple: A Guide to Using C-CART
DESCRIPTION:OCO is excited to welcome Baycrest and Dr. Adriana Shnall\, Program Director of the Baycrest Koschitzky Centre for Innovations in Caregiving\, to introduce the Canadian Caregiver Assist and Referral Tool (C-CART). \nC-CART is a user-friendly online tool designed for family caregivers. It helps caregivers identify their needs and connects them to local resources\, support\, and services. By answering a few simple questions\, caregivers receive personalized recommendations to assist them in managing their caregiving responsibilities and taking care of themselves. \nJoin us to learn about: \n\nThe background and development of the C-CART tool\nHow to use the new tool\nHow to access resources and information\nFuture considerations\n\nOur speaker: Dr. Adriana Shnall\, PhD\, MSW\, RSW\, is the Program Director of the Baycrest Koschitzky Centre for Innovations in Family Caregiving and an Assistant Professor at the University of Toronto. A recognized leader\, educator\, and advocate\, Dr. Shnall serves on two caregiver-focused boards and frequently presents on topics related to caregiving\, aging\, and dementia. Her work integrates clinical practice\, education\, research\, and advocacy to improve the lives of older adults and their families.
URL:https://ontariocaregiver.ca/event/supporting-caregivers-made-simple-a-guide-to-using-c-cart/
LOCATION:Online
ATTACH;FMTTYPE=image/jpeg:https://ontariocaregiver.ca/wp-content/uploads/2025/06/iStock-2172479445.jpg
END:VEVENT
END:VCALENDAR