BEGIN:VCALENDAR
VERSION:2.0
PRODID:-//Ontario Caregiver - ECPv6.15.20//NONSGML v1.0//EN
CALSCALE:GREGORIAN
METHOD:PUBLISH
X-ORIGINAL-URL:https://ontariocaregiver.ca
X-WR-CALDESC:Events for Ontario Caregiver
REFRESH-INTERVAL;VALUE=DURATION:PT1H
X-Robots-Tag:noindex
X-PUBLISHED-TTL:PT1H
BEGIN:VTIMEZONE
TZID:America/Toronto
BEGIN:DAYLIGHT
TZOFFSETFROM:-0500
TZOFFSETTO:-0400
TZNAME:EDT
DTSTART:20210314T070000
END:DAYLIGHT
BEGIN:STANDARD
TZOFFSETFROM:-0400
TZOFFSETTO:-0500
TZNAME:EST
DTSTART:20211107T060000
END:STANDARD
BEGIN:DAYLIGHT
TZOFFSETFROM:-0500
TZOFFSETTO:-0400
TZNAME:EDT
DTSTART:20220313T070000
END:DAYLIGHT
BEGIN:STANDARD
TZOFFSETFROM:-0400
TZOFFSETTO:-0500
TZNAME:EST
DTSTART:20221106T060000
END:STANDARD
BEGIN:DAYLIGHT
TZOFFSETFROM:-0500
TZOFFSETTO:-0400
TZNAME:EDT
DTSTART:20230312T070000
END:DAYLIGHT
BEGIN:STANDARD
TZOFFSETFROM:-0400
TZOFFSETTO:-0500
TZNAME:EST
DTSTART:20231105T060000
END:STANDARD
BEGIN:DAYLIGHT
TZOFFSETFROM:-0500
TZOFFSETTO:-0400
TZNAME:EDT
DTSTART:20240310T070000
END:DAYLIGHT
BEGIN:STANDARD
TZOFFSETFROM:-0400
TZOFFSETTO:-0500
TZNAME:EST
DTSTART:20241103T060000
END:STANDARD
END:VTIMEZONE
BEGIN:VEVENT
DTSTART;TZID=America/Toronto:20230621T190000
DTEND;TZID=America/Toronto:20230621T200000
DTSTAMP:20260423T125552
CREATED:20230605T190933Z
LAST-MODIFIED:20230605T190933Z
UID:10000877-1687374000-1687377600@ontariocaregiver.ca
SUMMARY:Les repas : Un jeu d’enfant?
DESCRIPTION:Le temps des repas peut être un moment difficile pour l’enfant autiste et sa famille. Cette série abordera les difficultés d’alimentation ainsi que des stratégies concrètes pour soutenir l’enfant au moment des repas. \nPartie 1 : Facteurs qui influencent les difficultés d’alimentation chez l’enfant autiste – 7 juin\, 19 h 00 \n\nComment les difficultés d’alimentation se manifestent\nFacteurs comportementaux\, environnementaux\, sensoriels et oro-moteurs qui entrent en jeu au moment des repas\n\nPartie 2 : Soutenir les moments de repas – 21 juin\, 19 h 00 \n\nDiscussion sur des stratégies de soutien au niveau de l’organisation du temps et de l’espace et du développement des habiletés oro-motrices nécessaires pour manger.\nSoutenir les habiletés d’auto-alimentation (se nourrir seul)\n\nVéronique (Véro) Chiasson est une ergothérapeute bilingue qui adore travailler avec les enfants et leur famille. Véro a été la première formatrice francophone au niveau international à former et à certifier des professionnels dans le cadre du modèle d’intervention précoce Denver (Early Start Denver Model)\, une approche d’intervention précoce comportementale et développementale naturelle pour les enfants avec un diagnsotic de TSA ou porteurs de signes de TSA âgés de 12 à 48 mois. Véronique enseigne également à temps partiel au programme d’ergothérapie de l’Université d’Ottawa ainsi qu’à La Cité dans le programme d’assistant en ergothérapie et d’assistant en physiothérapie.
URL:https://ontariocaregiver.ca/event/les-repas-un-jeu-denfant-2023-06-21/2023-06-21/
LOCATION:en ligne
END:VEVENT
BEGIN:VEVENT
DTSTART;TZID=America/Toronto:20220526T120000
DTEND;TZID=America/Toronto:20220526T130000
DTSTAMP:20260423T125552
CREATED:20220510T193430Z
LAST-MODIFIED:20220510T193430Z
UID:10000411-1653566400-1653570000@ontariocaregiver.ca
SUMMARY:Moving Past the Pandemic- Considerations for Autistic Children and their Caregivers Across Canada
DESCRIPTION:The COVID-19 pandemic has been difficult for many but recent research suggests that the mental health and overall wellbeing of families of children on the autism spectrum have been disproportionally impacted by multiple waves of lockdowns across Canada. In this panel with researchers Dr. Vivian Lee (Carleton University) and Jonathan Weiss (York University)\, as well as researcher-parent Dr. Janet McLaughlin (Wilfred Laurier)\, Matthew Ley (host) will discuss the current research on how autistic children and their families have been impacted by the pandemic but also ways in which families have been able to cope and thrive. Long term implications of the pandemic will be discussed as well as ways we can continue supporting caregivers and families as we move forward past the pandemic.
URL:https://ontariocaregiver.ca/event/moving-past-the-pandemic-considerations-for-autistic-children-and-their-caregivers-across-canada/
LOCATION:Online
END:VEVENT
END:VCALENDAR