BEGIN:VCALENDAR
VERSION:2.0
PRODID:-//Ontario Caregiver - ECPv6.15.18//NONSGML v1.0//EN
CALSCALE:GREGORIAN
METHOD:PUBLISH
X-ORIGINAL-URL:https://ontariocaregiver.ca
X-WR-CALDESC:Events for Ontario Caregiver
REFRESH-INTERVAL;VALUE=DURATION:PT1H
X-Robots-Tag:noindex
X-PUBLISHED-TTL:PT1H
BEGIN:VTIMEZONE
TZID:America/Toronto
BEGIN:DAYLIGHT
TZOFFSETFROM:-0500
TZOFFSETTO:-0400
TZNAME:EDT
DTSTART:20210314T070000
END:DAYLIGHT
BEGIN:STANDARD
TZOFFSETFROM:-0400
TZOFFSETTO:-0500
TZNAME:EST
DTSTART:20211107T060000
END:STANDARD
BEGIN:DAYLIGHT
TZOFFSETFROM:-0500
TZOFFSETTO:-0400
TZNAME:EDT
DTSTART:20220313T070000
END:DAYLIGHT
BEGIN:STANDARD
TZOFFSETFROM:-0400
TZOFFSETTO:-0500
TZNAME:EST
DTSTART:20221106T060000
END:STANDARD
BEGIN:DAYLIGHT
TZOFFSETFROM:-0500
TZOFFSETTO:-0400
TZNAME:EDT
DTSTART:20230312T070000
END:DAYLIGHT
BEGIN:STANDARD
TZOFFSETFROM:-0400
TZOFFSETTO:-0500
TZNAME:EST
DTSTART:20231105T060000
END:STANDARD
END:VTIMEZONE
BEGIN:VEVENT
DTSTART;TZID=America/Toronto:20221124T120000
DTEND;TZID=America/Toronto:20221124T130000
DTSTAMP:20260421T183718
CREATED:20221116T194142Z
LAST-MODIFIED:20221116T194142Z
UID:10000594-1669291200-1669294800@ontariocaregiver.ca
SUMMARY:When It's Time to Stop Driving: How the Driving & Dementia Roadmap Can Help
DESCRIPTION:In this webinar\, Dr. Gary Naglie and Dr. Mark Rapoport\, who lead a team of researchers focused on dementia and driving\, will showcase the Driving and Dementia Roadmap (DDR)\, a recently launched online educational resource. Whether you are a person living with dementia\, a care partner/friend or a healthcare/service provider supporting others through this process\, the DDR offers support for the driving with dementia journey. Rhonda Crouse\, a social worker and Nanette Bowen-Smith\, an occupational therapist\, will provide additional insights from their respective roles.
URL:https://ontariocaregiver.ca/event/when-its-time-to-stop-driving-how-the-driving-dementia-roadmap-can-help/
LOCATION:Online
END:VEVENT
BEGIN:VEVENT
DTSTART;TZID=America/Toronto:20220921T110000
DTEND;TZID=America/Toronto:20220921T120000
DTSTAMP:20260421T183718
CREATED:20220909T215443Z
LAST-MODIFIED:20220909T215443Z
UID:10000539-1663758000-1663761600@ontariocaregiver.ca
SUMMARY:Brain Matters Webinar - Living Safely with Dementia at Home
DESCRIPTION:Join us as we launch our new video\, “Making Your Home… Dementia Friendly” to mark World Alzheimer’s Day 2022. \nThen\, hear from Sue and Chris\, “experts by experience”\, who have been adapting their home and daily activities from a safety lens since Sue’s diagnosis of young onset dementia. Tammy Bentley\, an occupational therapist (OT)\, will speak to the role of the OT and offer guidance when considering home modifications – with the goal of improving quality of life and supporting independence for the person living with dementia. \nThe webinar will conclude with a moderated Q&A with the panelists. \nRegister at:
URL:https://ontariocaregiver.ca/event/brain-matters-webinar-living-safely-with-dementia-at-home/
END:VEVENT
END:VCALENDAR