BEGIN:VCALENDAR
VERSION:2.0
PRODID:-//Ontario Caregiver - ECPv6.15.18//NONSGML v1.0//EN
CALSCALE:GREGORIAN
METHOD:PUBLISH
X-WR-CALNAME:Ontario Caregiver
X-ORIGINAL-URL:https://ontariocaregiver.ca
X-WR-CALDESC:Events for Ontario Caregiver
REFRESH-INTERVAL;VALUE=DURATION:PT1H
X-Robots-Tag:noindex
X-PUBLISHED-TTL:PT1H
BEGIN:VTIMEZONE
TZID:America/Toronto
BEGIN:DAYLIGHT
TZOFFSETFROM:-0500
TZOFFSETTO:-0400
TZNAME:EDT
DTSTART:20200308T070000
END:DAYLIGHT
BEGIN:STANDARD
TZOFFSETFROM:-0400
TZOFFSETTO:-0500
TZNAME:EST
DTSTART:20201101T060000
END:STANDARD
BEGIN:DAYLIGHT
TZOFFSETFROM:-0500
TZOFFSETTO:-0400
TZNAME:EDT
DTSTART:20210314T070000
END:DAYLIGHT
BEGIN:STANDARD
TZOFFSETFROM:-0400
TZOFFSETTO:-0500
TZNAME:EST
DTSTART:20211107T060000
END:STANDARD
BEGIN:DAYLIGHT
TZOFFSETFROM:-0500
TZOFFSETTO:-0400
TZNAME:EDT
DTSTART:20220313T070000
END:DAYLIGHT
BEGIN:STANDARD
TZOFFSETFROM:-0400
TZOFFSETTO:-0500
TZNAME:EST
DTSTART:20221106T060000
END:STANDARD
END:VTIMEZONE
BEGIN:VEVENT
DTSTART;TZID=America/Toronto:20211006T120000
DTEND;TZID=America/Toronto:20211006T153000
DTSTAMP:20260422T035125
CREATED:20210821T005323Z
LAST-MODIFIED:20210821T005323Z
UID:10000255-1633521600-1633534200@ontariocaregiver.ca
SUMMARY:U-First! for Care Partners by Alzheimer Society of Kingston\, Frontenac\, Lennox & Addington
DESCRIPTION:October 6 & 13 12:00 – 3:30 pm \nIN PERSON \nLocation: Kingston Public Library Isabel Turner Branch \nWhat is U-First!® for Care Partners? U-First!® for Care Partners is a new education program for family and friends who are providing direct support to someone experiencing behaviour changes as a result of dementia or other cognitive impairment. \nThis 6 hour education program will help you to: \n– Enhance well-being of care partners and of the person they are supporting who is experiencing behaviour changes \n– Reduce responsive behaviours by using the U-First!® framework \n– Improve collaboration among all team members through a common knowledge\, language and approach to care. \nRegister:
URL:https://ontariocaregiver.ca/event/u-first-for-care-partners-by-alzheimer-society-of-kingston-frontenac-lennox-addington/2021-10-06/
LOCATION:Kingston Public Library Isabel Turner Branch\, Kingston\, Canada
END:VEVENT
BEGIN:VEVENT
DTSTART;TZID=America/Toronto:20210914T100000
DTEND;TZID=America/Toronto:20210914T120000
DTSTAMP:20260422T035125
CREATED:20210821T005007Z
LAST-MODIFIED:20210821T005007Z
UID:10000254-1631613600-1631620800@ontariocaregiver.ca
SUMMARY:Options for Care by Alzheimer Society of Kingston\, Frontenac\, Lennox & Addington
DESCRIPTION:A three part series for Care partners of people living with dementia\, who are at or approaching a stage when more supports are needed at home or long-term care is being considered. The series is designed to be delivered over three weeks. \nPLEASE PLAN ON ATTENDING ALL THREE SESSIONS: \nWEEKLY: 10:00AM-12:00PM \nSEPTEMBER 14\nWhen care needs are increasing: Take some time to think about the changes that are happening and what that means for the person living with dementia and for you as their care giver. We will look at what supports might help you in your home. \nSEPTEMBER 21 Long-Term Care Decisions: We’ll discuss what you should consider when looking at long-term care homes. \nSEPTEMBER 28 Transitioning Care Roles: Learn about transitioning to long-term care and how you can make it more successful for you and the person living with dementia. \nRegister:
URL:https://ontariocaregiver.ca/event/options-for-care-by-alzheimer-society-of-kingston-frontenac-lennox-addington/2021-09-14/
LOCATION:Online
END:VEVENT
BEGIN:VEVENT
DTSTART;TZID=America/Toronto:20210902T100000
DTEND;TZID=America/Toronto:20210902T120000
DTSTAMP:20260422T035125
CREATED:20210821T004652Z
LAST-MODIFIED:20210821T004652Z
UID:10000253-1630576800-1630584000@ontariocaregiver.ca
SUMMARY:Care Essentials by Alzheimer Society of Kingston Frontenac Lennox & Addington
DESCRIPTION:Care Essentials is the second of the learning series. It is designed for care partners of people living with dementia: \n• Who are at or approaching the middle stages of their dementia \n• Where activities of daily living and behaviours are becoming more challenging to manage. \n• Who are willing to attend\, with awareness that participants will discuss their experience \nSessions are designed as a series\, so plan to attend all modules virtually from the comfort of your home: \n What to Expect \n Communicating Effectively \n Responding to Behaviour Changes \n Supporting Daily Activities \nFor questions\, contact: education@alzking.com 1-800-266-7516 ext. 203 \nRegister:
URL:https://ontariocaregiver.ca/event/care-essentials-by-alzheimer-society-of-kingston-frontenac-lennox-addington/2021-09-02/
LOCATION:Online
END:VEVENT
BEGIN:VEVENT
DTSTART;TZID=America/Toronto:20210805T100000
DTEND;TZID=America/Toronto:20210805T120000
DTSTAMP:20260422T035125
CREATED:20210716T231010Z
LAST-MODIFIED:20210716T231010Z
UID:10000235-1628157600-1628164800@ontariocaregiver.ca
SUMMARY:Care Essentials by Alzheimer Society of Kingston\, Frontenac\, Lennox & Addington Counties
DESCRIPTION:Care Essentials is the second of the learning series. \nIt is designed for care partners of people living with dementia: \n• Who are at or approaching the middle stages of their dementia \n• Where activities of daily living and behaviours are becoming more challenging to manage. \n• Who are willing to attend\, with awareness that participants will discuss their experience \nSessions are designed as a series\, so plan to attend all modules virtually from the comfort of your home: \n1. August 5th: What to Expect \n2. August 12th: Communicating Effectively \n3. August 19th: Responding to Behaviour Changes \n4. August 26th: Supporting Daily Activities \nRegister at:
URL:https://ontariocaregiver.ca/event/care-essentials-by-alzheimer-society-of-kingston-frontenac-lennox-addington-counties/2021-08-05/
LOCATION:Online
END:VEVENT
END:VCALENDAR